Workbook
Name _pr10: '12. melléklet'!#REF!
Name _pr12: '12. melléklet'!#REF!
Name _pr21: '11. melléklet'!$A$57
Name _pr232: '14. melléklet'!$A$13
Name _pr233: '14. melléklet'!$A$18
Name _pr234: '14. melléklet'!$A$26
Name _pr235: '14. melléklet'!$A$31
Name _pr236: '14. melléklet'!$A$36
Name _pr24: '11. melléklet'!$A$59
Name _pr25: '11. melléklet'!$A$60
Name _pr26: '11. melléklet'!$A$61
Name _pr27: '11. melléklet'!$A$62
Name _pr28: '11. melléklet'!$A$63
Name _pr312: '14. melléklet'!#REF!
Name _pr313: '14. melléklet'!#REF!
Name _pr314: '14. melléklet'!$A$5
Name _pr315: '14. melléklet'!#REF!
Name _pr7: '12. melléklet'!#REF!
Name _pr8: '12. melléklet'!#REF!
Name _pr9: '12. melléklet'!#REF!
Name foot_4_place: '12. melléklet'!$A$20
Name foot_5_place: '12. melléklet'!#REF!
Name foot_53_place: '12. melléklet'!#REF!
Name léé: '12. melléklet'!#REF!
Name mmm: '11. melléklet'!#REF!

Sheet 1. melléklet
A1: 1. melléklet 1/2017. (I.31) önkormányzati rendelethez
A3: SOROKPOLÁNY Önkormányzat 2017. évi költségvetése
A4: Az egységes rovatrend szerint a kiemelt kiadási és bevételi jogcímek
A7: K1. Személyi juttatások
A8: K2. Munkaadókat terhelő járulékok és szociális hozzájárulási adó
A9: K3. Dologi kiadások
A10: K4. Ellátottak pénzbeli juttatásai
A11: K5. Egyéb működési célú kiadások
A12: K6. Beruházási kiadások
A13: K7. Felújítások
A14: K8. Egyéb felhalmozási célú kiadások
A15: K1-8. Költségvetési kiadások
... A27: BEVÉTELEK ÖSSZESEN (B1-8)

Sheet 2. melléklet
C1: 2. melléklet 1/2017. (I.31) önkormányzati rendelethez
A3: SOROKPOLÁNY Önkormányzat 2017. évi költségvetése
A4: Kiadások (E Ft)
A6: SOROKPOLÁNY ÖNKORMÁNYZATI ELŐIRÁNYZATOK | C6: EREDETI ELŐIRÁNYZAT
A7: Rovat megnevezése | B7: Rovat-szám | C7: kötelező feladatok | D7: önként vállalt feladatok | E7: államigazgatási feladatok | F7: ÖSSZESEN
A8: Törvény szerinti illetmények, munkabérek | B8: K1101 | C8: =3784-322 -> 3462 | D8: 0 | E8: 0 | F8: =SUM(C8:E8) -> 3462
A9: Normatív jutalmak | B9: K1102 | C9: 0 | D9: 0 | E9: 0 | F9: =SUM(C9:E9) -> 0
A10: Céljuttatás, projektprémium | B10: K1103 | C10: 0 | D10: 0 | E10: 0 | F10: =SUM(C10:E10) -> 0
A11: Készenléti, ügyeleti, helyettesítési díj, túlóra, túlszolgálat | B11: K1104 | C11: 0 | D11: 0 | E11: 0 | F11: =SUM(C11:E11) -> 0
A12: Végkielégítés | B12: K1105 | C12: 0 | D12: 0 | E12: 0 | F12: =SUM(C12:E12) -> 0
A13: Jubileumi jutalom | B13: K1106 | C13: 322 | D13: 0 | E13: 0 | F13: =SUM(C13:E13) -> 322
A14: Béren kívüli juttatások | B14: K1107 | C14: 172 | D14: 0 | E14: 0 | F14: =SUM(C14:E14) -> 172
A15: Ruházati költségtérítés | B15: K1108 | C15: 0 | D15: 0 | E15: 0 | F15: =SUM(C15:E15) -> 0
A16: Közlekedési költségtérítés | B16: K1109 | C16: 0 | D16: 0 | E16: 0 | F16: =SUM(C16:E16) -> 0
A17: Egyéb költségtérítések | B17: K1110 | C17: 0 | D17: 0 | E17: 0 | F17: =SUM(C17:E17) -> 0
A18: Lakhatási támogatások | B18: K1111 | C18: 0 | D18: 0 | E18: 0 | F18: =SUM(C18:E18) -> 0
A19: Szociális támogatások | B19: K1112 | C19: 0 | D19: 0 | E19: 0 | F19: =SUM(C19:E19) -> 0
A20: Foglalkoztatottak egyéb személyi juttatásai | B20: K1113 | C20: 0 | D20: 0 | E20: 0 | F20: =SUM(C20:E20) -> 0
A21: Foglalkoztatottak személyi juttatásai | B21: K11 | C21: =SUM(C8:C20) -> 3956 | D21: =SUM(D8:D20) -> 0 | E21: =SUM(E8:E20) -> 0 | F21: =SUM(C21:E21) -> 3956
A22: Választott tisztségviselők juttatásai | B22: K121 | C22: 4333 | D22: 0 | E22: 0 | F22: =SUM(C22:E22) -> 4333
A23: Munkavégzésre irányuló egyéb jogviszonyban nem saját foglalkoztatottnak fizetett juttatások | B23: K122 | C23: 0 | D23: 0 | E23: 0 | F23: =SUM(C23:E23) -> 0
A24: Egyéb külső személyi juttatások | B24: K123 | C24: 305 | D24: 0 | E24: 0 | F24: =SUM(C24:E24) -> 305
A25: Külső személyi juttatások | B25: K12 | C25: =SUM(C22:C24) -> 4638 | D25: =SUM(D22:D24) -> 0 | E25: =SUM(E22:E24) -> 0 | F25: =SUM(C25:E25) -> 4638
A26: Személyi juttatások | B26: K1 | C26: =C21+C25 -> 8594 | D26: =D21+D25 -> 0 | E26: =E21+E25 -> 0 | F26: =SUM(C26:E26) -> 8594
A27: Munkaadókat terhelő járulékok és szociális hozzájárulási adó | B27: K2 | C27: 1904 | D27: 0 | E27: 0 | F27: =SUM(C27:E27) -> 1904
A28: Szakmai anyagok beszerzése | B28: K311 | C28: 0 | D28: 0 | E28: 0 | F28: =SUM(C28:E28) -> 0
A29: Üzemeltetési anyagok beszerzése | B29: K312 | C29: 1484 | D29: 0 | E29: 0 | F29: =SUM(C29:E29) -> 1484
A30: Árubeszerzés | B30: K313 | C30: 0 | D30: 0 | E30: 0 | F30: =SUM(C30:E30) -> 0
A31: Készletbeszerzés | B31: K31 | C31: =SUM(C28:C30) -> 1484 | D31: =SUM(D28:D30) -> 0 | E31: =SUM(E28:E30) -> 0 | F31: =SUM(C31:E31) -> 1484
A32: Informatikai szolgáltatások igénybevétele | B32: K321 | C32: 106 | D32: 0 | E32: 0 | F32: =SUM(C32:E32) -> 106
A33: Egyéb kommunikációs szolgáltatások | B33: K322 | C33: 225 | D33: 0 | E33: 0 | F33: =SUM(C33:E33) -> 225
A34: Kommunikációs szolgáltatások | B34: K32 | C34: =SUM(C32:C33) -> 331 | D34: =SUM(D32:D33) -> 0 | E34: =SUM(E32:E33) -> 0 | F34: =SUM(C34:E34) -> 331
A35: Közüzemi díjak | B35: K331 | C35: 3342 | D35: 0 | E35: 0 | F35: =SUM(C35:E35) -> 3342
A36: Vásárolt élelmezés | B36: K332 | C36: 3936 | D36: 0 | E36: 0 | F36: =SUM(C36:E36) -> 3936
A37: Bérleti és lízing díjak | B37: K333 | C37: 0 | D37: 0 | E37: 0 | F37: =SUM(C37:E37) -> 0
A38: Karbantartási, kisjavítási szolgáltatások | B38: K334 | C38: 83 | D38: 0 | E38: 0 | F38: =SUM(C38:E38) -> 83
A39: Közvetített szolgáltatások | B39: K335 | C39: 603 | D39: 0 | E39: 0 | F39: =SUM(C39:E39) -> 603
A40: Szakmai tevékenységet segítő szolgáltatások | B40: K336 | C40: 500 | D40: 0 | E40: 0 | F40: =SUM(C40:E40) -> 500
A41: Egyéb szolgáltatások | B41: K337 | C41: 3490 | D41: 0 | E41: 0 | F41: =SUM(C41:E41) -> 3490
A42: Szolgáltatási kiadások | B42: K33 | C42: =SUM(C35:C41) -> 11954 | D42: =SUM(D35:D41) -> 0 | E42: =SUM(E35:E41) -> 0 | F42: =SUM(C42:E42) -> 11954
A43: Kiküldetések kiadásai | B43: K341 | C43: 0 | D43: 0 | E43: 0 | F43: =SUM(C43:E43) -> 0
A44: Reklám- és propagandakiadások | B44: K342 | C44: 268 | D44: 0 | E44: 0 | F44: =SUM(C44:E44) -> 268
A45: Kiküldetések, reklám- és propagandakiadások | B45: K34 | C45: =SUM(C43:C44) -> 268 | D45: =SUM(D43:D44) -> 0 | E45: =SUM(E43:E44) -> 0 | F45: =SUM(C45:E45) -> 268
A46: Működési célú előzetesen felszámított általános forgalmi adó | B46: K351 | C46: 2859 | D46: 0 | E46: 3 | F46: =SUM(C46:E46) -> 2862
A47: Fizetendő általános forgalmi adó | B47: K352 | C47: 0 | D47: 0 | E47: 0 | F47: =SUM(C47:E47) -> 0
A48: Kamatkiadások | B48: K353 | C48: 0 | D48: 0 | E48: 0 | F48: =SUM(C48:E48) -> 0
A49: Egyéb pénzügyi műveletek kiadásai | B49: K354 | C49: 0 | D49: 0 | E49: 0 | F49: =SUM(C49:E49) -> 0
A50: Egyéb dologi kiadások | B50: K355 | C50: 0 | D50: 0 | E50: 10 | F50: =SUM(C50:E50) -> 10
A51: Különféle befizetések és egyéb dologi kiadások | B51: K35 | C51: =SUM(C46:C50) -> 2859 | D51: =SUM(D46:D50) -> 0 | E51: =SUM(E46:E50) -> 13 | F51: =SUM(C51:E51) -> 2872
A52: Dologi kiadások | B52: K3 | C52: =C31+C34+C42+C45+C51 -> 16896 | D52: =D31+D34+D42+D45+D51 -> 0 | E52: =E31+E34+E42+E45+E51 -> 13 | F52: =SUM(C52:E52) -> 16909
A53: Társadalombiztosítási ellátások | B53: K41 | C53: 0 | D53: 0 | E53: 0 | F53: =SUM(C53:E53) -> 0
A54: Családi támogatások | B54: K42 | C54: 168 | D54: 0 | E54: 0 | F54: =SUM(C54:E54) -> 168
A55: Pénzbeli kárpótlások, kártérítések | B55: K43 | C55: 0 | D55: 0 | E55: 0 | F55: =SUM(C55:E55) -> 0
A56: Betegséggel kapcsolatos (nem társadalombiztosítási) ellátások | B56: K44 | C56: 0 | D56: 0 | E56: 0 | F56: =SUM(C56:E56) -> 0
A57: Foglalkoztatással, munkanélküliséggel kapcsolatos ellátások | B57: K45 | C57: 0 | D57: 0 | E57: 0 | F57: =SUM(C57:E57) -> 0
A58: Lakhatással kapcsolatos ellátások | B58: K46 | C58: 0 | D58: 0 | E58: 0 | F58: =SUM(C58:E58) -> 0
A59: Intézményi ellátottak pénzbeli juttatásai | B59: K47 | C59: 380 | D59: 0 | E59: 0 | F59: =SUM(C59:E59) -> 380
A60: Egyéb nem intézményi ellátások | B60: K48 | C60: 4933 | D60: 0 | E60: 0 | F60: =SUM(C60:E60) -> 4933
A61: Ellátottak pénzbeli juttatásai | B61: K4 | C61: =SUM(C53:C60) -> 5481 | D61: =SUM(D53:D60) -> 0 | E61: =SUM(E53:E60) -> 0 | F61: =SUM(C61:E61) -> 5481
A62: Nemzetközi kötelezettségek | B62: K501 | C62: 0 | D62: 0 | E62: 0 | F62: =SUM(C62:E62) -> 0
A63: Elvonások és befizetések | B63: K502 | C63: 0 | D63: 0 | E63: 0 | F63: =SUM(C63:E63) -> 0
A64: Működési célú garancia- és kezességvállalásból származó kifizetés államháztartáson belülre | B64: K503 | C64: 0 | D64: 0 | E64: 0 | F64: =SUM(C64:E64) -> 0
A65: Működési célú visszatérítendő támogatások, kölcsönök nyújtása államháztartáson belülre | B65: K504 | C65: 0 | D65: 0 | E65: 0 | F65: =SUM(C65:E65) -> 0
A66: Működési célú visszatérítendő támogatások, kölcsönök törlesztése államháztartáson belülre | B66: K505 | C66: 0 | D66: 0 | E66: 0 | F66: =SUM(C66:E66) -> 0
A67: Egyéb működési célú támogatások államháztartáson belülre | B67: K506 | C67: 721 | D67: 0 | E67: 0 | F67: =SUM(C67:E67) -> 721
A68: Működési célú garancia- és kezességvállalásból származó kifizetés államháztartáson kívülre | B68: K507 | C68: 0 | D68: 0 | E68: 0 | F68: =SUM(C68:E68) -> 0
A69: Működési célú visszatérítendő támogatások, kölcsönök nyújtása államháztartáson kívülre | B69: K508 | C69: 0 | D69: 0 | E69: 0 | F69: =SUM(C69:E69) -> 0
A70: Árkiegészítések, ártámogatások | B70: K509 | C70: 0 | D70: 0 | E70: 0 | F70: =SUM(C70:E70) -> 0
A71: Kamattámogatások | B71: K510 | C71: 0 | D71: 0 | E71: 0 | F71: =SUM(C71:E71) -> 0
A72: Működési célú támogatások az Európai Uniónak | B72: K511 | C72: 0 | D72: 0 | E72: 0 | F72: =SUM(C72:E72) -> 0
A73: Egyéb működési célú támogatások államháztartáson kívülre | B73: K512 | C73: 5 | D73: 100 | E73: 0 | F73: =SUM(C73:E73) -> 105
A74: Tartalékok | B74: K513 | C74: 13133 | D74: 0 | E74: 0 | F74: =SUM(C74:E74) -> 13133
A75: Egyéb működési célú kiadások | B75: K5 | C75: =SUM(C62:C74) -> 13859 | D75: =SUM(D62:D74) -> 100 | E75: =SUM(E62:E74) -> 0 | F75: =SUM(C75:E75) -> 13959
A76: Működési kiadások összesen | F76: =SUM(C76:E76) -> 0
A77: Immateriális javak beszerzése, létesítése | B77: K61 | C77: 0 | D77: 0 | E77: 0 | F77: =SUM(C77:E77) -> 0
A78: Ingatlanok beszerzése, létesítése | B78: K62 | C78: 0 | D78: 0 | E78: 0 | F78: =SUM(C78:E78) -> 0
A79: Informatikai eszközök beszerzése, létesítése | B79: K63 | C79: 0 | D79: 0 | E79: 0 | F79: =SUM(C79:E79) -> 0
A80: Egyéb tárgyi eszközök beszerzése, létesítése | B80: K64 | C80: 579 | D80: 0 | E80: 0 | F80: =SUM(C80:E80) -> 579
A81: Részesedések beszerzése | B81: K65 | C81: 0 | D81: 0 | E81: 0 | F81: =SUM(C81:E81) -> 0
A82: Meglévő részesedések növeléséhez kapcsolódó kiadások | B82: K66 | C82: 0 | D82: 0 | E82: 0 | F82: =SUM(C82:E82) -> 0
A83: Beruházási célú előzetesen felszámított általános forgalmi adó | B83: K67 | C83: 266 | D83: 0 | E83: 0 | F83: =SUM(C83:E83) -> 266
A84: Beruházások | B84: K6 | C84: =SUM(C77:C83) -> 845 | D84: =SUM(D77:D83) -> 0 | E84: =SUM(E77:E83) -> 0 | F84: =SUM(C84:E84) -> 845
A85: Ingatlanok felújítása | B85: K71 | C85: 0 | D85: 0 | E85: 0 | F85: =SUM(C85:E85) -> 0
A86: Informatikai eszközök felújítása | B86: K72 | C86: 0 | D86: 0 | E86: 0 | F86: =SUM(C86:E86) -> 0
A87: Egyéb tárgyi eszközök felújítása | B87: K73 | C87: 0 | D87: 0 | E87: 0 | F87: =SUM(C87:E87) -> 0
A88: Felújítási célú előzetesen felszámított általános forgalmi adó | B88: K74 | C88: 0 | D88: 0 | E88: 0 | F88: =SUM(C88:E88) -> 0
A89: Felújítások | B89: K7 | C89: =SUM(C85:C88) -> 0 | D89: =SUM(D85:D88) -> 0 | E89: =SUM(E85:E88) -> 0 | F89: =SUM(C89:E89) -> 0
A90: Felhalmozási célú garancia- és kezességvállalásból származó kifizetés államháztartáson belülre | B90: K81 | C90: 0 | D90: 0 | E90: 0 | F90: =SUM(C90:E90) -> 0
A91: Felhalmozási célú visszatérítendő támogatások, kölcsönök nyújtása államháztartáson belülre | B91: K82 | C91: 0 | D91: 0 | E91: 0 | F91: =SUM(C91:E91) -> 0
A92: Felhalmozási célú visszatérítendő támogatások, kölcsönök törlesztése államháztartáson belülre | B92: K83 | C92: 0 | D92: 0 | E92: 0 | F92: =SUM(C92:E92) -> 0
A93: Egyéb felhalmozási célú támogatások államháztartáson belülre | B93: K84 | C93: 0 | D93: 0 | E93: 0 | F93: =SUM(C93:E93) -> 0
A94: Felhalmozási célú garancia- és kezességvállalásból származó kifizetés államháztartáson kívülre | B94: K85 | C94: 0 | D94: 0 | E94: 0 | F94: =SUM(C94:E94) -> 0
A95: Felhalmozási célú visszatérítendő támogatások, kölcsönök nyújtása államháztartáson kívülre | B95: K86 | C95: 0 | D95: 0 | E95: 0 | F95: =SUM(C95:E95) -> 0
A96: Lakástámogatás | B96: K87 | C96: 0 | D96: 0 | E96: 0 | F96: =SUM(C96:E96) -> 0
A97: Felhalmozási célú támogatások az Európai Uniónak | B97: K88 | C97: 0 | D97: 0 | E97: 0 | F97: =SUM(C97:E97) -> 0
A98: Egyéb felhalmozási célú támogatások államháztartáson kívülre | B98: K89 | C98: 0 | D98: 0 | E98: 0 | F98: =SUM(C98:E98) -> 0
A99: Egyéb felhalmozási célú kiadások | B99: K8 | C99: =SUM(C90:C98) -> 0 | D99: =SUM(D90:D98) -> 0 | E99: =SUM(E90:E98) -> 0 | F99: =SUM(C99:E99) -> 0
A100: Felhalmozási kiadások összesen | C100: =C99+C89+C84 -> 845 | F100: =SUM(C100:E100) -> 845
A101: Költségvetési kiadások | B101: K1-K8 | C101: =C26+C27+C52+C61+C75+C84+C89+C99 -> 47579 | D101: =D26+D27+D52+D61+D75+D84+D89+D99 -> 100 | E101: =E26+E27+E52+E61+E75+E84+E89+E99 -> 13 | F101: =SUM(C101:E101) -> 47692
A102: Hosszú lejáratú hitelek, kölcsönök törlesztése pénzügyi vállalkozásnak | B102: K9111 | C102: 0 | D102: 0 | E102: 0 | F102: =SUM(C102:E102) -> 0
...

Sheet 3. melléklet
C1: 3. melléklet 1/2017. (I.31) önkormányzati rendelethez
A3: SOROKPOLÁNY Önkormányzat 2017. évi költségvetése
A4: Kiadások (E Ft)
A6: BÓBITA ÓVODA ELŐIRÁNYZATOK | C6: EREDETI ELŐIRÁNYZAT
A7: Rovat megnevezése | B7: Rovat-szám | C7: kötelező feladatok | D7: önként vállalt feladatok | E7: államigazgatási feladatok | F7: ÖSSZESEN
A8: Törvény szerinti illetmények, munkabérek | B8: K1101 | C8: =14459+1831-322-1638 -> 14330 | D8: 0 | E8: 0 | F8: =SUM(C8:E8) -> 14330
A9: Normatív jutalmak | B9: K1102 | C9: 0 | D9: 0 | E9: 0 | F9: =SUM(C9:E9) -> 0
A10: Céljuttatás, projektprémium | B10: K1103 | C10: 0 | D10: 0 | E10: 0 | F10: =SUM(C10:E10) -> 0
A11: Készenléti, ügyeleti, helyettesítési díj, túlóra, túlszolgálat | B11: K1104 | C11: 0 | D11: 0 | E11: 0 | F11: =SUM(C11:E11) -> 0
A12: Végkielégítés | B12: K1105 | C12: 0 | D12: 0 | E12: 0 | F12: =SUM(C12:E12) -> 0
A13: Jubileumi jutalom | B13: K1106 | C13: =322+1638 -> 1960 | D13: 0 | E13: 0 | F13: =SUM(C13:E13) -> 1960
A14: Béren kívüli juttatások | B14: K1107 | C14: 410 | D14: 0 | E14: 0 | F14: =SUM(C14:E14) -> 410
A15: Ruházati költségtérítés | B15: K1108 | C15: 0 | D15: 0 | E15: 0 | F15: =SUM(C15:E15) -> 0
A16: Közlekedési költségtérítés | B16: K1109 | C16: 155 | D16: 0 | E16: 0 | F16: =SUM(C16:E16) -> 155
A17: Egyéb költségtérítések | B17: K1110 | C17: 0 | D17: 0 | E17: 0 | F17: =SUM(C17:E17) -> 0
A18: Lakhatási támogatások | B18: K1111 | C18: 0 | D18: 0 | E18: 0 | F18: =SUM(C18:E18) -> 0
A19: Szociális támogatások | B19: K1112 | C19: 0 | D19: 0 | E19: 0 | F19: =SUM(C19:E19) -> 0
A20: Foglalkoztatottak egyéb személyi juttatásai | B20: K1113 | C20: 0 | D20: 0 | E20: 0 | F20: =SUM(C20:E20) -> 0
A21: Foglalkoztatottak személyi juttatásai | B21: K11 | C21: =SUM(C8:C20) -> 16855 | D21: =SUM(D8:D20) -> 0 | E21: =SUM(E8:E20) -> 0 | F21: =SUM(C21:E21) -> 16855
A22: Választott tisztségviselők juttatásai | B22: K121 | C22: 0 | D22: 0 | E22: 0 | F22: =SUM(C22:E22) -> 0
A23: Munkavégzésre irányuló egyéb jogviszonyban nem saját foglalkoztatottnak fizetett juttatások | B23: K122 | C23: 0 | D23: 0 | E23: 0 | F23: =SUM(C23:E23) -> 0
A24: Egyéb külső személyi juttatások | B24: K123 | C24: 0 | D24: 0 | E24: 0 | F24: =SUM(C24:E24) -> 0
A25: Külső személyi juttatások | B25: K12 | C25: =SUM(C22:C24) -> 0 | D25: =SUM(D22:D24) -> 0 | E25: =SUM(E22:E24) -> 0 | F25: =SUM(C25:E25) -> 0
A26: Személyi juttatások | B26: K1 | C26: =C21+C25 -> 16855 | D26: =D21+D25 -> 0 | E26: =E21+E25 -> 0 | F26: =SUM(C26:E26) -> 16855
A27: Munkaadókat terhelő járulékok és szociális hozzájárulási adó | B27: K2 | C27: 3721 | D27: 0 | E27: 0 | F27: =SUM(C27:E27) -> 3721
A28: Szakmai anyagok beszerzése | B28: K311 | C28: 10 | D28: 0 | E28: 0 | F28: =SUM(C28:E28) -> 10
A29: Üzemeltetési anyagok beszerzése | B29: K312 | C29: 290 | D29: 0 | E29: 0 | F29: =SUM(C29:E29) -> 290
A30: Árubeszerzés | B30: K313 | C30: 0 | D30: 0 | E30: 0 | F30: =SUM(C30:E30) -> 0
A31: Készletbeszerzés | B31: K31 | C31: =SUM(C28:C30) -> 300 | D31: =SUM(D28:D30) -> 0 | E31: =SUM(E28:E30) -> 0 | F31: =SUM(C31:E31) -> 300
A32: Informatikai szolgáltatások igénybevétele | B32: K321 | C32: 0 | D32: 0 | E32: 0 | F32: =SUM(C32:E32) -> 0
A33: Egyéb kommunikációs szolgáltatások | B33: K322 | C33: 80 | D33: 0 | E33: 0 | F33: =SUM(C33:E33) -> 80
A34: Kommunikációs szolgáltatások | B34: K32 | C34: =SUM(C32:C33) -> 80 | D34: =SUM(D32:D33) -> 0 | E34: =SUM(E32:E33) -> 0 | F34: =SUM(C34:E34) -> 80
A35: Közüzemi díjak | B35: K331 | C35: 1200 | D35: 0 | E35: 0 | F35: =SUM(C35:E35) -> 1200
A36: Vásárolt élelmezés | B36: K332 | C36: 0 | D36: 0 | E36: 0 | F36: =SUM(C36:E36) -> 0
A37: Bérleti és lízing díjak | B37: K333 | C37: 0 | D37: 0 | E37: 0 | F37: =SUM(C37:E37) -> 0
A38: Karbantartási, kisjavítási szolgáltatások | B38: K334 | C38: 250 | D38: 0 | E38: 0 | F38: =SUM(C38:E38) -> 250
A39: Közvetített szolgáltatások | B39: K335 | C39: 0 | D39: 0 | E39: 0 | F39: =SUM(C39:E39) -> 0
A40: Szakmai tevékenységet segítő szolgáltatások | B40: K336 | C40: 0 | D40: 0 | E40: 0 | F40: =SUM(C40:E40) -> 0
A41: Egyéb szolgáltatások | B41: K337 | C41: 315 | D41: 0 | E41: 0 | F41: =SUM(C41:E41) -> 315
A42: Szolgáltatási kiadások | B42: K33 | C42: =SUM(C35:C41) -> 1765 | D42: =SUM(D35:D41) -> 0 | E42: =SUM(E35:E41) -> 0 | F42: =SUM(C42:E42) -> 1765
A43: Kiküldetések kiadásai | B43: K341 | C43: 573 | D43: 0 | E43: 0 | F43: =SUM(C43:E43) -> 573
A44: Reklám- és propagandakiadások | B44: K342 | C44: 0 | D44: 0 | E44: 0 | F44: =SUM(C44:E44) -> 0
A45: Kiküldetések, reklám- és propagandakiadások | B45: K34 | C45: =SUM(C43:C44) -> 573 | D45: =SUM(D43:D44) -> 0 | E45: =SUM(E43:E44) -> 0 | F45: =SUM(C45:E45) -> 573
A46: Működési célú előzetesen felszámított általános forgalmi adó | B46: K351 | C46: 0 | D46: 0 | E46: 0 | F46: =SUM(C46:E46) -> 0
A47: Fizetendő általános forgalmi adó | B47: K352 | C47: 0 | D47: 0 | E47: 0 | F47: =SUM(C47:E47) -> 0
A48: Kamatkiadások | B48: K353 | C48: 0 | D48: 0 | E48: 0 | F48: =SUM(C48:E48) -> 0
A49: Egyéb pénzügyi műveletek kiadásai | B49: K354 | C49: 0 | D49: 0 | E49: 0 | F49: =SUM(C49:E49) -> 0
A50: Egyéb dologi kiadások | B50: K355 | C50: 0 | D50: 0 | E50: 0 | F50: =SUM(C50:E50) -> 0
A51: Különféle befizetések és egyéb dologi kiadások | B51: K35 | C51: =SUM(C46:C50) -> 0 | D51: =SUM(D46:D50) -> 0 | E51: 0 | F51: =SUM(C51:E51) -> 0
A52: Dologi kiadások | B52: K3 | C52: =C31+C34+C42+C45+C51 -> 2718 | D52: =D31+D34+D42+D45+D51 -> 0 | E52: =E31+E34+E42+E45+E51 -> 0 | F52: =SUM(C52:E52) -> 2718
A53: Társadalombiztosítási ellátások | B53: K41 | C53: 0 | D53: 0 | E53: 0 | F53: =SUM(C53:E53) -> 0
A54: Családi támogatások | B54: K42 | C54: 0 | D54: 0 | E54: 0 | F54: =SUM(C54:E54) -> 0
A55: Pénzbeli kárpótlások, kártérítések | B55: K43 | C55: 0 | D55: 0 | E55: 0 | F55: =SUM(C55:E55) -> 0
A56: Betegséggel kapcsolatos (nem társadalombiztosítási) ellátások | B56: K44 | C56: 0 | D56: 0 | E56: 0 | F56: =SUM(C56:E56) -> 0
A57: Foglalkoztatással, munkanélküliséggel kapcsolatos ellátások | B57: K45 | C57: 0 | D57: 0 | E57: 0 | F57: =SUM(C57:E57) -> 0
A58: Lakhatással kapcsolatos ellátások | B58: K46 | C58: 0 | D58: 0 | E58: 0 | F58: =SUM(C58:E58) -> 0
A59: Intézményi ellátottak pénzbeli juttatásai | B59: K47 | C59: 0 | D59: 0 | E59: 0 | F59: =SUM(C59:E59) -> 0
A60: Egyéb nem intézményi ellátások | B60: K48 | C60: 0 | D60: 0 | E60: 0 | F60: =SUM(C60:E60) -> 0
A61: Ellátottak pénzbeli juttatásai | B61: K4 | C61: =SUM(C53:C60) -> 0 | D61: =SUM(D53:D60) -> 0 | E61: =SUM(E53:E60) -> 0 | F61: =SUM(C61:E61) -> 0
A62: Nemzetközi kötelezettségek | B62: K501 | C62: 0 | D62: 0 | E62: 0 | F62: =SUM(C62:E62) -> 0
A63: Elvonások és befizetések | B63: K502 | C63: 0 | D63: 0 | E63: 0 | F63: =SUM(C63:E63) -> 0
A64: Működési célú garancia- és kezességvállalásból származó kifizetés államháztartáson belülre | B64: K503 | C64: 0 | D64: 0 | E64: 0 | F64: =SUM(C64:E64) -> 0
A65: Működési célú visszatérítendő támogatások, kölcsönök nyújtása államháztartáson belülre | B65: K504 | C65: 0 | D65: 0 | E65: 0 | F65: =SUM(C65:E65) -> 0
A66: Működési célú visszatérítendő támogatások, kölcsönök törlesztése államháztartáson belülre | B66: K505 | C66: 0 | D66: 0 | E66: 0 | F66: =SUM(C66:E66) -> 0
A67: Egyéb működési célú támogatások államháztartáson belülre | B67: K506 | C67: 0 | D67: 0 | E67: 0 | F67: =SUM(C67:E67) -> 0
A68: Működési célú garancia- és kezességvállalásból származó kifizetés államháztartáson kívülre | B68: K507 | C68: 0 | D68: 0 | E68: 0 | F68: =SUM(C68:E68) -> 0
A69: Működési célú visszatérítendő támogatások, kölcsönök nyújtása államháztartáson kívülre | B69: K508 | C69: 0 | D69: 0 | E69: 0 | F69: =SUM(C69:E69) -> 0
A70: Árkiegészítések, ártámogatások | B70: K509 | C70: 0 | D70: 0 | E70: 0 | F70: =SUM(C70:E70) -> 0
A71: Kamattámogatások | B71: K510 | C71: 0 | D71: 0 | E71: 0 | F71: =SUM(C71:E71) -> 0
A72: Működési célú támogatások az Európai Uniónak | B72: K511 | C72: 0 | D72: 0 | E72: 0 | F72: =SUM(C72:E72) -> 0
A73: Egyéb működési célú támogatások államháztartáson kívülre | B73: K512 | C73: 0 | D73: 0 | E73: 0 | F73: =SUM(C73:E73) -> 0
A74: Tartalékok | B74: K513 | C74: 0 | D74: 0 | E74: 0 | F74: =SUM(C74:E74) -> 0
A75: Egyéb működési célú kiadások | B75: K5 | C75: =SUM(C62:C74) -> 0 | D75: =SUM(D62:D74) -> 0 | E75: =SUM(E62:E74) -> 0 | F75: =SUM(C75:E75) -> 0
A76: Működési kiadások összesen | F76: =SUM(C76:E76) -> 0
A77: Immateriális javak beszerzése, létesítése | B77: K61 | C77: 0 | D77: 0 | E77: 0 | F77: =SUM(C77:E77) -> 0
A78: Ingatlanok beszerzése, létesítése | B78: K62 | C78: 0 | D78: 0 | E78: 0 | F78: =SUM(C78:E78) -> 0
A79: Informatikai eszközök beszerzése, létesítése | B79: K63 | C79: 0 | D79: 0 | E79: 0 | F79: =SUM(C79:E79) -> 0
A80: Egyéb tárgyi eszközök beszerzése, létesítése | B80: K64 | C80: 0 | D80: 0 | E80: 0 | F80: =SUM(C80:E80) -> 0
A81: Részesedések beszerzése | B81: K65 | C81: 0 | D81: 0 | E81: 0 | F81: =SUM(C81:E81) -> 0
A82: Meglévő részesedések növeléséhez kapcsolódó kiadások | B82: K66 | C82: 0 | D82: 0 | E82: 0 | F82: =SUM(C82:E82) -> 0
A83: Beruházási célú előzetesen felszámított általános forgalmi adó | B83: K67 | C83: 0 | D83: 0 | E83: 0 | F83: =SUM(C83:E83) -> 0
A84: Beruházások | B84: K6 | C84: =SUM(C77:C83) -> 0 | D84: =SUM(D77:D83) -> 0 | E84: =SUM(E77:E83) -> 0 | F84: =SUM(C84:E84) -> 0
A85: Ingatlanok felújítása | B85: K71 | C85: 0 | D85: 0 | E85: 0 | F85: =SUM(C85:E85) -> 0
A86: Informatikai eszközök felújítása | B86: K72 | C86: 0 | D86: 0 | E86: 0 | F86: =SUM(C86:E86) -> 0
A87: Egyéb tárgyi eszközök felújítása | B87: K73 | C87: 0 | D87: 0 | E87: 0 | F87: =SUM(C87:E87) -> 0
A88: Felújítási célú előzetesen felszámított általános forgalmi adó | B88: K74 | C88: 0 | D88: 0 | E88: 0 | F88: =SUM(C88:E88) -> 0
A89: Felújítások | B89: K7 | C89: =SUM(C85:C88) -> 0 | D89: =SUM(D85:D88) -> 0 | E89: =SUM(E85:E88) -> 0 | F89: =SUM(C89:E89) -> 0
A90: Felhalmozási célú garancia- és kezességvállalásból származó kifizetés államháztartáson belülre | B90: K81 | C90: 0 | D90: 0 | E90: 0 | F90: =SUM(C90:E90) -> 0
A91: Felhalmozási célú visszatérítendő támogatások, kölcsönök nyújtása államháztartáson belülre | B91: K82 | C91: 0 | D91: 0 | E91: 0 | F91: =SUM(C91:E91) -> 0
A92: Felhalmozási célú visszatérítendő támogatások, kölcsönök törlesztése államháztartáson belülre | B92: K83 | C92: 0 | D92: 0 | E92: 0 | F92: =SUM(C92:E92) -> 0
A93: Egyéb felhalmozási célú támogatások államháztartáson belülre | B93: K84 | C93: 0 | D93: 0 | E93: 0 | F93: =SUM(C93:E93) -> 0
A94: Felhalmozási célú garancia- és kezességvállalásból származó kifizetés államháztartáson kívülre | B94: K85 | C94: 0 | D94: 0 | E94: 0 | F94: =SUM(C94:E94) -> 0
A95: Felhalmozási célú visszatérítendő támogatások, kölcsönök nyújtása államháztartáson kívülre | B95: K86 | C95: 0 | D95: 0 | E95: 0 | F95: =SUM(C95:E95) -> 0
A96: Lakástámogatás | B96: K87 | C96: 0 | D96: 0 | E96: 0 | F96: =SUM(C96:E96) -> 0
A97: Felhalmozási célú támogatások az Európai Uniónak | B97: K88 | C97: 0 | D97: 0 | E97: 0 | F97: =SUM(C97:E97) -> 0
A98: Egyéb felhalmozási célú támogatások államháztartáson kívülre | B98: K89 | C98: 0 | D98: 0 | E98: 0 | F98: =SUM(C98:E98) -> 0
A99: Egyéb felhalmozási célú kiadások | B99: K8 | C99: =SUM(C90:C98) -> 0 | D99: =SUM(D90:D98) -> 0 | E99: =SUM(E90:E98) -> 0 | F99: =SUM(C99:E99) -> 0
A100: Felhalmozási kiadások összesen | F100: =SUM(C100:E100) -> 0
A101: Költségvetési kiadások | B101: K1-K8 | C101: =C26+C27+C52+C61+C75+C84+C89+C99 -> 23294 | D101: =D26+D27+D52+D61+D75+D84+D89+D99 -> 0 | E101: =E26+E27+E52+E61+E75+E84+E89+E99 -> 0 | F101: =SUM(C101:E101) -> 23294
A102: Hosszú lejáratú hitelek, kölcsönök törlesztése pénzügyi vállalkozásnak | B102: K9111 | C102: 0 | D102: 0 | E102: 0 | F102: =SUM(C102:E102) -> 0
...

Sheet 4. melléklet
C1: 4. melléklet 1/2017. (I.31) önkormányzati rendelethez
A3: SOROKPOLÁNY Önkormányzat 2017. évi költségvetése
A4: Kiadások (E Ft)
A6: Sorokpolány Önkormányzat és költségvetési szervei előirányzat | C6: EREDETI ELŐIRÁNYZAT
A7: Rovat megnevezése | B7: Rovat-szám | C7: kötelező feladatok | D7: önként vállalt feladatok | E7: államigazgatási feladatok | F7: ÖSSZESEN
A8: Törvény szerinti illetmények, munkabérek | B8: K1101 | C8: ='2. melléklet'!C8+'3. melléklet'!C8 -> 17792 | D8: ='2. melléklet'!D8+'3. melléklet'!D8 -> 0 | E8: ='2. melléklet'!E8+'3. melléklet'!E8 -> 0 | F8: =SUM(C8:E8) -> 17792
A9: Normatív jutalmak | B9: K1102 | C9: ='2. melléklet'!C9+'3. melléklet'!C9 -> 0 | D9: ='2. melléklet'!D9+'3. melléklet'!D9 -> 0 | E9: ='2. melléklet'!E9+'3. melléklet'!E9 -> 0 | F9: =SUM(C9:E9) -> 0
A10: Céljuttatás, projektprémium | B10: K1103 | C10: ='2. melléklet'!C10+'3. melléklet'!C10 -> 0 | D10: ='2. melléklet'!D10+'3. melléklet'!D10 -> 0 | E10: ='2. melléklet'!E10+'3. melléklet'!E10 -> 0 | F10: =SUM(C10:E10) -> 0
A11: Készenléti, ügyeleti, helyettesítési díj, túlóra, túlszolgálat | B11: K1104 | C11: ='2. melléklet'!C11+'3. melléklet'!C11 -> 0 | D11: ='2. melléklet'!D11+'3. melléklet'!D11 -> 0 | E11: ='2. melléklet'!E11+'3. melléklet'!E11 -> 0 | F11: =SUM(C11:E11) -> 0
A12: Végkielégítés | B12: K1105 | C12: ='2. melléklet'!C12+'3. melléklet'!C12 -> 0 | D12: ='2. melléklet'!D12+'3. melléklet'!D12 -> 0 | E12: ='2. melléklet'!E12+'3. melléklet'!E12 -> 0 | F12: =SUM(C12:E12) -> 0
A13: Jubileumi jutalom | B13: K1106 | C13: ='2. melléklet'!C13+'3. melléklet'!C13 -> 2282 | D13: ='2. melléklet'!D13+'3. melléklet'!D13 -> 0 | E13: ='2. melléklet'!E13+'3. melléklet'!E13 -> 0 | F13: =SUM(C13:E13) -> 2282
A14: Béren kívüli juttatások | B14: K1107 | C14: ='2. melléklet'!C14+'3. melléklet'!C14 -> 582 | D14: ='2. melléklet'!D14+'3. melléklet'!D14 -> 0 | E14: ='2. melléklet'!E14+'3. melléklet'!E14 -> 0 | F14: =SUM(C14:E14) -> 582
A15: Ruházati költségtérítés | B15: K1108 | C15: ='2. melléklet'!C15+'3. melléklet'!C15 -> 0 | D15: ='2. melléklet'!D15+'3. melléklet'!D15 -> 0 | E15: ='2. melléklet'!E15+'3. melléklet'!E15 -> 0 | F15: =SUM(C15:E15) -> 0
A16: Közlekedési költségtérítés | B16: K1109 | C16: ='2. melléklet'!C16+'3. melléklet'!C16 -> 155 | D16: ='2. melléklet'!D16+'3. melléklet'!D16 -> 0 | E16: ='2. melléklet'!E16+'3. melléklet'!E16 -> 0 | F16: =SUM(C16:E16) -> 155
A17: Egyéb költségtérítések | B17: K1110 | C17: ='2. melléklet'!C17+'3. melléklet'!C17 -> 0 | D17: ='2. melléklet'!D17+'3. melléklet'!D17 -> 0 | E17: ='2. melléklet'!E17+'3. melléklet'!E17 -> 0 | F17: =SUM(C17:E17) -> 0
A18: Lakhatási támogatások | B18: K1111 | C18: ='2. melléklet'!C18+'3. melléklet'!C18 -> 0 | D18: ='2. melléklet'!D18+'3. melléklet'!D18 -> 0 | E18: ='2. melléklet'!E18+'3. melléklet'!E18 -> 0 | F18: =SUM(C18:E18) -> 0
A19: Szociális támogatások | B19: K1112 | C19: ='2. melléklet'!C19+'3. melléklet'!C19 -> 0 | D19: ='2. melléklet'!D19+'3. melléklet'!D19 -> 0 | E19: ='2. melléklet'!E19+'3. melléklet'!E19 -> 0 | F19: =SUM(C19:E19) -> 0
... A75: Egyéb működési célú kiadások | B75: K5 | C75: ='2. melléklet'!C75+'3. melléklet'!C75 -> 13859 | D75: ='2. melléklet'!D75+'3. melléklet'!D75 -> 100 | E75: ='2. melléklet'!E75+'3. melléklet'!E75 -> 0 | F75: =SUM(C75:E75) -> 13959
A76: Működési kiadások összesen | C76: ='2. melléklet'!C76+'3. melléklet'!C76 -> 0 | D76: ='2. melléklet'!D76+'3. melléklet'!D76 -> 0 | E76: ='2. melléklet'!E76+'3. melléklet'!E76 -> 0 | F76: =SUM(C76:E76) -> 0
A77: Immateriális javak beszerzése, létesítése | B77: K61 | C77: ='2. melléklet'!C77+'3. melléklet'!C77 -> 0 | D77: ='2. melléklet'!D77+'3. melléklet'!D77 -> 0 | E77: ='2. melléklet'!E77+'3. melléklet'!E77 -> 0 | F77: =SUM(C77:E77) -> 0
A78: Ingatlanok beszerzése, létesítése | B78: K62 | C78: ='2. melléklet'!C78+'3. melléklet'!C78 -> 0 | D78: ='2. melléklet'!D78+'3. melléklet'!D78 -> 0 | E78: ='2. melléklet'!E78+'3. melléklet'!E78 -> 0 | F78: =SUM(C78:E78) -> 0
A79: Informatikai eszközök beszerzése, létesítése | B79: K63 | C79: ='2. melléklet'!C79+'3. melléklet'!C79 -> 0 | D79: ='2. melléklet'!D79+'3. melléklet'!D79 -> 0 | E79: ='2. melléklet'!E79+'3. melléklet'!E79 -> 0 | F79: =SUM(C79:E79) -> 0
A80: Egyéb tárgyi eszközök beszerzése, létesítése | B80: K64 | C80: ='2. melléklet'!C80+'3. melléklet'!C80 -> 579 | D80: ='2. melléklet'!D80+'3. melléklet'!D80 -> 0 | E80: ='2. melléklet'!E80+'3. melléklet'!E80 -> 0 | F80: =SUM(C80:E80) -> 579
A81: Részesedések beszerzése | B81: K65 | C81: ='2. melléklet'!C81+'3. melléklet'!C81 -> 0 | D81: ='2. melléklet'!D81+'3. melléklet'!D81 -> 0 | E81: ='2. melléklet'!E81+'3. melléklet'!E81 -> 0 | F81: =SUM(C81:E81) -> 0
A82: Meglévő részesedések növeléséhez kapcsolódó kiadások | B82: K66 | C82: ='2. melléklet'!C82+'3. melléklet'!C82 -> 0 | D82: ='2. melléklet'!D82+'3. melléklet'!D82 -> 0 | E82: ='2. melléklet'!E82+'3. melléklet'!E82 -> 0 | F82: =SUM(C82:E82) -> 0
A83: Beruházási célú előzetesen felszámított általános forgalmi adó | B83: K67 | C83: ='2. melléklet'!C83+'3. melléklet'!C83 -> 266 | D83: ='2. melléklet'!D83+'3. melléklet'!D83 -> 0 | E83: ='2. melléklet'!E83+'3. melléklet'!E83 -> 0 | F83: =SUM(C83:E83) -> 266
A84: Beruházások | B84: K6 | C84: ='2. melléklet'!C84+'3. melléklet'!C84 -> 845 | D84: ='2. melléklet'!D84+'3. melléklet'!D84 -> 0 | E84: ='2. melléklet'!E84+'3. melléklet'!E84 -> 0 | F84: =SUM(C84:E84) -> 845
A85: Ingatlanok felújítása | B85: K71 | C85: ='2. melléklet'!C85+'3. melléklet'!C85 -> 0 | D85: ='2. melléklet'!D85+'3. melléklet'!D85 -> 0 | E85: ='2. melléklet'!E85+'3. melléklet'!E85 -> 0 | F85: =SUM(C85:E85) -> 0
A86: Informatikai eszközök felújítása | B86: K72 | C86: ='2. melléklet'!C86+'3. melléklet'!C86 -> 0 | D86: ='2. melléklet'!D86+'3. melléklet'!D86 -> 0 | E86: ='2. melléklet'!E86+'3. melléklet'!E86 -> 0 | F86: =SUM(C86:E86) -> 0
A87: Egyéb tárgyi eszközök felújítása | B87: K73 | C87: ='2. melléklet'!C87+'3. melléklet'!C87 -> 0 | D87: ='2. melléklet'!D87+'3. melléklet'!D87 -> 0 | E87: ='2. melléklet'!E87+'3. melléklet'!E87 -> 0 | F87: =SUM(C87:E87) -> 0
A88: Felújítási célú előzetesen felszámított általános forgalmi adó | B88: K74 | C88: ='2. melléklet'!C88+'3. melléklet'!C88 -> 0 | D88: ='2. melléklet'!D88+'3. melléklet'!D88 -> 0 | E88: ='2. melléklet'!E88+'3. melléklet'!E88 -> 0 | F88: =SUM(C88:E88) -> 0
... A99: Egyéb felhalmozási célú kiadások | B99: K8 | C99: ='2. melléklet'!C99+'3. melléklet'!C99 -> 0 | D99: ='2. melléklet'!D99+'3. melléklet'!D99 -> 0 | E99: ='2. melléklet'!E99+'3. melléklet'!E99 -> 0 | F99: =SUM(C99:E99) -> 0
A100: Felhalmozási kiadások összesen | C100: ='2. melléklet'!C100+'3. melléklet'!C100 -> 845 | D100: ='2. melléklet'!D100+'3. melléklet'!D100 -> 0 | E100: ='2. melléklet'!E100+'3. melléklet'!E100 -> 0 | F100: =SUM(C100:E100) -> 845
A101: Költségvetési kiadások | B101: K1-K8 | C101: ='2. melléklet'!C101+'3. melléklet'!C101 -> 70873 | D101: ='2. melléklet'!D101+'3. melléklet'!D101 -> 100 | E101: ='2. melléklet'!E101+'3. melléklet'!E101 -> 13 | F101: =SUM(C101:E101) -> 70986
A102: Hosszú lejáratú hitelek, kölcsönök törlesztése pénzügyi vállalkozásnak | B102: K9111 | C102: ='2. melléklet'!C102+'3. melléklet'!C102 -> 0 | D102: ='2. melléklet'!D102+'3. melléklet'!D102 -> 0 | E102: ='2. melléklet'!E102+'3. melléklet'!E102 -> 0 | F102: =SUM(C102:E102) -> 0
A103: Likviditási célú hitelek, kölcsönök törlesztése pénzügyi vállalkozásnak | B103: K9112 | C103: ='2. melléklet'!C103+'3. melléklet'!C103 -> 0 | D103: ='2. melléklet'!D103+'3. melléklet'!D103 -> 0 | E103: ='2. melléklet'!E103+'3. melléklet'!E103 -> 0 | F103: =SUM(C103:E103) -> 0
A104: Rövid lejáratú hitelek, kölcsönök törlesztése | B104: K9113 | C104: ='2. melléklet'!C104+'3. melléklet'!C104 -> 0 | D104: ='2. melléklet'!D104+'3. melléklet'!D104 -> 0 | E104: ='2. melléklet'!E104+'3. melléklet'!E104 -> 0 | F104: =SUM(C104:E104) -> 0
A105: Hitel-, kölcsöntörlesztés államháztartáson kívülre | B105: K911 | C105: ='2. melléklet'!C105+'3. melléklet'!C105 -> 0 | D105: ='2. melléklet'!D105+'3. melléklet'!D105 -> 0 | E105: ='2. melléklet'!E105+'3. melléklet'!E105 -> 0 | F105: =SUM(C105:E105) -> 0
A106: Forgatási célú belföldi értékpapírok vásárlása | B106: K9121 | C106: ='2. melléklet'!C106+'3. melléklet'!C106 -> 0 | D106: ='2. melléklet'!D106+'3. melléklet'!D106 -> 0 | E106: ='2. melléklet'!E106+'3. melléklet'!E106 -> 0 | F106: =SUM(C106:E106) -> 0
A107: Forgatási célú belföldi értékpapírok beváltása | B107: K9122 | C107: ='2. melléklet'!C107+'3. melléklet'!C107 -> 0 | D107: ='2. melléklet'!D107+'3. melléklet'!D107 -> 0 | E107: ='2. melléklet'!E107+'3. melléklet'!E107 -> 0 | F107: =SUM(C107:E107) -> 0
A108: Befektetési célú belföldi értékpapírok vásárlása | B108: K9123 | C108: ='2. melléklet'!C108+'3. melléklet'!C108 -> 0 | D108: ='2. melléklet'!D108+'3. melléklet'!D108 -> 0 | E108: ='2. melléklet'!E108+'3. melléklet'!E108 -> 0 | F108: =SUM(C108:E108) -> 0
A109: Befektetési célú belföldi értékpapírok beváltása | B109: K9124 | C109: ='2. melléklet'!C109+'3. melléklet'!C109 -> 0 | D109: ='2. melléklet'!D109+'3. melléklet'!D109 -> 0 | E109: ='2. melléklet'!E109+'3. melléklet'!E109 -> 0 | F109: =SUM(C109:E109) -> 0
A110: Belföldi értékpapírok kiadásai | B110: K912 | C110: ='2. melléklet'!C110+'3. melléklet'!C110 -> 0 | D110: ='2. melléklet'!D110+'3. melléklet'!D110 -> 0 | E110: ='2. melléklet'!E110+'3. melléklet'!E110 -> 0 | F110: =SUM(C110:E110) -> 0
A111: Államháztartáson belüli megelőlegezések folyósítása | B111: K913 | C111: ='2. melléklet'!C111+'3. melléklet'!C111 -> 0 | D111: ='2. melléklet'!D111+'3. melléklet'!D111 -> 0 | E111: ='2. melléklet'!E111+'3. melléklet'!E111 -> 0 | F111: =SUM(C111:E111) -> 0
A112: Államháztartáson belüli megelőlegezések visszafizetése | B112: K914 | C112: ='2. melléklet'!C112+'3. melléklet'!C112 -> 1218 | D112: ='2. melléklet'!D112+'3. melléklet'!D112 -> 0 | E112: ='2. melléklet'!E112+'3. melléklet'!E112 -> 0 | F112: =SUM(C112:E112) -> 1218
... A124: Finanszírozási kiadások | B124: K9 | C124: ='2. melléklet'!C124+'3. melléklet'!C124 -> 24512 | D124: ='2. melléklet'!D124+'3. melléklet'!D124 -> 0 | E124: ='2. melléklet'!E124+'3. melléklet'!E124 -> 0 | F124: =SUM(C124:E124) -> 24512
A125: KIADÁSOK ÖSSZESEN (K1-9) | C125: ='2. melléklet'!C125+'3. melléklet'!C125 -> 95385 | D125: ='2. melléklet'!D125+'3. melléklet'!D125 -> 100 | E125: ='2. melléklet'!E125+'3. melléklet'!E125 -> 13 | F125: =SUM(C125:E125) -> 95498

Sheet 5. melléklet
B1: 5. melléklet 1/2017. (I.31) önkormányzati rendelethez
A3: SOROKPOLÁNY Önkormányzat 2017. évi költségvetése
A4: Bevételek (E Ft)
A6: SOROKPOLÁNY ÖNKORMÁNYZATI ELŐIRÁNYZATOK | C6: EREDETI ELŐIRÁNYZAT
A7: Rovat megnevezése | B7: Rovat- szám | C7: kötelező feladatok | D7: önként vállalt feladatok | E7: államigazgatási feladatok | F7: ÖSSZESEN
A8: Helyi önkormányzatok működésének általános támogatása | B8: B111 | C8: 9655 | D8: 0 | E8: 0 | F8: =SUM(C8:E8) -> 9655
A9: Települési önkormányzatok egyes köznevelési feladatainak támogatása | B9: B112 | C9: 14907 | D9: 0 | E9: 0 | F9: =SUM(C9:E9) -> 14907
A10: Települési önkormányzatok szociális és gyermekjóléti feladatainak támogatása | B10: B113 | C10: 8979 | D10: 0 | E10: 0 | F10: =SUM(C10:E10) -> 8979
A11: Települési önkormányzatok kulturális feladatainak támogatása | B11: B114 | C11: 1200 | D11: 0 | E11: 0 | F11: =SUM(C11:E11) -> 1200
A12: Működési célú központosított előirányzatok | B12: B115 | C12: 0 | D12: 0 | E12: 0 | F12: =SUM(C12:E12) -> 0
A13: Elszámolásból származó bevételek | B13: B116 | C13: 0 | D13: 0 | E13: 0 | F13: =SUM(C13:E13) -> 0
A14: Önkormányzatok működési támogatásai | B14: B11 | C14: =SUM(C8:C13) -> 34741 | D14: =SUM(D8:D13) -> 0 | E14: =SUM(E8:E13) -> 0 | F14: =SUM(C14:E14) -> 34741
A15: Elvonások és befizetések bevételei | B15: B12 | C15: 0 | D15: 0 | E15: 0 | F15: =SUM(C15:E15) -> 0
A16: Működési célú garancia- és kezességvállalásból származó megtérülések államháztartáson belülről | B16: B13 | C16: 0 | D16: 0 | E16: 0 | F16: =SUM(C16:E16) -> 0
A17: Működési célú visszatérítendő támogatások, kölcsönök visszatérülése államháztartáson belülről | B17: B14 | C17: 0 | D17: 0 | E17: 0 | F17: =SUM(C17:E17) -> 0
A18: Működési célú visszatérítendő támogatások, kölcsönök igénybevétele államháztartáson belülről | B18: B15 | C18: 0 | D18: 0 | E18: 0 | F18: =SUM(C18:E18) -> 0
A19: Egyéb működési célú támogatások bevételei államháztartáson belülről | B19: B16 | C19: 168 | D19: 0 | E19: 0 | F19: =SUM(C19:E19) -> 168
A20: Működési célú támogatások államháztartáson belülről | B20: B1 | C20: =SUM(C14:C19) -> 34909 | D20: =SUM(D14:D19) -> 0 | E20: =SUM(E14:E19) -> 0 | F20: =SUM(C20:E20) -> 34909
A21: Magánszemélyek jövedelemadói | B21: B311 | C21: 0 | D21: 0 | E21: 0 | F21: =SUM(C21:E21) -> 0
A22: Társaságok jövedelemadói | B22: B312 | C22: 0 | D22: 0 | E22: 0 | F22: =SUM(C22:E22) -> 0
A23: Jövedelemadók | B23: B31 | C23: =SUM(C21:C22) -> 0 | D23: =SUM(D21:D22) -> 0 | E23: =SUM(E21:E22) -> 0 | F23: =SUM(C23:E23) -> 0
A24: Szociális hozzájárulási adó és járulékok | B24: B32 | C24: 0 | D24: 0 | E24: 0 | F24: =SUM(C24:E24) -> 0
A25: Bérhez és foglalkoztatáshoz kapcsolódó adók | B25: B33 | C25: 0 | D25: 0 | E25: 0 | F25: =SUM(C25:E25) -> 0
A26: Vagyoni tipusú adók | B26: B34 | C26: 1191 | D26: 0 | E26: 0 | F26: =SUM(C26:E26) -> 1191
A27: Értékesítési és forgalmi adók | B27: B351 | C27: 10000 | D27: 0 | E27: 0 | F27: =SUM(C27:E27) -> 10000
A28: Fogyasztási adók | B28: B352 | C28: 0 | D28: 0 | E28: 0 | F28: =SUM(C28:E28) -> 0
A29: Pénzügyi monopóliumok nyereségét terhelő adók | B29: B353 | C29: 0 | D29: 0 | E29: 0 | F29: =SUM(C29:E29) -> 0
A30: Gépjárműadók | B30: B354 | C30: 1875 | D30: 0 | E30: 0 | F30: =SUM(C30:E30) -> 1875
A31: Egyéb áruhasználati és szolgáltatási adók | B31: B355 | C31: 180 | D31: 0 | E31: 0 | F31: =SUM(C31:E31) -> 180
A32: Termékek és szolgáltatások adói | B32: B35 | C32: =SUM(C27:C31) -> 12055 | D32: =SUM(D27:D31) -> 0 | E32: =SUM(E27:E31) -> 0 | F32: =SUM(C32:E32) -> 12055
A33: Egyéb közhatalmi bevételek | B33: B36 | C33: 90 | D33: 0 | E33: 20 | F33: =SUM(C33:E33) -> 110
A34: Közhatalmi bevételek | B34: B3 | C34: =C23+C24+C25+C26+C32+C33 -> 13336 | D34: =D23+D24+D25+D26+D32+D33 -> 0 | E34: =E23+E24+E25+E26+E32+E33 -> 20 | F34: =SUM(C34:E34) -> 13356
A35: Áru- és készletértékesítés ellenértéke | B35: B401 | C35: 0 | D35: 0 | E35: 0 | F35: =SUM(C35:E35) -> 0
A36: Szolgáltatások ellenértéke | B36: B402 | C36: 0 | D36: 0 | E36: 0 | F36: =SUM(C36:E36) -> 0
A37: Közvetített szolgáltatások értéke | B37: B403 | C37: 617 | D37: 0 | E37: 0 | F37: =SUM(C37:E37) -> 617
A38: Tulajdonosi bevételek | B38: B404 | C38: 0 | D38: 0 | E38: 0 | F38: =SUM(C38:E38) -> 0
A39: Ellátási díjak | B39: B405 | C39: 1032 | D39: 0 | E39: 0 | F39: =SUM(C39:E39) -> 1032
A40: Kiszámlázott általános forgalmi adó | B40: B406 | C40: 0 | D40: 0 | E40: 0 | F40: =SUM(C40:E40) -> 0
A41: Általános forgalmi adó visszatérítése | B41: B407 | C41: 0 | D41: 0 | E41: 0 | F41: =SUM(C41:E41) -> 0
A42: Kamatbevételek | B42: B408 | C42: 1 | D42: 0 | E42: 0 | F42: =SUM(C42:E42) -> 1
A43: Egyéb pénzügyi műveletek bevételei | B43: B409 | C43: 0 | D43: 0 | E43: 0 | F43: =SUM(C43:E43) -> 0
A44: Egyéb működési bevételek | B44: B410 | C44: 2489 | D44: 300 | E44: 0 | F44: =SUM(C44:E44) -> 2789
A45: Működési bevételek | B45: B4 | C45: =SUM(C35:C44) -> 4139 | D45: =SUM(D35:D44) -> 300 | E45: =SUM(E35:E44) -> 0 | F45: =SUM(C45:E45) -> 4439
A46: Működési célú garancia- és kezességvállalásból származó megtérülések államháztartáson kívülről | B46: B61 | C46: 0 | D46: 0 | E46: 0 | F46: =SUM(C46:E46) -> 0
A47: Működési célú visszatérítendő támogatások, kölcsönök visszatérülése államháztartáson kívülről | B47: B62 | C47: 0 | D47: 0 | E47: 0 | F47: =SUM(C47:E47) -> 0
A48: Egyéb működési célú átvett pénzeszközök | B48: B63 | C48: 0 | D48: 0 | E48: 0 | F48: =SUM(C48:E48) -> 0
A49: Működési célú átvett pénzeszközök | B49: B6 | C49: =SUM(C46:C48) -> 0 | D49: =SUM(D46:D48) -> 0 | E49: =SUM(E46:E48) -> 0 | F49: =SUM(C49:E49) -> 0
A50: Működési bevételek összesen | F50: =SUM(C50:E50) -> 0
A51: Felhalmozási célú önkormányzati támogatások | B51: B21 | C51: 0 | D51: 0 | E51: 0 | F51: =SUM(C51:E51) -> 0
A52: Felhalmozási célú garancia- és kezességvállalásból származó megtérülések államháztartáson belülről | B52: B22 | C52: 0 | D52: 0 | E52: 0 | F52: =SUM(C52:E52) -> 0
A53: Felhalmozási célú visszatérítendő támogatások, kölcsönök visszatérülése államháztartáson belülről | B53: B23 | C53: 0 | D53: 0 | E53: 0 | F53: =SUM(C53:E53) -> 0
A54: Felhalmozási célú visszatérítendő támogatások, kölcsönök igénybevétele államháztartáson belülről | B54: B24 | C54: 0 | D54: 0 | E54: 0 | F54: =SUM(C54:E54) -> 0
A55: Egyéb felhalmozási célú támogatások bevételei államháztartáson belülről | B55: B25 | C55: 0 | D55: 0 | E55: 0 | F55: =SUM(C55:E55) -> 0
A56: Felhalmozási célú támogatások államháztartáson belülről | B56: B2 | C56: =SUM(C51:C55) -> 0 | D56: =SUM(D51:D55) -> 0 | E56: =SUM(E51:E55) -> 0 | F56: =SUM(C56:E56) -> 0
A57: Immateriális javak értékesítése | B57: B51 | C57: 0 | D57: 0 | E57: 0 | F57: =SUM(C57:E57) -> 0
A58: Ingatlanok értékesítése | B58: B52 | C58: 0 | D58: 0 | E58: 0 | F58: =SUM(C58:E58) -> 0
A59: Egyéb tárgyi eszközök értékesítése | B59: B53 | C59: 0 | D59: 0 | E59: 0 | F59: =SUM(C59:E59) -> 0
A60: Részesedések értékesítése | B60: B54 | C60: 0 | D60: 0 | E60: 0 | F60: =SUM(C60:E60) -> 0
A61: Részesedések megszűnéséhez kapcsolódó bevételek | B61: B55 | C61: 0 | D61: 0 | E61: 0 | F61: =SUM(C61:E61) -> 0
A62: Felhalmozási bevételek | B62: B5 | C62: =SUM(C57:C61) -> 0 | D62: =SUM(D57:D61) -> 0 | E62: =SUM(E57:E61) -> 0 | F62: =SUM(C62:E62) -> 0
A63: Felhalmozási célú garancia- és kezességvállalásból származó megtérülések államháztartáson kívülről | B63: B71 | C63: 0 | D63: 0 | E63: 0 | F63: =SUM(C63:E63) -> 0
A64: Felhalmozási célú visszatérítendő támogatások, kölcsönök visszatérülése államháztartáson kívülről | B64: B72 | C64: 0 | D64: 0 | E64: 0 | F64: =SUM(C64:E64) -> 0
A65: Egyéb felhalmozási célú átvett pénzeszközök | B65: B73 | C65: 0 | D65: 0 | E65: 0 | F65: =SUM(C65:E65) -> 0
A66: Felhalmozási célú átvett pénzeszközök | B66: B7 | C66: =SUM(C63:C65) -> 0 | D66: =SUM(D63:D65) -> 0 | E66: =SUM(E63:E65) -> 0 | F66: =SUM(C66:E66) -> 0
A67: Felhalmozási bevételek összesen | F67: =SUM(C67:E67) -> 0
A68: Költségvetési bevételek | B68: B1-B7 | C68: =C20+C34+C45+C49+C56+C62+C66 -> 52384 | D68: =D20+D34+D45+D49+D56+D62+D66 -> 300 | E68: =E20+E34+E45+E49+E56+E62+E66 -> 20 | F68: =SUM(C68:E68) -> 52704
A69: Működési bevételek és működési kiadások egyenlege | F69: =SUM(C69:E69) -> 0
A70: Felhalmozási bevételek és a felhalmozási kiadások egyenlege | F70: =SUM(C70:E70) -> 0
A71: Hosszú lejáratú hitelek, kölcsönök felvétele | B71: B8111 | C71: 0 | D71: 0 | E71: 0 | F71: =SUM(C71:E71) -> 0
A72: Likviditási célú hitelek, kölcsönök felvétele pénzügyi vállalkozástól | B72: B8112 | C72: 0 | D72: 0 | E72: 0 | F72: =SUM(C72:E72) -> 0
A73: Rövid lejáratú hitelek, kölcsönök felvétele | B73: B8113 | C73: 0 | D73: 0 | E73: 0 | F73: =SUM(C73:E73) -> 0
A74: Hitel-, kölcsönfelvétel államháztartáson kívülről | B74: B811 | C74: =SUM(C71:C73) -> 0 | D74: =SUM(D71:D73) -> 0 | E74: =SUM(E71:E73) -> 0 | F74: =SUM(C74:E74) -> 0
A75: Forgatási célú belföldi értékpapírok beváltása, értékesítése | B75: B8121 | C75: 0 | D75: 0 | E75: 0 | F75: =SUM(C75:E75) -> 0
A76: Forgatási célú belföldi értékpapírok kibocsátása | B76: B8122 | C76: 0 | D76: 0 | E76: 0 | F76: =SUM(C76:E76) -> 0
A77: Befektetési célú belföldi értékpapírok beváltása, értékesítése | B77: B8123 | C77: 0 | D77: 0 | E77: 0 | F77: =SUM(C77:E77) -> 0
A78: Befektetési célú belföldi értékpapírok kibocsátása | B78: B8124 | C78: 0 | D78: 0 | E78: 0 | F78: =SUM(C78:E78) -> 0
A79: Belföldi értékpapírok bevételei | B79: B812 | C79: =SUM(C75:C78) -> 0 | D79: =SUM(D75:D78) -> 0 | E79: =SUM(E75:E78) -> 0 | F79: =SUM(C79:E79) -> 0
A80: Előző év költségvetési maradványának igénybevétele MŰKÖDÉSRE | B80: B8131 | C80: 19500 | D80: 0 | E80: 0 | F80: =SUM(C80:E80) -> 19500
A81: Előző év költségvetési maradványának igénybevétele FELHALMOZÁSRA | B81: B8131 | C81: 0 | D81: 0 | E81: 0 | F81: =SUM(C81:E81) -> 0
A82: Előző év vállalkozási maradványának igénybevétele MŰKÖDÉSRE | B82: B8132 | C82: 0 | D82: 0 | E82: 0 | F82: =SUM(C82:E82) -> 0
A83: Előző év vállalkozási maradványának igénybevétele FELHALMOZÁSRA | B83: B8132 | C83: 0 | D83: 0 | E83: 0 | F83: =SUM(C83:E83) -> 0
A84: Maradvány igénybevétele | B84: B813 | C84: =SUM(C80:C83) -> 19500 | D84: =SUM(D80:D83) -> 0 | E84: =SUM(E80:E83) -> 0 | F84: =SUM(C84:E84) -> 19500
A85: Államháztartáson belüli megelőlegezések | B85: B814 | C85: 0 | D85: 0 | E85: 0 | F85: =SUM(C85:E85) -> 0
A86: Államháztartáson belüli megelőlegezések törlesztése | B86: B815 | C86: 0 | D86: 0 | E86: 0 | F86: =SUM(C86:E86) -> 0
A87: Központi, irányító szervi támogatás | B87: B816 | C87: 0 | D87: 0 | E87: 0 | F87: =SUM(C87:E87) -> 0
A88: Betétek megszüntetése | B88: B817 | C88: 0 | D88: 0 | E88: 0 | F88: =SUM(C88:E88) -> 0
A89: Központi költségvetés sajátos finanszírozási bevételei | B89: B818 | C89: 0 | D89: 0 | E89: 0 | F89: =SUM(C89:E89) -> 0
A90: Belföldi finanszírozás bevételei | B90: B81 | C90: =C74+C79+C84+C85+C87+C86+C88+C89 -> 19500 | D90: =D74+D79+D84+D85+D87+D86+D88+D89 -> 0 | E90: =E74+E79+E84+E85+E87+E86+E88+E89 -> 0 | F90: =SUM(C90:E90) -> 19500
A91: Forgatási célú külföldi értékpapírok beváltása, értékesítése | B91: B821 | C91: 0 | D91: 0 | E91: 0 | F91: =SUM(C91:E91) -> 0
A92: Befektetési célú külföldi értékpapírok beváltása, értékesítése | B92: B822 | C92: 0 | D92: 0 | E92: 0 | F92: =SUM(C92:E92) -> 0
A93: Külföldi értékpapírok kibocsátása | B93: B823 | C93: 0 | D93: 0 | E93: 0 | F93: =SUM(C93:E93) -> 0
A94: Külföldi hitelek, kölcsönök felvétele | B94: B824 | C94: 0 | D94: 0 | E94: 0 | F94: =SUM(C94:E94) -> 0
A95: Külföldi finanszírozás bevételei | B95: B82 | C95: 0 | D95: 0 | E95: 0 | F95: =SUM(C95:E95) -> 0
A96: Adóssághoz nem kapcsolódó származékos ügyletek bevételei | B96: B83 | C96: 0 | D96: 0 | E96: 0 | F96: =SUM(C96:E96) -> 0
A97: Finanszírozási bevételek | B97: B8 | C97: =C90+C95+C96 -> 19500 | D97: =D90+D95+D96 -> 0 | E97: =E90+E95+E96 -> 0 | F97: =SUM(C97:E97) -> 19500
A98: BEVÉTELEK ÖSSZESEN (B1-8) | C98: =C68+C97 -> 71884 | D98: =D68+D97 -> 300 | E98: =E68+E97 -> 20 | F98: =SUM(C98:E98) -> 72204

Sheet 6. melléklet 
B1: 6. melléklet 1/2017. (I.31) önkormányzati rendelethez
A3: SOROKPOLÁNY Önkormányzat 2017. évi költségvetése
A4: Bevételek (E Ft)
A6: BÓBITA ÓVODA ELŐIRÁNYZATOK | C6: EREDETI ELŐIRÁNYZAT
A7: Rovat megnevezése | B7: Rovat- szám | C7: kötelező feladatok | D7: önként vállalt feladatok | E7: államigazgatási feladatok | F7: ÖSSZESEN
A8: Helyi önkormányzatok működésének általános támogatása | B8: B111 | C8: 0 | D8: 0 | E8: 0 | F8: =SUM(C8:E8) -> 0
A9: Települési önkormányzatok egyes köznevelési feladatainak támogatása | B9: B112 | C9: 0 | D9: 0 | E9: 0 | F9: =SUM(C9:E9) -> 0
A10: Települési önkormányzatok szociális és gyermekjóléti feladatainak támogatása | B10: B113 | C10: 0 | D10: 0 | E10: 0 | F10: =SUM(C10:E10) -> 0
A11: Települési önkormányzatok kulturális feladatainak támogatása | B11: B114 | C11: 0 | D11: 0 | E11: 0 | F11: =SUM(C11:E11) -> 0
A12: Működési célú központosított előirányzatok | B12: B115 | C12: 0 | D12: 0 | E12: 0 | F12: =SUM(C12:E12) -> 0
A13: Elszámolásból származó bevételek | B13: B116 | C13: 0 | D13: 0 | E13: 0 | F13: =SUM(C13:E13) -> 0
A14: Önkormányzatok működési támogatásai | B14: B11 | C14: =SUM(C8:C13) -> 0 | D14: =SUM(D8:D13) -> 0 | E14: =SUM(E8:E13) -> 0 | F14: =SUM(C14:E14) -> 0
A15: Elvonások és befizetések bevételei | B15: B12 | C15: 0 | D15: 0 | E15: 0 | F15: =SUM(C15:E15) -> 0
A16: Működési célú garancia- és kezességvállalásból származó megtérülések államháztartáson belülről | B16: B13 | C16: 0 | D16: 0 | E16: 0 | F16: =SUM(C16:E16) -> 0
A17: Működési célú visszatérítendő támogatások, kölcsönök visszatérülése államháztartáson belülről | B17: B14 | C17: 0 | D17: 0 | E17: 0 | F17: =SUM(C17:E17) -> 0
A18: Működési célú visszatérítendő támogatások, kölcsönök igénybevétele államháztartáson belülről | B18: B15 | C18: 0 | D18: 0 | E18: 0 | F18: =SUM(C18:E18) -> 0
A19: Egyéb működési célú támogatások bevételei államháztartáson belülről | B19: B16 | C19: 0 | D19: 0 | E19: 0 | F19: =SUM(C19:E19) -> 0
A20: Működési célú támogatások államháztartáson belülről | B20: B1 | C20: =SUM(C14:C19) -> 0 | D20: =SUM(D14:D19) -> 0 | E20: =SUM(E14:E19) -> 0 | F20: =SUM(C20:E20) -> 0
A21: Magánszemélyek jövedelemadói | B21: B311 | C21: 0 | D21: 0 | E21: 0 | F21: =SUM(C21:E21) -> 0
A22: Társaságok jövedelemadói | B22: B312 | C22: 0 | D22: 0 | E22: 0 | F22: =SUM(C22:E22) -> 0
A23: Jövedelemadók | B23: B31 | C23: =SUM(C21:C22) -> 0 | D23: =SUM(D21:D22) -> 0 | E23: =SUM(E21:E22) -> 0 | F23: =SUM(C23:E23) -> 0
A24: Szociális hozzájárulási adó és járulékok | B24: B32 | C24: 0 | D24: 0 | E24: 0 | F24: =SUM(C24:E24) -> 0
A25: Bérhez és foglalkoztatáshoz kapcsolódó adók | B25: B33 | C25: 0 | D25: 0 | E25: 0 | F25: =SUM(C25:E25) -> 0
A26: Vagyoni tipusú adók | B26: B34 | C26: 0 | D26: 0 | E26: 0 | F26: =SUM(C26:E26) -> 0
A27: Értékesítési és forgalmi adók | B27: B351 | C27: 0 | D27: 0 | E27: 0 | F27: =SUM(C27:E27) -> 0
A28: Fogyasztási adók | B28: B352 | C28: 0 | D28: 0 | E28: 0 | F28: =SUM(C28:E28) -> 0
A29: Pénzügyi monopóliumok nyereségét terhelő adók | B29: B353 | C29: 0 | D29: 0 | E29: 0 | F29: =SUM(C29:E29) -> 0
A30: Gépjárműadók | B30: B354 | C30: 0 | D30: 0 | E30: 0 | F30: =SUM(C30:E30) -> 0
A31: Egyéb áruhasználati és szolgáltatási adók | B31: B355 | C31: 0 | D31: 0 | E31: 0 | F31: =SUM(C31:E31) -> 0
A32: Termékek és szolgáltatások adói | B32: B35 | C32: =SUM(C27:C31) -> 0 | D32: =SUM(D27:D31) -> 0 | E32: =SUM(E27:E31) -> 0 | F32: =SUM(C32:E32) -> 0
A33: Egyéb közhatalmi bevételek | B33: B36 | C33: 0 | D33: 0 | E33: 0 | F33: =SUM(C33:E33) -> 0
A34: Közhatalmi bevételek | B34: B3 | C34: =C23+C24+C25+C26+C32+C33 -> 0 | D34: =D23+D24+D25+D26+D32+D33 -> 0 | E34: =E23+E24+E25+E26+E32+E33 -> 0 | F34: =SUM(C34:E34) -> 0
A35: Áru- és készletértékesítés ellenértéke | B35: B401 | C35: 0 | D35: 0 | E35: 0 | F35: =SUM(C35:E35) -> 0
A36: Szolgáltatások ellenértéke | B36: B402 | C36: 0 | D36: 0 | E36: 0 | F36: =SUM(C36:E36) -> 0
A37: Közvetített szolgáltatások értéke | B37: B403 | C37: 0 | D37: 0 | E37: 0 | F37: =SUM(C37:E37) -> 0
A38: Tulajdonosi bevételek | B38: B404 | C38: 0 | D38: 0 | E38: 0 | F38: =SUM(C38:E38) -> 0
A39: Ellátási díjak | B39: B405 | C39: 0 | D39: 0 | E39: 0 | F39: =SUM(C39:E39) -> 0
A40: Kiszámlázott általános forgalmi adó | B40: B406 | C40: 0 | D40: 0 | E40: 0 | F40: =SUM(C40:E40) -> 0
A41: Általános forgalmi adó visszatérítése | B41: B407 | C41: 0 | D41: 0 | E41: 0 | F41: =SUM(C41:E41) -> 0
A42: Kamatbevételek | B42: B408 | C42: 0 | D42: 0 | E42: 0 | F42: =SUM(C42:E42) -> 0
A43: Egyéb pénzügyi műveletek bevételei | B43: B409 | C43: 0 | D43: 0 | E43: 0 | F43: =SUM(C43:E43) -> 0
A44: Egyéb működési bevételek | B44: B410 | C44: 0 | D44: 0 | E44: 0 | F44: =SUM(C44:E44) -> 0
A45: Működési bevételek | B45: B4 | C45: =SUM(C35:C44) -> 0 | D45: =SUM(D35:D44) -> 0 | E45: =SUM(E35:E44) -> 0 | F45: =SUM(C45:E45) -> 0
A46: Működési célú garancia- és kezességvállalásból származó megtérülések államháztartáson kívülről | B46: B61 | C46: 0 | D46: 0 | E46: 0 | F46: =SUM(C46:E46) -> 0
A47: Működési célú visszatérítendő támogatások, kölcsönök visszatérülése államháztartáson kívülről | B47: B62 | C47: 0 | D47: 0 | E47: 0 | F47: =SUM(C47:E47) -> 0
A48: Egyéb működési célú átvett pénzeszközök | B48: B63 | C48: 0 | D48: 0 | E48: 0 | F48: =SUM(C48:E48) -> 0
A49: Működési célú átvett pénzeszközök | B49: B6 | C49: =SUM(C46:C48) -> 0 | D49: =SUM(D46:D48) -> 0 | E49: =SUM(E46:E48) -> 0 | F49: =SUM(C49:E49) -> 0
A50: Működési bevételek összesen | F50: =SUM(C50:E50) -> 0
A51: Felhalmozási célú önkormányzati támogatások | B51: B21 | C51: 0 | D51: 0 | E51: 0 | F51: =SUM(C51:E51) -> 0
A52: Felhalmozási célú garancia- és kezességvállalásból származó megtérülések államháztartáson belülről | B52: B22 | C52: 0 | D52: 0 | E52: 0 | F52: =SUM(C52:E52) -> 0
A53: Felhalmozási célú visszatérítendő támogatások, kölcsönök visszatérülése államháztartáson belülről | B53: B23 | C53: 0 | D53: 0 | E53: 0 | F53: =SUM(C53:E53) -> 0
A54: Felhalmozási célú visszatérítendő támogatások, kölcsönök igénybevétele államháztartáson belülről | B54: B24 | C54: 0 | D54: 0 | E54: 0 | F54: =SUM(C54:E54) -> 0
A55: Egyéb felhalmozási célú támogatások bevételei államháztartáson belülről | B55: B25 | C55: 0 | D55: 0 | E55: 0 | F55: =SUM(C55:E55) -> 0
A56: Felhalmozási célú támogatások államháztartáson belülről | B56: B2 | C56: =SUM(C51:C55) -> 0 | D56: =SUM(D51:D55) -> 0 | E56: =SUM(E51:E55) -> 0 | F56: =SUM(C56:E56) -> 0
A57: Immateriális javak értékesítése | B57: B51 | C57: 0 | D57: 0 | E57: 0 | F57: =SUM(C57:E57) -> 0
A58: Ingatlanok értékesítése | B58: B52 | C58: 0 | D58: 0 | E58: 0 | F58: =SUM(C58:E58) -> 0
A59: Egyéb tárgyi eszközök értékesítése | B59: B53 | C59: 0 | D59: 0 | E59: 0 | F59: =SUM(C59:E59) -> 0
A60: Részesedések értékesítése | B60: B54 | C60: 0 | D60: 0 | E60: 0 | F60: =SUM(C60:E60) -> 0
A61: Részesedések megszűnéséhez kapcsolódó bevételek | B61: B55 | C61: 0 | D61: 0 | E61: 0 | F61: =SUM(C61:E61) -> 0
A62: Felhalmozási bevételek | B62: B5 | C62: =SUM(C57:C61) -> 0 | D62: =SUM(D57:D61) -> 0 | E62: =SUM(E57:E61) -> 0 | F62: =SUM(C62:E62) -> 0
A63: Felhalmozási célú garancia- és kezességvállalásból származó megtérülések államháztartáson kívülről | B63: B71 | C63: 0 | D63: 0 | E63: 0 | F63: =SUM(C63:E63) -> 0
A64: Felhalmozási célú visszatérítendő támogatások, kölcsönök visszatérülése államháztartáson kívülről | B64: B72 | C64: 0 | D64: 0 | E64: 0 | F64: =SUM(C64:E64) -> 0
A65: Egyéb felhalmozási célú átvett pénzeszközök | B65: B73 | C65: 0 | D65: 0 | E65: 0 | F65: =SUM(C65:E65) -> 0
A66: Felhalmozási célú átvett pénzeszközök | B66: B7 | C66: =SUM(C63:C65) -> 0 | D66: =SUM(D63:D65) -> 0 | E66: =SUM(E63:E65) -> 0 | F66: =SUM(C66:E66) -> 0
A67: Felhalmozási bevételek összesen | F67: =SUM(C67:E67) -> 0
A68: Költségvetési bevételek | B68: B1-B7 | C68: =C20+C34+C45+C49+C56+C62+C66 -> 0 | D68: =D20+D34+D45+D49+D56+D62+D66 -> 0 | E68: =E20+E34+E45+E49+E56+E62+E66 -> 0 | F68: =SUM(C68:E68) -> 0
A69: Működési bevételek és működési kiadások egyenlege | F69: =SUM(C69:E69) -> 0
A70: Felhalmozási bevételek és a felhalmozási kiadások egyenlege | F70: =SUM(C70:E70) -> 0
A71: Hosszú lejáratú hitelek, kölcsönök felvétele | B71: B8111 | C71: 0 | D71: 0 | E71: 0 | F71: =SUM(C71:E71) -> 0
A72: Likviditási célú hitelek, kölcsönök felvétele pénzügyi vállalkozástól | B72: B8112 | C72: 0 | D72: 0 | E72: 0 | F72: =SUM(C72:E72) -> 0
A73: Rövid lejáratú hitelek, kölcsönök felvétele | B73: B8113 | C73: 0 | D73: 0 | E73: 0 | F73: =SUM(C73:E73) -> 0
A74: Hitel-, kölcsönfelvétel államháztartáson kívülről | B74: B811 | C74: =SUM(C71:C73) -> 0 | D74: =SUM(D71:D73) -> 0 | E74: =SUM(E71:E73) -> 0 | F74: =SUM(C74:E74) -> 0
A75: Forgatási célú belföldi értékpapírok beváltása, értékesítése | B75: B8121 | C75: 0 | D75: 0 | E75: 0 | F75: =SUM(C75:E75) -> 0
A76: Forgatási célú belföldi értékpapírok kibocsátása | B76: B8122 | C76: 0 | D76: 0 | E76: 0 | F76: =SUM(C76:E76) -> 0
A77: Befektetési célú belföldi értékpapírok beváltása, értékesítése | B77: B8123 | C77: 0 | D77: 0 | E77: 0 | F77: =SUM(C77:E77) -> 0
A78: Befektetési célú belföldi értékpapírok kibocsátása | B78: B8124 | C78: 0 | D78: 0 | E78: 0 | F78: =SUM(C78:E78) -> 0
A79: Belföldi értékpapírok bevételei | B79: B812 | C79: =SUM(C75:C78) -> 0 | D79: =SUM(D75:D78) -> 0 | E79: =SUM(E75:E78) -> 0 | F79: =SUM(C79:E79) -> 0
A80: Előző év költségvetési maradványának igénybevétele MŰKÖDÉSRE | B80: B8131 | C80: 0 | D80: 0 | E80: 0 | F80: =SUM(C80:E80) -> 0
A81: Előző év költségvetési maradványának igénybevétele FELHALMOZÁSRA | B81: B8131 | C81: 0 | D81: 0 | E81: 0 | F81: =SUM(C81:E81) -> 0
A82: Előző év vállalkozási maradványának igénybevétele MŰKÖDÉSRE | B82: B8132 | C82: 0 | D82: 0 | E82: 0 | F82: =SUM(C82:E82) -> 0
A83: Előző év vállalkozási maradványának igénybevétele FELHALMOZÁSRA | B83: B8132 | C83: 0 | D83: 0 | E83: 0 | F83: =SUM(C83:E83) -> 0
A84: Maradvány igénybevétele | B84: B813 | C84: =SUM(C80:C83) -> 0 | D84: =SUM(D80:D83) -> 0 | E84: =SUM(E80:E83) -> 0 | F84: =SUM(C84:E84) -> 0
A85: Államháztartáson belüli megelőlegezések | B85: B814 | C85: 0 | D85: 0 | E85: 0 | F85: =SUM(C85:E85) -> 0
A86: Államháztartáson belüli megelőlegezések törlesztése | B86: B815 | C86: 0 | D86: 0 | E86: 0 | F86: =SUM(C86:E86) -> 0
A87: Központi, irányító szervi támogatás | B87: B816 | C87: 23294 | D87: 0 | E87: 0 | F87: =SUM(C87:E87) -> 23294
A88: Betétek megszüntetése | B88: B817 | C88: 0 | D88: 0 | E88: 0 | F88: =SUM(C88:E88) -> 0
A89: Központi költségvetés sajátos finanszírozási bevételei | B89: B818 | C89: 0 | D89: 0 | E89: 0 | F89: =SUM(C89:E89) -> 0
A90: Belföldi finanszírozás bevételei | B90: B81 | C90: =C74+C79+C84+C85+C87+C86+C88+C89 -> 23294 | D90: =D74+D79+D84+D85+D87+D86+D88+D89 -> 0 | E90: =E74+E79+E84+E85+E87+E86+E88+E89 -> 0 | F90: =SUM(C90:E90) -> 23294
A91: Forgatási célú külföldi értékpapírok beváltása, értékesítése | B91: B821 | C91: 0 | D91: 0 | E91: 0 | F91: =SUM(C91:E91) -> 0
A92: Befektetési célú külföldi értékpapírok beváltása, értékesítése | B92: B822 | C92: 0 | D92: 0 | E92: 0 | F92: =SUM(C92:E92) -> 0
A93: Külföldi értékpapírok kibocsátása | B93: B823 | C93: 0 | D93: 0 | E93: 0 | F93: =SUM(C93:E93) -> 0
A94: Külföldi hitelek, kölcsönök felvétele | B94: B824 | C94: 0 | D94: 0 | E94: 0 | F94: =SUM(C94:E94) -> 0
A95: Külföldi finanszírozás bevételei | B95: B82 | C95: 0 | D95: 0 | E95: 0 | F95: =SUM(C95:E95) -> 0
A96: Adóssághoz nem kapcsolódó származékos ügyletek bevételei | B96: B83 | C96: 0 | D96: 0 | E96: 0 | F96: =SUM(C96:E96) -> 0
A97: Finanszírozási bevételek | B97: B8 | C97: =C90+C95+C96 -> 23294 | D97: =D90+D95+D96 -> 0 | E97: =E90+E95+E96 -> 0 | F97: =SUM(C97:E97) -> 23294
A98: BEVÉTELEK ÖSSZESEN (B1-8) | C98: =C68+C97 -> 23294 | D98: =D68+D97 -> 0 | E98: =E68+E97 -> 0 | F98: =SUM(C98:E98) -> 23294

Sheet 7. melléklet 
B1: 7. melléklet 1/2017. (I.31) önkormányzati rendelethez
A3: SOROKPOLÁNY Önkormányzat 2017. évi költségvetése
A4: Bevételek (E Ft)
A6: Sorokpolány Önkormányzat és költségvetési szervei előirányzat | C6: EREDETI ELŐIRÁNYZAT
A7: Rovat megnevezése | B7: Rovat- szám | C7: kötelező feladatok | D7: önként vállalt feladatok | E7: államigazgatási feladatok | F7: ÖSSZESEN
A8: Helyi önkormányzatok működésének általános támogatása | B8: B111 | C8: ='5. melléklet'!C8+'6. melléklet '!C8 -> 9655 | D8: ='5. melléklet'!D8+'6. melléklet '!D8 -> 0 | E8: ='5. melléklet'!E8+'6. melléklet '!E8 -> 0 | F8: =SUM(C8:E8) -> 9655
A9: Települési önkormányzatok egyes köznevelési feladatainak támogatása | B9: B112 | C9: ='5. melléklet'!C9+'6. melléklet '!C9 -> 14907 | D9: ='5. melléklet'!D9+'6. melléklet '!D9 -> 0 | E9: ='5. melléklet'!E9+'6. melléklet '!E9 -> 0 | F9: =SUM(C9:E9) -> 14907
A10: Települési önkormányzatok szociális és gyermekjóléti feladatainak támogatása | B10: B113 | C10: ='5. melléklet'!C10+'6. melléklet '!C10 -> 8979 | D10: ='5. melléklet'!D10+'6. melléklet '!D10 -> 0 | E10: ='5. melléklet'!E10+'6. melléklet '!E10 -> 0 | F10: =SUM(C10:E10) -> 8979
A11: Települési önkormányzatok kulturális feladatainak támogatása | B11: B114 | C11: ='5. melléklet'!C11+'6. melléklet '!C11 -> 1200 | D11: ='5. melléklet'!D11+'6. melléklet '!D11 -> 0 | E11: ='5. melléklet'!E11+'6. melléklet '!E11 -> 0 | F11: =SUM(C11:E11) -> 1200
A12: Működési célú központosított előirányzatok | B12: B115 | C12: ='5. melléklet'!C12+'6. melléklet '!C12 -> 0 | D12: ='5. melléklet'!D12+'6. melléklet '!D12 -> 0 | E12: ='5. melléklet'!E12+'6. melléklet '!E12 -> 0 | F12: =SUM(C12:E12) -> 0
A13: Elszámolásból származó bevételek | B13: B116 | C13: ='5. melléklet'!C13+'6. melléklet '!C13 -> 0 | D13: ='5. melléklet'!D13+'6. melléklet '!D13 -> 0 | E13: ='5. melléklet'!E13+'6. melléklet '!E13 -> 0 | F13: =SUM(C13:E13) -> 0
A14: Önkormányzatok működési támogatásai | B14: B11 | C14: ='5. melléklet'!C14+'6. melléklet '!C14 -> 34741 | D14: ='5. melléklet'!D14+'6. melléklet '!D14 -> 0 | E14: ='5. melléklet'!E14+'6. melléklet '!E14 -> 0 | F14: =SUM(C14:E14) -> 34741
A15: Elvonások és befizetések bevételei | B15: B12 | C15: ='5. melléklet'!C15+'6. melléklet '!C15 -> 0 | D15: ='5. melléklet'!D15+'6. melléklet '!D15 -> 0 | E15: ='5. melléklet'!E15+'6. melléklet '!E15 -> 0 | F15: =SUM(C15:E15) -> 0
A16: Működési célú garancia- és kezességvállalásból származó megtérülések államháztartáson belülről | B16: B13 | C16: ='5. melléklet'!C16+'6. melléklet '!C16 -> 0 | D16: ='5. melléklet'!D16+'6. melléklet '!D16 -> 0 | E16: ='5. melléklet'!E16+'6. melléklet '!E16 -> 0 | F16: =SUM(C16:E16) -> 0
A17: Működési célú visszatérítendő támogatások, kölcsönök visszatérülése államháztartáson belülről | B17: B14 | C17: ='5. melléklet'!C17+'6. melléklet '!C17 -> 0 | D17: ='5. melléklet'!D17+'6. melléklet '!D17 -> 0 | E17: ='5. melléklet'!E17+'6. melléklet '!E17 -> 0 | F17: =SUM(C17:E17) -> 0
A18: Működési célú visszatérítendő támogatások, kölcsönök igénybevétele államháztartáson belülről | B18: B15 | C18: ='5. melléklet'!C18+'6. melléklet '!C18 -> 0 | D18: ='5. melléklet'!D18+'6. melléklet '!D18 -> 0 | E18: ='5. melléklet'!E18+'6. melléklet '!E18 -> 0 | F18: =SUM(C18:E18) -> 0
A19: Egyéb működési célú támogatások bevételei államháztartáson belülről | B19: B16 | C19: ='5. melléklet'!C19+'6. melléklet '!C19 -> 168 | D19: ='5. melléklet'!D19+'6. melléklet '!D19 -> 0 | E19: ='5. melléklet'!E19+'6. melléklet '!E19 -> 0 | F19: =SUM(C19:E19) -> 168
... A49: Működési célú átvett pénzeszközök | B49: B6 | C49: ='5. melléklet'!C49+'6. melléklet '!C49 -> 0 | D49: ='5. melléklet'!D49+'6. melléklet '!D49 -> 0 | E49: ='5. melléklet'!E49+'6. melléklet '!E49 -> 0 | F49: =SUM(C49:E49) -> 0
A50: Működési bevételek összesen | C50: ='5. melléklet'!C50+'6. melléklet '!C50 -> 0 | D50: ='5. melléklet'!D50+'6. melléklet '!D50 -> 0 | E50: ='5. melléklet'!E50+'6. melléklet '!E50 -> 0 | F50: =SUM(C50:E50) -> 0
A51: Felhalmozási célú önkormányzati támogatások | B51: B21 | C51: ='5. melléklet'!C51+'6. melléklet '!C51 -> 0 | D51: ='5. melléklet'!D51+'6. melléklet '!D51 -> 0 | E51: ='5. melléklet'!E51+'6. melléklet '!E51 -> 0 | F51: =SUM(C51:E51) -> 0
A52: Felhalmozási célú garancia- és kezességvállalásból származó megtérülések államháztartáson belülről | B52: B22 | C52: ='5. melléklet'!C52+'6. melléklet '!C52 -> 0 | D52: ='5. melléklet'!D52+'6. melléklet '!D52 -> 0 | E52: ='5. melléklet'!E52+'6. melléklet '!E52 -> 0 | F52: =SUM(C52:E52) -> 0
A53: Felhalmozási célú visszatérítendő támogatások, kölcsönök visszatérülése államháztartáson belülről | B53: B23 | C53: ='5. melléklet'!C53+'6. melléklet '!C53 -> 0 | D53: ='5. melléklet'!D53+'6. melléklet '!D53 -> 0 | E53: ='5. melléklet'!E53+'6. melléklet '!E53 -> 0 | F53: =SUM(C53:E53) -> 0
A54: Felhalmozási célú visszatérítendő támogatások, kölcsönök igénybevétele államháztartáson belülről | B54: B24 | C54: ='5. melléklet'!C54+'6. melléklet '!C54 -> 0 | D54: ='5. melléklet'!D54+'6. melléklet '!D54 -> 0 | E54: ='5. melléklet'!E54+'6. melléklet '!E54 -> 0 | F54: =SUM(C54:E54) -> 0
A55: Egyéb felhalmozási célú támogatások bevételei államháztartáson belülről | B55: B25 | C55: ='5. melléklet'!C55+'6. melléklet '!C55 -> 0 | D55: ='5. melléklet'!D55+'6. melléklet '!D55 -> 0 | E55: ='5. melléklet'!E55+'6. melléklet '!E55 -> 0 | F55: =SUM(C55:E55) -> 0
A56: Felhalmozási célú támogatások államháztartáson belülről | B56: B2 | C56: ='5. melléklet'!C56+'6. melléklet '!C56 -> 0 | D56: ='5. melléklet'!D56+'6. melléklet '!D56 -> 0 | E56: ='5. melléklet'!E56+'6. melléklet '!E56 -> 0 | F56: =SUM(C56:E56) -> 0
A57: Immateriális javak értékesítése | B57: B51 | C57: ='5. melléklet'!C57+'6. melléklet '!C57 -> 0 | D57: ='5. melléklet'!D57+'6. melléklet '!D57 -> 0 | E57: ='5. melléklet'!E57+'6. melléklet '!E57 -> 0 | F57: =SUM(C57:E57) -> 0
A58: Ingatlanok értékesítése | B58: B52 | C58: ='5. melléklet'!C58+'6. melléklet '!C58 -> 0 | D58: ='5. melléklet'!D58+'6. melléklet '!D58 -> 0 | E58: ='5. melléklet'!E58+'6. melléklet '!E58 -> 0 | F58: =SUM(C58:E58) -> 0
A59: Egyéb tárgyi eszközök értékesítése | B59: B53 | C59: ='5. melléklet'!C59+'6. melléklet '!C59 -> 0 | D59: ='5. melléklet'!D59+'6. melléklet '!D59 -> 0 | E59: ='5. melléklet'!E59+'6. melléklet '!E59 -> 0 | F59: =SUM(C59:E59) -> 0
A60: Részesedések értékesítése | B60: B54 | C60: ='5. melléklet'!C60+'6. melléklet '!C60 -> 0 | D60: ='5. melléklet'!D60+'6. melléklet '!D60 -> 0 | E60: ='5. melléklet'!E60+'6. melléklet '!E60 -> 0 | F60: =SUM(C60:E60) -> 0
A61: Részesedések megszűnéséhez kapcsolódó bevételek | B61: B55 | C61: ='5. melléklet'!C61+'6. melléklet '!C61 -> 0 | D61: ='5. melléklet'!D61+'6. melléklet '!D61 -> 0 | E61: ='5. melléklet'!E61+'6. melléklet '!E61 -> 0 | F61: =SUM(C61:E61) -> 0
A62: Felhalmozási bevételek | B62: B5 | C62: ='5. melléklet'!C62+'6. melléklet '!C62 -> 0 | D62: ='5. melléklet'!D62+'6. melléklet '!D62 -> 0 | E62: ='5. melléklet'!E62+'6. melléklet '!E62 -> 0 | F62: =SUM(C62:E62) -> 0
... A66: Felhalmozási célú átvett pénzeszközök | B66: B7 | C66: ='5. melléklet'!C66+'6. melléklet '!C66 -> 0 | D66: ='5. melléklet'!D66+'6. melléklet '!D66 -> 0 | E66: ='5. melléklet'!E66+'6. melléklet '!E66 -> 0 | F66: =SUM(C66:E66) -> 0
A67: Felhalmozási bevételek összesen | C67: ='5. melléklet'!C67+'6. melléklet '!C67 -> 0 | D67: ='5. melléklet'!D67+'6. melléklet '!D67 -> 0 | E67: ='5. melléklet'!E67+'6. melléklet '!E67 -> 0 | F67: =SUM(C67:E67) -> 0
A68: Költségvetési bevételek | B68: B1-B7 | C68: ='5. melléklet'!C68+'6. melléklet '!C68 -> 52384 | D68: ='5. melléklet'!D68+'6. melléklet '!D68 -> 300 | E68: ='5. melléklet'!E68+'6. melléklet '!E68 -> 20 | F68: =SUM(C68:E68) -> 52704
A69: Működési bevételek és működési kiadások egyenlege | C69: ='5. melléklet'!C69+'6. melléklet '!C69 -> 0 | D69: ='5. melléklet'!D69+'6. melléklet '!D69 -> 0 | E69: ='5. melléklet'!E69+'6. melléklet '!E69 -> 0 | F69: =SUM(C69:E69) -> 0
A70: Felhalmozási bevételek és a felhalmozási kiadások egyenlege | C70: ='5. melléklet'!C70+'6. melléklet '!C70 -> 0 | D70: ='5. melléklet'!D70+'6. melléklet '!D70 -> 0 | E70: ='5. melléklet'!E70+'6. melléklet '!E70 -> 0 | F70: =SUM(C70:E70) -> 0
A71: Hosszú lejáratú hitelek, kölcsönök felvétele | B71: B8111 | C71: ='5. melléklet'!C71+'6. melléklet '!C71 -> 0 | D71: ='5. melléklet'!D71+'6. melléklet '!D71 -> 0 | E71: ='5. melléklet'!E71+'6. melléklet '!E71 -> 0 | F71: =SUM(C71:E71) -> 0
A72: Likviditási célú hitelek, kölcsönök felvétele pénzügyi vállalkozástól | B72: B8112 | C72: ='5. melléklet'!C72+'6. melléklet '!C72 -> 0 | D72: ='5. melléklet'!D72+'6. melléklet '!D72 -> 0 | E72: ='5. melléklet'!E72+'6. melléklet '!E72 -> 0 | F72: =SUM(C72:E72) -> 0
A73: Rövid lejáratú hitelek, kölcsönök felvétele | B73: B8113 | C73: ='5. melléklet'!C73+'6. melléklet '!C73 -> 0 | D73: ='5. melléklet'!D73+'6. melléklet '!D73 -> 0 | E73: ='5. melléklet'!E73+'6. melléklet '!E73 -> 0 | F73: =SUM(C73:E73) -> 0
A74: Hitel-, kölcsönfelvétel államháztartáson kívülről | B74: B811 | C74: ='5. melléklet'!C74+'6. melléklet '!C74 -> 0 | D74: ='5. melléklet'!D74+'6. melléklet '!D74 -> 0 | E74: ='5. melléklet'!E74+'6. melléklet '!E74 -> 0 | F74: =SUM(C74:E74) -> 0
A75: Forgatási célú belföldi értékpapírok beváltása, értékesítése | B75: B8121 | C75: ='5. melléklet'!C75+'6. melléklet '!C75 -> 0 | D75: ='5. melléklet'!D75+'6. melléklet '!D75 -> 0 | E75: ='5. melléklet'!E75+'6. melléklet '!E75 -> 0 | F75: =SUM(C75:E75) -> 0
A76: Forgatási célú belföldi értékpapírok kibocsátása | B76: B8122 | C76: ='5. melléklet'!C76+'6. melléklet '!C76 -> 0 | D76: ='5. melléklet'!D76+'6. melléklet '!D76 -> 0 | E76: ='5. melléklet'!E76+'6. melléklet '!E76 -> 0 | F76: =SUM(C76:E76) -> 0
A77: Befektetési célú belföldi értékpapírok beváltása, értékesítése | B77: B8123 | C77: ='5. melléklet'!C77+'6. melléklet '!C77 -> 0 | D77: ='5. melléklet'!D77+'6. melléklet '!D77 -> 0 | E77: ='5. melléklet'!E77+'6. melléklet '!E77 -> 0 | F77: =SUM(C77:E77) -> 0
A78: Befektetési célú belföldi értékpapírok kibocsátása | B78: B8124 | C78: ='5. melléklet'!C78+'6. melléklet '!C78 -> 0 | D78: ='5. melléklet'!D78+'6. melléklet '!D78 -> 0 | E78: ='5. melléklet'!E78+'6. melléklet '!E78 -> 0 | F78: =SUM(C78:E78) -> 0
A79: Belföldi értékpapírok bevételei | B79: B812 | C79: ='5. melléklet'!C79+'6. melléklet '!C79 -> 0 | D79: ='5. melléklet'!D79+'6. melléklet '!D79 -> 0 | E79: ='5. melléklet'!E79+'6. melléklet '!E79 -> 0 | F79: =SUM(C79:E79) -> 0
A80: Előző év költségvetési maradványának igénybevétele MŰKÖDÉSRE | B80: B8131 | C80: ='5. melléklet'!C80+'6. melléklet '!C80 -> 19500 | D80: ='5. melléklet'!D80+'6. melléklet '!D80 -> 0 | E80: ='5. melléklet'!E80+'6. melléklet '!E80 -> 0 | F80: =SUM(C80:E80) -> 19500
A81: Előző év költségvetési maradványának igénybevétele FELHALMOZÁSRA | B81: B8131 | C81: ='5. melléklet'!C81+'6. melléklet '!C81 -> 0 | D81: ='5. melléklet'!D81+'6. melléklet '!D81 -> 0 | E81: ='5. melléklet'!E81+'6. melléklet '!E81 -> 0 | F81: =SUM(C81:E81) -> 0
A82: Előző év vállalkozási maradványának igénybevétele MŰKÖDÉSRE | B82: B8132 | C82: ='5. melléklet'!C82+'6. melléklet '!C82 -> 0 | D82: ='5. melléklet'!D82+'6. melléklet '!D82 -> 0 | E82: ='5. melléklet'!E82+'6. melléklet '!E82 -> 0 | F82: =SUM(C82:E82) -> 0
... A97: Finanszírozási bevételek | B97: B8 | C97: ='5. melléklet'!C97+'6. melléklet '!C97 -> 42794 | D97: ='5. melléklet'!D97+'6. melléklet '!D97 -> 0 | E97: ='5. melléklet'!E97+'6. melléklet '!E97 -> 0 | F97: =SUM(C97:E97) -> 42794
A98: BEVÉTELEK ÖSSZESEN (B1-8) | C98: ='5. melléklet'!C98+'6. melléklet '!C98 -> 95178 | D98: ='5. melléklet'!D98+'6. melléklet '!D98 -> 300 | E98: ='5. melléklet'!E98+'6. melléklet '!E98 -> 20 | F98: =SUM(C98:E98) -> 95498

Sheet 8. melléklet
A1: 8. melléklet 1/2017. (I.31) önkormányzati rendelethez
A3: SOROKPOLÁNY Önkormányzat 2017. évi költségvetése
A4: Beruházások és felújítások (E Ft)
A6: Rovat megnevezése | B6: Rovat-szám | C6: ÖNKORMÁNYZATI ELŐIRÁNYZATOK | D6: BÓBITA ÓVODA | E6: MINDÖSSZESEN
A11: Immateriális javak beszerzése, létesítése | B11: K61
A16: Ingatlanok beszerzése, létesítése | B16: K62
A21: Informatikai eszközök beszerzése, létesítése | B21: K63
A22: Önkormányzat irodabútor | C22: 244
A23: Fűnyíró, egyéb eszközök | C23: 106
A24: Könyvtár bútor | C24: 229
A25: Egyéb tárgyi eszközök beszerzése, létesítése | B25: K64 | C25: 579
A28: Részesedések beszerzése | B28: K65
A31: Meglévő részesedések növeléséhez kapcsolódó kiadások | B31: K66
A32: Beruházási célú előzetesen felszámított általános forgalmi adó | B32: K67
A33: Beruházások | B33: K6
A38: Ingatlanok felújítása | B38: K71
A43: Informatikai eszközök felújítása | B43: K72
A48: Egyéb tárgyi eszközök felújítása | B48: K73
A49: Felújítási célú előzetesen felszámított általános forgalmi adó | B49: K74
A50: Felújítások | B50: K7
A53: Megnevezés | B53: Rovat | C53: nettó | E53: áfa | F53: bruttó
A58: Immateriális javak beszerzése, létesítése | B58: K61
A63: Ingatlanok beszerzése, létesítése | B63: K62
A68: Informatikai eszközök beszerzése, létesítése | B68: K63
A71: Egyéb tárgyi eszközök beszerzése, létesítése | B71: K64
A72: Beruházások | B72: K6
A75: Vízesblokk kialakítás
A77: Ingatlanok felújítása | B77: K71
A82: Informatikai eszközök felújítása | B82: K72
A87: Egyéb tárgyi eszközök felújítása | B87: K73
A88: Felújítások | B88: K7

Sheet 9. melléklet
B1: 9. melléklet 1/2017. (I.31) önkormányzati rendelethez
A3: SOROKPOLÁNY Önkormányzat 2017. évi költségvetése
A4: Foglalkoztatottak létszáma (fő)
A7: MEGNEVEZÉS | B7: Költségvetési engedélyezett létszámkeret (álláshely) (fő) ÖNKORMÁNYZAT | C7: Költségvetési engedélyezett létszámkeret (álláshely) (fő) BÓBITA ÓVODA | D7: MINDÖSSZESEN
A8: főjegyző, jegyző, aljegyző, címzetes főjegyző, körjegyző | D8: =SUM(B8:C8) -> 0
A9: I. besorolási osztály összesen | D9: =SUM(B9:C9) -> 0
A10: II. besorolási osztály összesen | D10: =SUM(B10:C10) -> 0
A11: III. besorolási osztály összesen | D11: =SUM(B11:C11) -> 0
A12: KÖZTISZTVISELŐK, KORMÁNYTISZTVISELŐK ÖSSZESEN | B12: =SUM(B8:B11) -> 0 | C12: =SUM(C8:C11) -> 0 | D12: =SUM(B12:C12) -> 0
A13: igazgató (főigazgató), igazgatóhelyettes (főigazgató-helyettes) | D13: =SUM(B13:C13) -> 0
A14: főosztályvezető, főosztályvezető-helyettes, osztályvezető, ügykezelő osztályvezető, további vezető | D14: =SUM(B14:C14) -> 0
A15: főtanácsos, főmunkatárs, tanácsos, munkatárs | D15: =SUM(B15:C15) -> 0
A16: "A", "B" fizetési osztály összesen | B16: 0 | C16: 2 | D16: =SUM(B16:C16) -> 2
A17: "C", "D" fizetési osztály összesen | D17: =SUM(B17:C17) -> 0
A18: "E"-"J" fizetési osztály összesen | C18: 4 | D18: =SUM(B18:C18) -> 4
A19: kutató, felsőoktatásban oktató | D19: =SUM(B19:C19) -> 0
A20: KÖZALKALMAZOTTAK ÖSSZESEN | B20: =SUM(B13:B19) -> 0 | C20: =SUM(C13:C19) -> 6 | D20: =SUM(B20:C20) -> 6
A21: fizikai alkalmazott, a költségvetési szerveknél foglalkoztatott egyéb munkavállaló (fizikai alkalmazott) | B21: 2 | C21: 1 | D21: =SUM(B21:C21) -> 3
A22: ösztöndíjas foglalkoztatott | D22: =SUM(B22:C22) -> 0
A23: közfoglalkoztatott | D23: =SUM(B23:C23) -> 0
A24: EGYÉB BÉRRENDSZER ÖSSZESEN | B24: =SUM(B21:B23) -> 2 | C24: =SUM(C21:C23) -> 1 | D24: =SUM(B24:C24) -> 3
A25: polgármester, főpolgármester | B25: 1 | D25: =SUM(B25:C25) -> 1
A26: helyi önkormányzati képviselő-testület tagja, megyei közgyűlés tagja | B26: 3 | D26: =SUM(B26:C26) -> 3
A27: alpolgármester, főpolgármester-helyettes, megyei közgyűlés elnöke, alelnöke | B27: 1 | D27: =SUM(B27:C27) -> 1
A28: VÁLASZTOTT TISZTSÉGVISELŐK ÖSSZESEN | B28: =SUM(B25:B27) -> 5 | C28: =SUM(C25:C27) -> 0 | D28: =SUM(B28:C28) -> 5
A29: KÖLTSÉGVETÉSI ENGEDÉLYEZETT LÉTSZÁMKERETBE TARTOZÓ FOGLALKOZTATOTTAK LÉTSZÁMA MINDÖSSZESEN | B29: =SUM(B28,B24,B20,B12) -> 7 | C29: =SUM(C28,C24,C20,C12) -> 7 | D29: =SUM(B29:C29) -> 14
A30: prémiumévek programról és a különleges foglalkoztatási állományról szóló 2004. évi CXXII. törvény alapján foglalkoztatott prémiumévesek | D30: =SUM(B30:C30) -> 0
A31: prémiumévek programról és a különleges foglalkoztatási állományról szóló 2004. évi CXXII. törvény alapján foglalkoztatott különleges foglalkoztatási állományba helyezettek létszáma | D31: =SUM(B31:C31) -> 0
A32: ösztöndíjas foglalkoztatottak (Pftv, illetve Magyar Közigazgatási Ösztöndíjról szóló 228/2011. (X. 28.) Korm. rendelet) | D32: =SUM(B32:C32) -> 0
A33: munkaerőpiactól tartósan távol lévő személyek | D33: =SUM(B33:C33) -> 0
A34: KÖLTSÉGVETÉSI ENGEDÉLYEZETT LÉTSZÁMKERETBE NEM TARTOZÓ FOGLALKOZTATOTTAK LÉTSZÁMA AZ IDŐSZAK VÉGÉN ÖSSZESEN | B34: =SUM(B30:B33) -> 0 | C34: =SUM(C30:C33) -> 0 | D34: =SUM(B34:C34) -> 0

Sheet 10. melléklet
A1: 10. melléklet 1/2017. (I.31) önkormányzati rendelethez
A3: SOROKPOLÁNY Önkormányzat 2017. évi költségvetése
A4: Az európai uniós forrásból finanszírozott támogatással megvalósuló programok, projektek kiadásai, bevételei, valamint a helyi önkormányzat ilyen projektekhez történő hozzájárulásai (E Ft)
A7: Projekt megnevezése | B7: Eredeti ei.
A8: K1. Személyi juttatások
A9: K2. Munkaadókat terhelő járulékok és szociális hozzájárulási adó
A10: K3. Dologi kiadások
A11: K4. Ellátottak pénzbeli juttatásai
A12: K5. Egyéb működési célú kiadások
A13: K6. Beruházási kiadások
A14: K7. Felújítások
A15: K8. Egyéb felhalmozási célú kiadások
A16: K1-K8. Költségvetési kiadások ÖSSZESEN | B16: =SUM(B8:B15) -> 0
A17: B16 Működési célú támogatások fejezeti kezelésű előirányzatok EU-s programokra és azok hazai társfinanszírozásától
A18: B25 Felhalmozási célú támogatásokfejezeti kezelésű előirányzatok EU-s programokra és azok hazai társfinanszírozásától
A19: B63 Működési célú átvett pénzeszközök Európai Uniótól
A20: B73 Felhalmozási célú átvett pénzeszközök Európai Uniótól
A21: B1-7 A helyi önkormányzat projekthez történő hozzájárulása
A22: B1-B7 Költségvetési bevételek | B22: =SUM(B17:B21) -> 0
A23: B8 Finanszírozási bevételek- önkormányzat projekthez történő hozzájárulása
A24: BEVÉTELEK ÖSSZESEN | B24: =SUM(B22,B23,) -> 0

Sheet 11. melléklet
H1: 11. melléklet 1/2017. (I.31) önkormányzati rendelethez
A2: SOROKPOLÁNY Önkormányzat 2017. évi költségvetése
A3: A költségvetési év azon fejlesztési céljai, amelyek megvalósításához a Gst. 3. § (1) bekezdése szerinti adósságot keletkeztető ügylet megkötése válik vagy válhat szükségessé (E Ft)
A5: ÖNKORMÁNYZATI ELŐIRÁNYZATOK
A6: Rovat megnevezése | B6: Rovat-szám | C6: kiadási eredeti előirányzat | D6: ebből kiadási előirányzat fedezete-saját forrás | E6: ebből kiadási előirányzat fedezete-adósságot keletkeztető ügylet | F6: adósságot keletkeztető ügylet fajtája | G6: adósságot keletkeztető ügylet rovatszáma (B8) | H6: adósságot keletkeztető ügylet kezdő időpontja | I6: adósságot keletkeztető ügylet lejárati időpontja | J6: adósságot keletkeztető ügylet- várható visszatérítendő összege (kamattal) leáratig mindösszesen
F7: hitel/lízing/kölcsön/értékpapír
A11: Immateriális javak beszerzése, létesítése | B11: K61
A16: Ingatlanok beszerzése, létesítése | B16: K62
A21: Informatikai eszközök beszerzése, létesítése | B21: K63
A24: Egyéb tárgyi eszközök beszerzése, létesítése | B24: K64
A27: Részesedések beszerzése | B27: K65
A30: Meglévő részesedések növeléséhez kapcsolódó kiadások | B30: K66
A31: Beruházási célú előzetesen felszámított általános forgalmi adó | B31: K67
A32: Beruházások | B32: K6 | C32: =SUM(C11,C16,C21,C24,C27,C30,C31,) -> 0 | D32: =SUM(D11,D16,D21,D24,D27,D30,D31,) -> 0 | E32: =SUM(E11,E16,E21,E24,E27,E30,E31,) -> 0 | F32: =SUM(F11,F16,F21,F24,F27,F30,F31,) -> 0 | G32: =SUM(G11,G16,G21,G24,G27,G30,G31,) -> 0 | H32: =SUM(H11,H16,H21,H24,H27,H30,H31,) -> 0 | I32: =SUM(I11,I16,I21,I24,I27,I30,I31,) -> 0 | J32: =SUM(J11,J16,J21,J24,J27,J30,J31,) -> 0
A37: Ingatlanok felújítása | B37: K71
A42: Informatikai eszközök felújítása | B42: K72
A47: Egyéb tárgyi eszközök felújítása | B47: K73
A48: Felújítási célú előzetesen felszámított általános forgalmi adó | B48: K74
A49: Felújítások | B49: K7 | C49: =SUM(C37,C42,C47,C48,) -> 0 | D49: =SUM(D37,D42,D47,D48,) -> 0 | E49: =SUM(E37,E42,E47,E48,) -> 0 | F49: =SUM(F37,F42,F47,F48,) -> 0 | G49: =SUM(G37,G42,G47,G48,) -> 0 | H49: =SUM(H37,H42,H47,H48,) -> 0 | I49: =SUM(I37,I42,I47,I48,) -> 0 | J49: =SUM(J37,J42,J47,J48,) -> 0
A50: Az önkormányzati garanciákból és önkormányzati kezességekből fennálló kötelezettségek az adósságot keletkeztető ügyletek futamidejének végéig, illetve a garancia, kezesség érvényesíthetőségéig
A51: ebből:
A52: ebből:
A53: ebből:
A56: Adósságot keletkeztető ügylet és annak értéke:
A58: a) hitel, kölcsön felvétele, átvállalása a folyósítás, átvállalás napjától a végtörlesztés napjáig, és annak aktuális tőketartozása,
A59: b) a számvitelről szóló törvény (a továbbiakban: Szt.) szerinti hitelviszonyt megtestesítő értékpapír forgalomba hozatala a forgalomba hozatal napjától a beváltás napjáig, kamatozó értékpapír esetén annak névértéke, egyéb értékpapír esetén annak vételára,
A60: c) váltó kibocsátása a kibocsátás napjától a beváltás napjáig, és annak a váltóval kiváltott kötelezettséggel megegyező, kamatot nem tartalmazó értéke,
A61: d) az Szt. szerint pénzügyi lízing lízingbevevői félként történő megkötése a lízing futamideje alatt, és a lízingszerződésben kikötött tőkerész hátralévő összege,
A62: e) a visszavásárlási kötelezettség kikötésével megkötött adásvételi szerződés eladói félként történő megkötése - ideértve az Szt. szerinti valódi penziós és óvadéki repóügyleteket is - a visszavásárlásig, és a kikötött visszavásárlási ár,
A63: f) a szerződésben kapott, legalább háromszázhatvanöt nap időtartamú halasztott fizetés, részletfizetés, és a még ki nem fizetett ellenérték,
A64: g) hitelintézetek által, származékos műveletek különbözeteként az Államadósság Kezelő Központ Zrt.-nél (a továbbiakban: ÁKK Zrt.) elhelyezett fedezeti betétek, és azok összege.
A65: (2) Az (1) bekezdés szerinti adósságot keletkeztető ügyletként nem kell figyelembe venni a költségvetési év első hat hónapjában lejáró adósság előző költségvetési évben történő előfinanszírozását, amelynek összege nem haladja meg a költségvetési év első hat hónapja során várható törlesztések összegét.

Sheet 12. melléklet
E1: 12. melléklet 1/2017. (I.31) önkormányzati rendelethez
A3: SOROKPOLÁNY Önkormányzat 2017. évi költségvetése
A4: A Gst. 3. § (1) bekezdése szerinti adósságot keletkeztető ügyletekből és kezességvállalásokból fennálló kötelezettségek az adósságot keletkeztető ügyletek futamidejének végéig, illetve a kezesség érvényesíthetőségéig, és a Gst. 45. § (1) bekezdés a) pontja felhatalmazása alapján kiadott jogszabályban meghatározottak szerinti saját bevételek (E Ft)
A6: ÖNKORMÁNYZATI ELŐIRÁNYZATOK | F6: SAJÁT BEVÉTELEK
A7: Rovat megnevezése | B7: Rovat-szám | C7: adósságot keletkeztető ügylet kezdő időpontja | D7: adósságot keletkeztető ügylet lejárati időpontja | E7: adósságot keletkeztető ügyletekből és kezességvállalásokból fennálló kötelezettségek | F7: 2016 | G7: 2017 | H7: 2018 | I7: 2019
A8: Hosszú lejáratú hitelek, kölcsönök felvétele | B8: B8111
A9: ebből: pénzügyi vállalkozás | B9: B8111
A10: Likviditási célú hitelek, kölcsönök felvétele pénzügyi vállalkozástól | B10: B8112
A11: Rövid lejáratú hitelek, kölcsönök felvétele | B11: B8113
A12: ebből: pénzügyi vállalkozás | B12: B8113
A13: Hitel-, kölcsönfelvétel államháztartáson kívülről | B13: B811
A14: Forgatási célú belföldi értékpapírok beváltása, értékesítése | B14: B8121
A15: ebből: befektetési jegyek | B15: B8121
A16: Forgatási célú belföldi értékpapírok kibocsátása | B16: B8122
A17: Befektetési célú belföldi értékpapírok beváltása, értékesítése | B17: B8123
A18: ebből: kárpótlási jegyek | B18: B8123
A19: Befektetési célú belföldi értékpapírok kibocsátása | B19: B8124
... A28: Külföldi finanszírozás bevételei | B28: B82
A30: Rovat megnevezése | B30: Rovat-szám | C30: saját bevételek 2016. | D30: saját bevételek 2017. | E30: saját bevételek 2018. | F30: saját bevételek 2019.
A31: 353/2011. (XII. 30.) Korm. Rendelet értelmében az önkormányzat saját bevételének minősül
A32: 1.a helyi adóból és a települési adóból származó bevétel,
A33: 2. az önkormányzati vagyon és az önkormányzatot megillető vagyoni értékű jog értékesítéséből és hasznosításából származó bevétel,
A34: 3. az osztalék, a koncessziós díj és a hozambevétel,
A35: 4. a tárgyi eszköz és az immateriális jószág, részvény, részesedés, vállalat értékesítéséből vagy privatizációból származó bevétel,
A36: 5. bírság-, pótlék- és díjbevétel,
A37: 6. a kezesség-, illetve garanciavállalással kapcsolatos megtérülés.
A38: ÖSSZESEN:
A41: Az önkormányzat adósságot keletkeztető ügyletből származó tárgyévi összes fizetési kötelezettsége az adósságot keletkeztető ügylet futamidejének végéig egyik évben sem haladhatja meg az önkormányzat adott évi saját bevételeinek 50%-át.

Sheet 13. melléklet
F1: 13. melléklet 1/2017. (I.31) önkormányzati rendelethez
A3: SOROKPOLÁNY Önkormányzat 2017. évi költségvetése
A4: Általános- és céltartalékok (E Ft)
A7: Rovat megnevezése | B7: Rovat-szám | C7: ÖNKORMÁNYZATI ELŐIRÁNYZATOK | D7: BÓBITA ÓVODA | E7: KÖLTSÉGVETÉSI SZERV | F7: KÖLTSÉGVETÉSI SZERV | G7: KÖLTSÉGVETÉSI SZERV | H7: MINDÖSSZESEN
A12: Általános tartalékok | B12: K513 | C12: 13133 | H12: 13133
A17: Céltartalékok | B17: K513

Sheet 14. melléklet
C2: 14. melléklet 1/2017. (I.31) önkormányzati rendelethez
A4: SOROKPOLÁNY Önkormányzat 2017. évi költségvetése
A5: A közvetett támogatások (E Ft)
A7: ÖNKORMÁNYZATI ELŐIRÁNYZATOK
A8: Rovat megnevezése | B8: Rovat-szám | C8: tervezett elvárt bevétel | D8: közvetett támogatás | E8: várható bevétel
A13: az ellátottak térítési díjának, kártérítésének méltányossági alapon történő elengedésének összege | B13: B405 | C13: =SUM(C9:C12) -> 0 | D13: =SUM(D9:D12) -> 0 | E13: =SUM(E9:E12) -> 0
A18: a lakosság részére lakásépítéshez, lakásfelújításhoz nyújtott kölcsönök elengedésének összege | B18: B72
A19: építményadó | B19: B34
A20: épület után fizetett idegenforgalmi adó | B20: B34
A21: magánszemélyek kommunális adója | B21: B34
A22: telekadó | B22: B34
A23: Gépjárműadók | B23: B354
A24: Értékesítési és forgalmi adók | B24: B351
A26: a helyi adónál, gépjárműadónál biztosított kedvezmény, mentesség összege adónemenként | B26: B3, B7 | C26: =SUM(C18:C24) -> 0 | D26: =SUM(D18:D24) -> 0 | E26: =SUM(E18:E24) -> 0
B27: B402
B28: B5
A31: a helyiségek, eszközök hasznosításából származó bevételből nyújtott kedvezmény, mentesség összege | B31: B4, B5 | C31: =SUM(C27:C28) -> 0 | D31: =SUM(D27:D28) -> 0 | E31: =SUM(E27:E28) -> 0
A36: az egyéb nyújtott kedvezmény vagy kölcsön elengedésének összege

Sheet 15. melléklet
A1: 15. melléklet 1/2017. (I.31) önkormányzati rendelethez
A3: SOROKPOLÁNY Önkormányzat 2017. évi költségvetése
A4: Támogatások, kölcsönök nyújtása és törlesztése (E Ft)
A6: ÖNKORMÁNYZATI ELŐIRÁNYZATOK
A7: Megnevezés | B7: Rovat-szám | C7: eredeti ei.
A8: központi költségvetési szervek részére | B8: K504
A9: központi kezelésű előirányzatok részére | B9: K504
A10: fejezeti kezelésű előirányzatok EU-s programokra és azok hazai társfinanszírozása részére | B10: K504
A11: egyéb fejezeti kezelésű előirányzatok részére | B11: K504
A12: társadalombiztosítás pénzügyi alapjai részére | B12: K504
A13: elkülönített állami pénzalapok részére | B13: K504
A14: helyi önkormányzatok és költségvetési szerveik részére | B14: K504
A15: társulások és költségvetési szerveik részére | B15: K504
A16: nemzetiségi önkormányzatok és költségvetési szerveik részére | B16: K504
A17: térségi fejlesztési tanácsok és költségvetési szerveik részére | B17: K504
A18: Működési célú visszatérítendő támogatások, kölcsönök nyújtása államháztartáson belülre | B18: K504
A19: központi költségvetési szervek részére | B19: K505
... A36: helyi önkormányzatok és költségvetési szerveik részére | B36: K506
A37: társulások és költségvetési szerveik részére | B37: K506 | C37: 721
A38: nemzetiségi önkormányzatok és költségvetési szerveik részére | B38: K506
A39: térségi fejlesztési tanácsok és költségvetési szerveik részére | B39: K506
A40: Egyéb működési célú támogatások államháztartáson belülre | B40: K506 | C40: =SUM(C30:C39) -> 721
A41: egyházi jogi személyek részére | B41: K508
A42: egyéb civil szervezetek részére | B42: K508
A43: háztartások részére | B43: K508
A44: pénzügyi vállalkozások részére | B44: K508
A45: állami többségi tulajdonú nem pénzügyi vállalkozások részére | B45: K508
A46: önkormányzati többségi tulajdonú nem pénzügyi vállalkozások részére | B46: K508
A47: egyéb vállalkozások részére | B47: K508
A48: Európai Unió részére | B48: K508
A49: kormányok és nemzetközi szervezetek részére | B49: K508
A50: egyéb külföldiek részére | B50: K508
A51: Működési célú visszatérítendő támogatások, kölcsönök nyújtása államháztartáson kívülre | B51: K508
A52: egyházi jogi személyek részére | B52: K512
A53: egyéb civil szervezetek részére | B53: K512 | C53: 105
A54: háztartások részére | B54: K512
A55: pénzügyi vállalkozások részére | B55: K512
A56: állami többségi tulajdonú nem pénzügyi vállalkozások részére | B56: K512
A57: önkormányzati többségi tulajdonú nem pénzügyi vállalkozások részére | B57: K512
A58: egyéb vállalkozások részére | B58: K512
A59: Európai Unió részére | B59: K512
A60: kormányok és nemzetközi szervezetek részére | B60: K512
A61: egyéb külföldiek részére | B61: K512
A62: Egyéb működési célú támogatások államháztartáson kívülre | B62: K512 | C62: =SUM(C52:C61) -> 105
A63: központi költségvetési szervek részére | B63: K82
A64: központi kezelésű előirányzatok részére | B64: K82
A65: fejezeti kezelésű előirányzatok EU-s programokra és azok hazai társfinanszírozása részére | B65: K82
A66: egyéb fejezeti kezelésű előirányzatok részére | B66: K82
A67: társadalombiztosítás pénzügyi alapjai részére | B67: K82
A68: elkülönített állami pénzalapok részére | B68: K82
A69: helyi önkormányzatok és költségvetési szerveik részére | B69: K82
A70: társulások és költségvetési szerveik részére | B70: K82
A71: nemzetiségi önkormányzatok és költségvetési szerveik részére | B71: K82
A72: térségi fejlesztési tanácsok és költségvetési szerveik részére | B72: K82
A73: Felhalmozási célú visszatérítendő támogatások, kölcsönök nyújtása államháztartáson belülre | B73: K82
A74: központi költségvetési szervek részére | B74: K83
... A117: Egyéb felhalmozási célú támogatások államháztartáson kívülre | B117: K89

Sheet 16. melléklet
A1: 16. melléklet 1/2017. (I.31) önkormányzati rendelethez
A3: SOROKPOLÁNY Önkormányzat 2017. évi költségvetése
A4: Támogatások, kölcsönök bevételei (E Ft)
A6: ÖNKORMÁNYZATI ELŐIRÁNYZATOK
A7: Megnevezés | B7: Rovat-szám | C7: eredeti ei.
A8: központi költségvetési szervektől | B8: B14
A9: központi kezelésű előirányzatoktól | B9: B14
A10: fejezeti kezelésű előirányzatok EU-s programokra és azok hazai társfinanszírozásától | B10: B14
A11: egyéb fejezeti kezelésű előirányzatoktól | B11: B14
A12: társadalombiztosítás pénzügyi alapjaitól | B12: B14
A13: elkülönített állami pénzalapoktól | B13: B14
A14: helyi önkormányzatok és költségvetési szerveiktől | B14: B14
A15: társulások és költségvetési szerveiktől | B15: B14
A16: nemzetiségi önkormányzatok és költségvetési szerveiktől | B16: B14
A17: térségi fejlesztési tanácsok és költségvetési szerveiktől | B17: B14
A18: Működési célú visszatérítendő támogatások, kölcsönök visszatérülése államháztartáson belülről | B18: B14
A19: központi költségvetési szervektől | B19: B15
... A29: Működési célú visszatérítendő támogatások, kölcsönök igénybevétele államháztartáson belülről | B29: B15
A30: központi költségvetési szervektől | B30: B16 | C30: 168
A31: központi kezelésű előirányzatoktól | B31: B16
A32: fejezeti kezelésű előirányzatok EU-s programokra és azok hazai társfinanszírozásától | B32: B16
A33: egyéb fejezeti kezelésű előirányzatoktól | B33: B16
A34: társadalombiztosítás pénzügyi alapjaitól | B34: B16
A35: elkülönített állami pénzalapoktól | B35: B16
A36: helyi önkormányzatok és költségvetési szerveiktől | B36: B16
A37: társulások és költségvetési szerveiktől | B37: B16
A38: nemzetiségi önkormányzatok és költségvetési szerveiktől | B38: B16
A39: térségi fejlesztési tanácsok és költségvetési szerveiktől | B39: B16
A40: Egyéb működési célú támogatások bevételei államháztartáson belülről | B40: B16 | C40: =SUM(C30:C39) -> 168
A41: központi költségvetési szervektől | B41: B23
A42: központi kezelésű előirányzatoktól | B42: B23
A43: fejezeti kezelésű előirányzatok EU-s programokra és azok hazai társfinanszírozásától | B43: B23
A44: egyéb fejezeti kezelésű előirányzatoktól | B44: B23
A45: társadalombiztosítás pénzügyi alapjaitól | B45: B23
A46: elkülönített állami pénzalapoktól | B46: B23
A47: helyi önkormányzatok és költségvetési szerveiktől | B47: B23
A48: társulások és költségvetési szerveiktől | B48: B23
A49: nemzetiségi önkormányzatok és költségvetési szerveiktől | B49: B23
A50: térségi fejlesztési tanácsok és költségvetési szerveiktől | B50: B23
A51: Felhalmozási célú visszatérítendő támogatások, kölcsönök visszatérülése államháztartáson belülről | B51: B23
A52: központi költségvetési szervektől | B52: B24
... A117: Egyéb felhalmozási célú átvett pénzeszközök | B117: B73

Sheet 17. melléklet
A1: 17. melléklet 1/2017. (I.31) önkormányzati rendelethez
A3: SOROKPOLÁNY Önkormányzat 2017. évi költségvetése
A4: Lakosságnak juttatott támogatások, szociális, rászorultsági jellegű ellátások (E Ft)
A6: ÖNKORMÁNYZATI ELŐIRÁNYZATOK
A7: Megnevezés | B7: Rovat-szám | C7: eredeti ei.
A8: mozgáskorlátozottak közlekedési támogatása | B8: K44
A9: mozgáskorlátozottak szerzési és átalakítási támogatása | B9: K44
A10: megváltozott munkaképességűek illetve egészségkárosodottak keresetkiegészítése | B10: K44
A11: cukorbetegek támogatása | B11: K44
A12: helyi megállapítású ápolási díj [Szoctv. 43/B. §] | B12: K44
A13: helyi megállapítású közgyógyellátás [Szoctv.50.§ (3) bek.] | B13: K44
A14: Betegséggel kapcsolatos (nem társadalombiztosítási) ellátások | B14: K44
A15: foglalkoztatást helyettesítő támogatás [Szoctv. 35. § (1) bek.] | B15: K45
A16: Foglalkoztatással, munkanélküliséggel kapcsolatos ellátások | B16: K45
A17: hozzájárulás a lakossági energiaköltségekhez | B17: K46
A18: lakbértámogatás | B18: K46
A19: lakásfenntartási támogatás [Szoctv. 38. § (1) bek. a) és b) pontok] | B19: K46
... A24: állami gondozottak pénzbeli juttatásai | B24: K47
A25: oktatásban résztvevők pénzbeli juttatásai | B25: K47 | C25: 380
A26: Intézményi ellátottak pénzbeli juttatásai | B26: K47 | C26: =SUM(C24:C25) -> 380
A27: időskorúak járadéka [Szoctv. 32/B. § (1) bek.] | B27: K48
A28: rendszeres szociális segély [Szoctv. 37. § (1) bek. a) - d) pontok] | B28: K48
A29: átmeneti segély [Szoctv. 45.§] | B29: K48
A30: temetési segély [Szoctv. 46.§] | B30: K48
A31: egyéb, az önkormányzat rendeletében megállapított juttatás | B31: K48
A32: természetben nyújtott rendszeres szociális segély [Szoctv. 47.§ (1) bek. a) pont] | B32: K48
A33: települési támogatás | B33: K48 | C33: 4933
A34: temetési segély [Szoctv. 47.§ (1) bek. d) pont} | B34: K48
A35: köztemetés [Szoctv. 48.§] | B35: K48
A36: rászorultságtól függõ normatív kedvezmények [Gyvt. 151. § (5) bek.] | B36: K48
A37: önkormányzat által saját hatáskörben (nem szociális és gyermekvédelmi előírások alapján) adott pénzügyi ellátás | B37: K48
A38: önkormányzat által saját hatáskörben (nem szociális és gyermekvédelmi előírások alapján) adott természetbeni ellátás | B38: K48
A39: Egyéb nem intézményi ellátások | B39: K48 | C39: =SUM(C27:C38) -> 4933
A40: Ellátottak pénzbeli juttatásai | B40: K4 | C40: =SUM(C39,C26) -> 5313

Sheet 18. melléklet
A1: 18. melléklet 1/2017. (I.31) önkormányzati rendelethez
A3: SOROKPOLÁNY Önkormányzat 2017. évi költségvetése
A4: Helyi adó és egyéb közhatalmi bevételek (E Ft)
A6: Megnevezés | B6: Rovat-szám | C6: eredeti ei.
A7: építményadó | B7: B34
A8: épület után fizetett idegenforgalmi adó | B8: B34
A9: magánszemélyek kommunális adója | B9: B34 | C9: 1191
A10: telekadó | B10: B34
A11: Vagyoni tipusú adók | B11: B34 | C11: 1191
A12: Értékesítési és forgalmi adók | B12: B351 | C12: 10000
A13: ebből: állandó jeleggel végzett iparűzési tevékenység után fizetett helyi iparűzési adó | B13: B351 | C13: 10000
A14: ebből: ideiglenes jeleggel végzett tevékenység után fizetett helyi iparűzési adó | B14: B351
A15: Gépjárműadók | B15: B354 | C15: 1875
A16: ebből: belföldi gépjárművek adójának a központi költségvetést megillető része | B16: B354
A17: ebből: belföldi gépjárművek adójának a helyi önkormányzatot megillető része | B17: B354 | C17: 1875
A18: ebből: külföldi gépjárművek adója | B18: B354
A19: ebből: gépjármű túlsúlydíj | B19: B354
A20: Egyéb áruhasználati és szolgáltatási adók | B20: B355 | C20: 180
A21: ebből: tartózkodás után fizetett idegenforgalmi adó | B21: B355
A22: ebből: talajterhelési díj | B22: B355 | C22: 180
A23: Termékek és szolgáltatások adói | B23: B35 | C23: =SUM(C12:C22) -> 24110
A24: eljárási illetékek | B24: B36
A25: igazgatási szolgáltatási díjak | B25: B36
A26: felügyeleti díjak | B26: B36
A27: ebrendészeti hozzájárulás | B27: B36
A28: környezetvédelmi bírság | B28: B36
A29: természetvédelmi bírság | B29: B36
A30: műemlékvédelmi bírság | B30: B36
A31: építésügyi bírság | B31: B36
A32: szabálysértési pénz- és helyszíni mbírság és a közlekedési szabályszegések után kiszabott közigazgatási bírság helyi önkormányzatot megillető része | B32: B36
A33: késedelmi pótlék | B33: B36 | C33: 110
A34: Egyéb közhatalmi bevételek | B34: B36 | C34: =SUM(C24:C33) -> 110

Sheet 19. melléklet
C1: 19. melléklet 1/2017. (I.31) önkormányzati rendelethez
A3: SOROKPOLÁNY Önkormányzat 2017. évi költségvetése
A4: A költségvetési hiány külső finanszírozására vagy a költségvetési többlet felhasználására szolgáló finanszírozási bevételek és kiadások működési és felhalmozási cél szerinti tagolásban (E Ft)
A6: ÖNKORMÁNYZATI ELŐIRÁNYZATOK
A7: Megnevezés | B7: Rovat-szám | C7: eredeti ei. Működési célú | D7: eredeti ei. Felhalmozási célú
A8: Hosszú lejáratú hitelek, kölcsönök törlesztése | B8: K9111
A9: ebből: pénzügyi vállalkozás | B9: K9111
A10: ebből: fedezeti ügyletek nettó kiadásai | B10: K9111
A11: Likviditási célú hitelek, kölcsönök törlesztése pénzügyi vállalkozásnak | B11: K9112
A12: Rövid lejáratú hitelek, kölcsönök törlesztése | B12: K9113
A13: ebből: pénzügyi vállalkozás | B13: K9113
A14: ebből: fedezeti ügyletek nettó kiadásai | B14: K9113
A15: Hitel-, kölcsöntörlesztés államháztartáson kívülre | B15: K911
A16: Forgatási célú belföldi értékpapírok vásárlása | B16: K9121
A17: ebből: befektetési jegyek | B17: K9121
A18: ebből: kárpótlási jegyek | B18: K9121
A19: Forgatási célú belföldi értékpapírok beváltása | B19: K9122
... A26: Államháztartáson belüli megelőlegezések folyósítása | B26: K913
A27: Államháztartáson belüli megelőlegezések visszafizetése | B27: K914 | C27: 1218
A28: Pénzeszközök betétként elhelyezése | B28: K916
A29: Pénzügyi lízing kiadásai | B29: K917
A30: Központi költségvetés sajátos finanszírozási kiadásai | B30: K918
A31: Belföldi finanszírozás kiadásai | B31: K91 | C31: 1218
A32: Forgatási célú külföldi értékpapírok vásárlása | B32: K921
A33: Befektetési célú külföldi értékpapírok vásárlása | B33: K922
A34: Külföldi értékpapírok beváltása | B34: K923
A35: ebből: fedezeti ügyletek nettó kiadásai | B35: K923
A36: Külföldi hitelek, kölcsönök törlesztése | B36: K924
A37: ebből: nemzetközi fejlesztési szervezetek | B37: K924
A38: ebből: más kormányok | B38: K924
A39: ebből: külföldi pénzintézetek | B39: K924
A40: ebből: fedezeti ügyletek nettó kiadásai | B40: K924
A41: Külföldi finanszírozás kiadásai | B41: K92
A44: Megnevezés | B44: Rovat-szám | C44: eredeti ei. Működési célú
A45: Hosszú lejáratú hitelek, kölcsönök felvétele | B45: B8111
A46: ebből: pénzügyi vállalkozás | B46: B8111
A47: Likviditási célú hitelek, kölcsönök felvétele pénzügyi vállalkozástól | B47: B8112
A48: Rövid lejáratú hitelek, kölcsönök felvétele | B48: B8113
A49: ebből: pénzügyi vállalkozás | B49: B8113
A50: Hitel-, kölcsönfelvétel államháztartáson kívülről | B50: B811
A51: Forgatási célú belföldi értékpapírok beváltása, értékesítése | B51: B8121
A52: ebből: befektetési jegyek | B52: B8121
A53: Forgatási célú belföldi értékpapírok kibocsátása | B53: B8122
A54: Befektetési célú belföldi értékpapírok beváltása, értékesítése | B54: B8123
A55: ebből: kárpótlási jegyek | B55: B8123
A56: Befektetési célú belföldi értékpapírok kibocsátása | B56: B8124
... A71: Külföldi finanszírozás bevételei | B71: B82
