Workbook
Name _pr10: '12. melléklet'!#REF!
Name _pr12: '12. melléklet'!#REF!
Name _pr21: '11. melléklet'!$A$57
Name _pr232: '14. melléklet'!$A$13
Name _pr233: '14. melléklet'!$A$18
Name _pr234: '14. melléklet'!$A$26
Name _pr235: '14. melléklet'!$A$31
Name _pr236: '14. melléklet'!$A$36
Name _pr24: '11. melléklet'!$A$59
Name _pr25: '11. melléklet'!$A$60
Name _pr26: '11. melléklet'!$A$61
Name _pr27: '11. melléklet'!$A$62
Name _pr28: '11. melléklet'!$A$63
Name _pr312: '14. melléklet'!#REF!
Name _pr313: '14. melléklet'!#REF!
Name _pr314: '14. melléklet'!$A$5
Name _pr315: '14. melléklet'!#REF!
Name _pr7: '12. melléklet'!#REF!
Name _pr8: '12. melléklet'!#REF!
Name _pr9: '12. melléklet'!#REF!
Name foot_4_place: '12. melléklet'!$A$20
Name foot_5_place: '12. melléklet'!#REF!
Name foot_53_place: '12. melléklet'!#REF!
Name léé: '12. melléklet'!#REF!
Name mmm: '11. melléklet'!#REF!

Sheet 1. melléklet
A1: 1. melléklet 1/2019. (I.22.) önkormányzati rendelethez
A3: SOROKPOLÁNY Önkormányzat 2019. évi költségvetése
A4: Az egységes rovatrend szerint a kiemelt kiadási és bevételi jogcímek
A7: K1. Személyi juttatások
A8: K2. Munkaadókat terhelő járulékok és szociális hozzájárulási adó
A9: K3. Dologi kiadások
A10: K4. Ellátottak pénzbeli juttatásai
A11: K5. Egyéb működési célú kiadások
A12: K6. Beruházási kiadások
A13: K7. Felújítások
A14: K8. Egyéb felhalmozási célú kiadások
A15: K1-8. Költségvetési kiadások
... A27: BEVÉTELEK ÖSSZESEN (B1-8)

Sheet 2. melléklet
C1: 2. melléklet 1/2019. (I.22.) önkormányzati rendelethez
A3: SOROKPOLÁNY Önkormányzat 2019. évi költségvetése
A4: Kiadások (Ft)
A6: SOROKPOLÁNY ÖNKORMÁNYZATI ELŐIRÁNYZATOK | C6: EREDETI ELŐIRÁNYZAT
A7: Rovat megnevezése | B7: Rovat-szám | C7: kötelező feladatok | D7: önként vállalt feladatok | E7: államigazgatási feladatok | F7: ÖSSZESEN
A8: Törvény szerinti illetmények, munkabérek | B8: K1101 | C8: 2340000 | D8: 0 | E8: 0 | F8: =SUM(C8:E8) -> 2340000
A9: Normatív jutalmak | B9: K1102 | C9: 90226 | D9: 0 | E9: 0 | F9: =SUM(C9:E9) -> 90226
A10: Céljuttatás, projektprémium | B10: K1103 | C10: 0 | D10: 0 | E10: 0 | F10: =SUM(C10:E10) -> 0
A11: Készenléti, ügyeleti, helyettesítési díj, túlóra, túlszolgálat | B11: K1104 | C11: 0 | D11: 0 | E11: 0 | F11: =SUM(C11:E11) -> 0
A12: Végkielégítés | B12: K1105 | C12: 0 | D12: 0 | E12: 0 | F12: =SUM(C12:E12) -> 0
A13: Jubileumi jutalom | B13: K1106 | C13: 0 | D13: 0 | E13: 0 | F13: =SUM(C13:E13) -> 0
A14: Béren kívüli juttatások | B14: K1107 | C14: 108000 | D14: 0 | E14: 0 | F14: =SUM(C14:E14) -> 108000
A15: Ruházati költségtérítés | B15: K1108 | C15: 0 | D15: 0 | E15: 0 | F15: =SUM(C15:E15) -> 0
A16: Közlekedési költségtérítés | B16: K1109 | C16: 0 | D16: 0 | E16: 0 | F16: =SUM(C16:E16) -> 0
A17: Egyéb költségtérítések | B17: K1110 | C17: 0 | D17: 0 | E17: 0 | F17: =SUM(C17:E17) -> 0
A18: Lakhatási támogatások | B18: K1111 | C18: 0 | D18: 0 | E18: 0 | F18: =SUM(C18:E18) -> 0
A19: Szociális támogatások | B19: K1112 | C19: 0 | D19: 0 | E19: 0 | F19: =SUM(C19:E19) -> 0
A20: Foglalkoztatottak egyéb személyi juttatásai | B20: K1113 | C20: 0 | D20: 0 | E20: 0 | F20: =SUM(C20:E20) -> 0
A21: Foglalkoztatottak személyi juttatásai | B21: K11 | C21: =SUM(C8:C20) -> 2538226 | D21: =SUM(D8:D20) -> 0 | E21: =SUM(E8:E20) -> 0 | F21: =SUM(C21:E21) -> 2538226
A22: Választott tisztségviselők juttatásai | B22: K121 | C22: 4140600 | D22: 0 | E22: 0 | F22: =SUM(C22:E22) -> 4140600
A23: Munkavégzésre irányuló egyéb jogviszonyban nem saját foglalkoztatottnak fizetett juttatások | B23: K122 | C23: 2412000 | D23: 0 | E23: 0 | F23: =SUM(C23:E23) -> 2412000
A24: Egyéb külső személyi juttatások | B24: K123 | C24: 850000 | D24: 0 | E24: 0 | F24: =SUM(C24:E24) -> 850000
A25: Külső személyi juttatások | B25: K12 | C25: =SUM(C22:C24) -> 7402600 | D25: =SUM(D22:D24) -> 0 | E25: =SUM(E22:E24) -> 0 | F25: =SUM(C25:E25) -> 7402600
A26: Személyi juttatások | B26: K1 | C26: =C21+C25 -> 9940826 | D26: =D21+D25 -> 0 | E26: =E21+E25 -> 0 | F26: =SUM(C26:E26) -> 9940826
A27: Munkaadókat terhelő járulékok és szociális hozzájárulási adó | B27: K2 | C27: 2097307 | D27: 0 | E27: 0 | F27: =SUM(C27:E27) -> 2097307
A28: Szakmai anyagok beszerzése | B28: K311 | C28: 15000 | D28: 0 | E28: 0 | F28: =SUM(C28:E28) -> 15000
A29: Üzemeltetési anyagok beszerzése | B29: K312 | C29: 2280000 | D29: 0 | E29: 0 | F29: =SUM(C29:E29) -> 2280000
A30: Árubeszerzés | B30: K313 | C30: 0 | D30: 0 | E30: 0 | F30: =SUM(C30:E30) -> 0
A31: Készletbeszerzés | B31: K31 | C31: =SUM(C28:C30) -> 2295000 | D31: =SUM(D28:D30) -> 0 | E31: =SUM(E28:E30) -> 0 | F31: =SUM(C31:E31) -> 2295000
A32: Informatikai szolgáltatások igénybevétele | B32: K321 | C32: 130000 | D32: 0 | E32: 0 | F32: =SUM(C32:E32) -> 130000
A33: Egyéb kommunikációs szolgáltatások | B33: K322 | C33: 180000 | D33: 0 | E33: 0 | F33: =SUM(C33:E33) -> 180000
A34: Kommunikációs szolgáltatások | B34: K32 | C34: =SUM(C32:C33) -> 310000 | D34: =SUM(D32:D33) -> 0 | E34: =SUM(E32:E33) -> 0 | F34: =SUM(C34:E34) -> 310000
A35: Közüzemi díjak | B35: K331 | C35: 3514960 | D35: 0 | E35: 0 | F35: =SUM(C35:E35) -> 3514960
A36: Vásárolt élelmezés | B36: K332 | C36: 3500000 | D36: 0 | E36: 0 | F36: =SUM(C36:E36) -> 3500000
A37: Bérleti és lízing díjak | B37: K333 | C37: 0 | D37: 0 | E37: 0 | F37: =SUM(C37:E37) -> 0
A38: Karbantartási, kisjavítási szolgáltatások | B38: K334 | C38: 1614031 | D38: 0 | E38: 0 | F38: =SUM(C38:E38) -> 1614031
A39: Közvetített szolgáltatások | B39: K335 | C39: 1350000 | D39: 0 | E39: 0 | F39: =SUM(C39:E39) -> 1350000
A40: Szakmai tevékenységet segítő szolgáltatások | B40: K336 | C40: 420000 | D40: 0 | E40: 0 | F40: =SUM(C40:E40) -> 420000
A41: Egyéb szolgáltatások | B41: K337 | C41: 8597517 | D41: 0 | E41: 0 | F41: =SUM(C41:E41) -> 8597517
A42: Szolgáltatási kiadások | B42: K33 | C42: =SUM(C35:C41) -> 18996508 | D42: =SUM(D35:D41) -> 0 | E42: =SUM(E35:E41) -> 0 | F42: =SUM(C42:E42) -> 18996508
...

Sheet 3. melléklet
C1: 3. melléklet 1/2019. (I.22.) önkormányzati rendelethez
A3: SOROKPOLÁNY Önkormányzat 2019. évi költségvetése
A4: Kiadások (Ft)
A6: BÓBITA ÓVODA ELŐIRÁNYZATOK | C6: EREDETI ELŐIRÁNYZAT
A7: Rovat megnevezése | B7: Rovat-szám | C7: kötelező feladatok | D7: önként vállalt feladatok | E7: államigazgatási feladatok | F7: ÖSSZESEN
A8: Törvény szerinti illetmények, munkabérek | B8: K1101 | C8: 12494052 | D8: 0 | E8: 0 | F8: =SUM(C8:E8) -> 12494052
A9: Normatív jutalmak | B9: K1102 | C9: 120300 | D9: 0 | E9: 0 | F9: =SUM(C9:E9) -> 120300
A10: Céljuttatás, projektprémium | B10: K1103 | C10: 0 | D10: 0 | E10: 0 | F10: =SUM(C10:E10) -> 0
A11: Készenléti, ügyeleti, helyettesítési díj, túlóra, túlszolgálat | B11: K1104 | C11: 0 | D11: 0 | E11: 0 | F11: =SUM(C11:E11) -> 0
A12: Végkielégítés | B12: K1105 | C12: 0 | D12: 0 | E12: 0 | F12: =SUM(C12:E12) -> 0
A13: Jubileumi jutalom | B13: K1106 | C13: 983001 | D13: 0 | E13: 0 | F13: =SUM(C13:E13) -> 983001
A14: Béren kívüli juttatások | B14: K1107 | C14: 384000 | D14: 0 | E14: 0 | F14: =SUM(C14:E14) -> 384000
A15: Ruházati költségtérítés | B15: K1108 | C15: 0 | D15: 0 | E15: 0 | F15: =SUM(C15:E15) -> 0
A16: Közlekedési költségtérítés | B16: K1109 | C16: 124050 | D16: 0 | E16: 0 | F16: =SUM(C16:E16) -> 124050
A17: Egyéb költségtérítések | B17: K1110 | C17: 0 | D17: 0 | E17: 0 | F17: =SUM(C17:E17) -> 0
A18: Lakhatási támogatások | B18: K1111 | C18: 0 | D18: 0 | E18: 0 | F18: =SUM(C18:E18) -> 0
A19: Szociális támogatások | B19: K1112 | C19: 0 | D19: 0 | E19: 0 | F19: =SUM(C19:E19) -> 0
A20: Foglalkoztatottak egyéb személyi juttatásai | B20: K1113 | C20: 0 | D20: 0 | E20: 0 | F20: =SUM(C20:E20) -> 0
A21: Foglalkoztatottak személyi juttatásai | B21: K11 | C21: =SUM(C8:C20) -> 14105403 | D21: =SUM(D8:D20) -> 0 | E21: =SUM(E8:E20) -> 0 | F21: =SUM(C21:E21) -> 14105403
A22: Választott tisztségviselők juttatásai | B22: K121 | C22: 0 | D22: 0 | E22: 0 | F22: =SUM(C22:E22) -> 0
A23: Munkavégzésre irányuló egyéb jogviszonyban nem saját foglalkoztatottnak fizetett juttatások | B23: K122 | C23: 0 | D23: 0 | E23: 0 | F23: =SUM(C23:E23) -> 0
A24: Egyéb külső személyi juttatások | B24: K123 | C24: 0 | D24: 0 | E24: 0 | F24: =SUM(C24:E24) -> 0
A25: Külső személyi juttatások | B25: K12 | C25: =SUM(C22:C24) -> 0 | D25: =SUM(D22:D24) -> 0 | E25: =SUM(E22:E24) -> 0 | F25: =SUM(C25:E25) -> 0
A26: Személyi juttatások | B26: K1 | C26: =C21+C25 -> 14105403 | D26: =D21+D25 -> 0 | E26: =E21+E25 -> 0 | F26: =SUM(C26:E26) -> 14105403
A27: Munkaadókat terhelő járulékok és szociális hozzájárulási adó | B27: K2 | C27: 2843965 | D27: 0 | E27: 0 | F27: =SUM(C27:E27) -> 2843965
A28: Szakmai anyagok beszerzése | B28: K311 | C28: 50000 | D28: 0 | E28: 0 | F28: =SUM(C28:E28) -> 50000
A29: Üzemeltetési anyagok beszerzése | B29: K312 | C29: 371712 | D29: 0 | E29: 0 | F29: =SUM(C29:E29) -> 371712
A30: Árubeszerzés | B30: K313 | C30: 0 | D30: 0 | E30: 0 | F30: =SUM(C30:E30) -> 0
A31: Készletbeszerzés | B31: K31 | C31: =SUM(C28:C30) -> 421712 | D31: =SUM(D28:D30) -> 0 | E31: =SUM(E28:E30) -> 0 | F31: =SUM(C31:E31) -> 421712
A32: Informatikai szolgáltatások igénybevétele | B32: K321 | C32: 45000 | D32: 0 | E32: 0 | F32: =SUM(C32:E32) -> 45000
A33: Egyéb kommunikációs szolgáltatások | B33: K322 | C33: 0 | D33: 0 | E33: 0 | F33: =SUM(C33:E33) -> 0
A34: Kommunikációs szolgáltatások | B34: K32 | C34: =SUM(C32:C33) -> 45000 | D34: =SUM(D32:D33) -> 0 | E34: =SUM(E32:E33) -> 0 | F34: =SUM(C34:E34) -> 45000
A35: Közüzemi díjak | B35: K331 | C35: 890000 | D35: 0 | E35: 0 | F35: =SUM(C35:E35) -> 890000
A36: Vásárolt élelmezés | B36: K332 | C36: 0 | D36: 0 | E36: 0 | F36: =SUM(C36:E36) -> 0
A37: Bérleti és lízing díjak | B37: K333 | C37: 0 | D37: 0 | E37: 0 | F37: =SUM(C37:E37) -> 0
A38: Karbantartási, kisjavítási szolgáltatások | B38: K334 | C38: 100000 | D38: 0 | E38: 0 | F38: =SUM(C38:E38) -> 100000
A39: Közvetített szolgáltatások | B39: K335 | C39: 0 | D39: 0 | E39: 0 | F39: =SUM(C39:E39) -> 0
A40: Szakmai tevékenységet segítő szolgáltatások | B40: K336 | C40: 262000 | D40: 0 | E40: 0 | F40: =SUM(C40:E40) -> 262000
A41: Egyéb szolgáltatások | B41: K337 | C41: 230000 | D41: 0 | E41: 0 | F41: =SUM(C41:E41) -> 230000
A42: Szolgáltatási kiadások | B42: K33 | C42: =SUM(C35:C41) -> 1482000 | D42: =SUM(D35:D41) -> 0 | E42: =SUM(E35:E41) -> 0 | F42: =SUM(C42:E42) -> 1482000
...

Sheet 4. melléklet
C1: 4. melléklet 1/2019. (I.22.) önkormányzati rendelethez
A3: SOROKPOLÁNY Önkormányzat 2019. évi költségvetése
A4: Kiadások (Ft)
A6: Sorokpolány Önkormányzat és költségvetési szervei előirányzat | C6: EREDETI ELŐIRÁNYZAT
A7: Rovat megnevezése | B7: Rovat-szám | C7: kötelező feladatok | D7: önként vállalt feladatok | E7: államigazgatási feladatok | F7: ÖSSZESEN
A8: Törvény szerinti illetmények, munkabérek | B8: K1101 | C8: =SUM('2. melléklet'!C8+'3. melléklet'!C8) -> 14834052 | D8: ='[1]1. melléklet'!D8+'[1]2. melléklet'!D8 -> 0 | E8: ='[1]1. melléklet'!E8+'[1]2. melléklet'!E8 -> 0 | F8: =SUM(C8:E8) -> 14834052
A9: Normatív jutalmak | B9: K1102 | C9: =SUM('2. melléklet'!C9+'3. melléklet'!C9) -> 210526 | D9: ='[1]1. melléklet'!D9+'[1]2. melléklet'!D9 -> 0 | E9: ='[1]1. melléklet'!E9+'[1]2. melléklet'!E9 -> 0 | F9: =SUM(C9:E9) -> 210526
A10: Céljuttatás, projektprémium | B10: K1103 | C10: =SUM('2. melléklet'!C10+'3. melléklet'!C10) -> 0 | D10: ='[1]1. melléklet'!D10+'[1]2. melléklet'!D10 -> 0 | E10: ='[1]1. melléklet'!E10+'[1]2. melléklet'!E10 -> 0 | F10: =SUM(C10:E10) -> 0
A11: Készenléti, ügyeleti, helyettesítési díj, túlóra, túlszolgálat | B11: K1104 | C11: =SUM('2. melléklet'!C11+'3. melléklet'!C11) -> 0 | D11: ='[1]1. melléklet'!D11+'[1]2. melléklet'!D11 -> 0 | E11: ='[1]1. melléklet'!E11+'[1]2. melléklet'!E11 -> 0 | F11: =SUM(C11:E11) -> 0
A12: Végkielégítés | B12: K1105 | C12: =SUM('2. melléklet'!C12+'3. melléklet'!C12) -> 0 | D12: ='[1]1. melléklet'!D12+'[1]2. melléklet'!D12 -> 0 | E12: ='[1]1. melléklet'!E12+'[1]2. melléklet'!E12 -> 0 | F12: =SUM(C12:E12) -> 0
A13: Jubileumi jutalom | B13: K1106 | C13: =SUM('2. melléklet'!C13+'3. melléklet'!C13) -> 983001 | D13: ='[1]1. melléklet'!D13+'[1]2. melléklet'!D13 -> 0 | E13: ='[1]1. melléklet'!E13+'[1]2. melléklet'!E13 -> 0 | F13: =SUM(C13:E13) -> 983001
A14: Béren kívüli juttatások | B14: K1107 | C14: =SUM('2. melléklet'!C14+'3. melléklet'!C14) -> 492000 | D14: ='[1]1. melléklet'!D14+'[1]2. melléklet'!D14 -> 0 | E14: ='[1]1. melléklet'!E14+'[1]2. melléklet'!E14 -> 0 | F14: =SUM(C14:E14) -> 492000
A15: Ruházati költségtérítés | B15: K1108 | C15: =SUM('2. melléklet'!C15+'3. melléklet'!C15) -> 0 | D15: ='[1]1. melléklet'!D15+'[1]2. melléklet'!D15 -> 0 | E15: ='[1]1. melléklet'!E15+'[1]2. melléklet'!E15 -> 0 | F15: =SUM(C15:E15) -> 0
A16: Közlekedési költségtérítés | B16: K1109 | C16: =SUM('2. melléklet'!C16+'3. melléklet'!C16) -> 124050 | D16: ='[1]1. melléklet'!D16+'[1]2. melléklet'!D16 -> 0 | E16: ='[1]1. melléklet'!E16+'[1]2. melléklet'!E16 -> 0 | F16: =SUM(C16:E16) -> 124050
A17: Egyéb költségtérítések | B17: K1110 | C17: =SUM('2. melléklet'!C17+'3. melléklet'!C17) -> 0 | D17: ='[1]1. melléklet'!D17+'[1]2. melléklet'!D17 -> 0 | E17: ='[1]1. melléklet'!E17+'[1]2. melléklet'!E17 -> 0 | F17: =SUM(C17:E17) -> 0
A18: Lakhatási támogatások | B18: K1111 | C18: =SUM('2. melléklet'!C18+'3. melléklet'!C18) -> 0 | D18: ='[1]1. melléklet'!D18+'[1]2. melléklet'!D18 -> 0 | E18: ='[1]1. melléklet'!E18+'[1]2. melléklet'!E18 -> 0 | F18: =SUM(C18:E18) -> 0
A19: Szociális támogatások | B19: K1112 | C19: =SUM('2. melléklet'!C19+'3. melléklet'!C19) -> 0 | D19: ='[1]1. melléklet'!D19+'[1]2. melléklet'!D19 -> 0 | E19: ='[1]1. melléklet'!E19+'[1]2. melléklet'!E19 -> 0 | F19: =SUM(C19:E19) -> 0
A20: Foglalkoztatottak egyéb személyi juttatásai | B20: K1113 | C20: =SUM('2. melléklet'!C20+'3. melléklet'!C20) -> 0 | D20: ='[1]1. melléklet'!D20+'[1]2. melléklet'!D20 -> 0 | E20: ='[1]1. melléklet'!E20+'[1]2. melléklet'!E20 -> 0 | F20: =SUM(C20:E20) -> 0
A21: Foglalkoztatottak személyi juttatásai | B21: K11 | C21: =SUM(C8:C20) -> 16643629 | D21: ='[1]1. melléklet'!D21+'[1]2. melléklet'!D21 -> 0 | E21: ='[1]1. melléklet'!E21+'[1]2. melléklet'!E21 -> 0 | F21: =SUM(C21:E21) -> 16643629
A22: Választott tisztségviselők juttatásai | B22: K121 | C22: =SUM('2. melléklet'!C22+'3. melléklet'!C22) -> 4140600 | D22: ='[1]1. melléklet'!D22+'[1]2. melléklet'!D22 -> 0 | E22: ='[1]1. melléklet'!E22+'[1]2. melléklet'!E22 -> 0 | F22: =SUM(C22:E22) -> 4140600
A23: Munkavégzésre irányuló egyéb jogviszonyban nem saját foglalkoztatottnak fizetett juttatások | B23: K122 | C23: =SUM('2. melléklet'!C23+'3. melléklet'!C23) -> 2412000 | D23: ='[1]1. melléklet'!D23+'[1]2. melléklet'!D23 -> 0 | E23: ='[1]1. melléklet'!E23+'[1]2. melléklet'!E23 -> 0 | F23: =SUM(C23:E23) -> 2412000
A24: Egyéb külső személyi juttatások | B24: K123 | C24: =SUM('2. melléklet'!C24+'3. melléklet'!C24) -> 850000 | D24: ='[1]1. melléklet'!D24+'[1]2. melléklet'!D24 -> 0 | E24: ='[1]1. melléklet'!E24+'[1]2. melléklet'!E24 -> 0 | F24: =SUM(C24:E24) -> 850000
A25: Külső személyi juttatások | B25: K12 | C25: =SUM(C22:C24) -> 7402600 | D25: ='[1]1. melléklet'!D25+'[1]2. melléklet'!D25 -> 0 | E25: ='[1]1. melléklet'!E25+'[1]2. melléklet'!E25 -> 0 | F25: =SUM(C25:E25) -> 7402600
A26: Személyi juttatások | B26: K1 | C26: =SUM(C25,C21) -> 24046229 | D26: ='[1]1. melléklet'!D26+'[1]2. melléklet'!D26 -> 0 | E26: ='[1]1. melléklet'!E26+'[1]2. melléklet'!E26 -> 0 | F26: =SUM(C26:E26) -> 24046229
A27: Munkaadókat terhelő járulékok és szociális hozzájárulási adó | B27: K2 | C27: =SUM('2. melléklet'!C27+'3. melléklet'!C27) -> 4941272 | D27: ='[1]1. melléklet'!D27+'[1]2. melléklet'!D27 -> 0 | E27: ='[1]1. melléklet'!E27+'[1]2. melléklet'!E27 -> 0 | F27: =SUM(C27:E27) -> 4941272
A28: Szakmai anyagok beszerzése | B28: K311 | C28: =SUM('2. melléklet'!C28+'3. melléklet'!C28) -> 65000 | D28: ='[1]1. melléklet'!D28+'[1]2. melléklet'!D28 -> 0 | E28: ='[1]1. melléklet'!E28+'[1]2. melléklet'!E28 -> 0 | F28: =SUM(C28:E28) -> 65000
A29: Üzemeltetési anyagok beszerzése | B29: K312 | C29: =SUM('2. melléklet'!C29+'3. melléklet'!C29) -> 2651712 | D29: ='[1]1. melléklet'!D29+'[1]2. melléklet'!D29 -> 0 | E29: ='[1]1. melléklet'!E29+'[1]2. melléklet'!E29 -> 0 | F29: =SUM(C29:E29) -> 2651712
A30: Árubeszerzés | B30: K313 | C30: =SUM('2. melléklet'!C30+'3. melléklet'!C30) -> 0 | D30: ='[1]1. melléklet'!D30+'[1]2. melléklet'!D30 -> 0 | E30: ='[1]1. melléklet'!E30+'[1]2. melléklet'!E30 -> 0 | F30: =SUM(C30:E30) -> 0
A31: Készletbeszerzés | B31: K31 | C31: =SUM(C28:C30) -> 2716712 | D31: ='[1]1. melléklet'!D31+'[1]2. melléklet'!D31 -> 0 | E31: ='[1]1. melléklet'!E31+'[1]2. melléklet'!E31 -> 0 | F31: =SUM(C31:E31) -> 2716712
A32: Informatikai szolgáltatások igénybevétele | B32: K321 | C32: =SUM('2. melléklet'!C32+'3. melléklet'!C32) -> 175000 | D32: ='[1]1. melléklet'!D32+'[1]2. melléklet'!D32 -> 0 | E32: ='[1]1. melléklet'!E32+'[1]2. melléklet'!E32 -> 0 | F32: =SUM(C32:E32) -> 175000
A33: Egyéb kommunikációs szolgáltatások | B33: K322 | C33: =SUM('2. melléklet'!C33+'3. melléklet'!C33) -> 180000 | D33: ='[1]1. melléklet'!D33+'[1]2. melléklet'!D33 -> 0 | E33: ='[1]1. melléklet'!E33+'[1]2. melléklet'!E33 -> 0 | F33: =SUM(C33:E33) -> 180000
A34: Kommunikációs szolgáltatások | B34: K32 | C34: =SUM(C32:C33) -> 355000 | D34: ='[1]1. melléklet'!D34+'[1]2. melléklet'!D34 -> 0 | E34: ='[1]1. melléklet'!E34+'[1]2. melléklet'!E34 -> 0 | F34: =SUM(C34:E34) -> 355000
A35: Közüzemi díjak | B35: K331 | C35: =SUM('2. melléklet'!C35+'3. melléklet'!C35) -> 4404960 | D35: ='[1]1. melléklet'!D35+'[1]2. melléklet'!D35 -> 0 | E35: ='[1]1. melléklet'!E35+'[1]2. melléklet'!E35 -> 0 | F35: =SUM(C35:E35) -> 4404960
A36: Vásárolt élelmezés | B36: K332 | C36: =SUM('2. melléklet'!C36+'3. melléklet'!C36) -> 3500000 | D36: ='[1]1. melléklet'!D36+'[1]2. melléklet'!D36 -> 0 | E36: ='[1]1. melléklet'!E36+'[1]2. melléklet'!E36 -> 0 | F36: =SUM(C36:E36) -> 3500000
A37: Bérleti és lízing díjak | B37: K333 | C37: =SUM('2. melléklet'!C37+'3. melléklet'!C37) -> 0 | D37: ='[1]1. melléklet'!D37+'[1]2. melléklet'!D37 -> 0 | E37: ='[1]1. melléklet'!E37+'[1]2. melléklet'!E37 -> 0 | F37: =SUM(C37:E37) -> 0
A38: Karbantartási, kisjavítási szolgáltatások | B38: K334 | C38: =SUM('2. melléklet'!C38+'3. melléklet'!C38) -> 1714031 | D38: ='[1]1. melléklet'!D38+'[1]2. melléklet'!D38 -> 0 | E38: ='[1]1. melléklet'!E38+'[1]2. melléklet'!E38 -> 0 | F38: =SUM(C38:E38) -> 1714031
A39: Közvetített szolgáltatások | B39: K335 | C39: =SUM('2. melléklet'!C39+'3. melléklet'!C39) -> 1350000 | D39: ='[1]1. melléklet'!D39+'[1]2. melléklet'!D39 -> 0 | E39: ='[1]1. melléklet'!E39+'[1]2. melléklet'!E39 -> 0 | F39: =SUM(C39:E39) -> 1350000
A40: Szakmai tevékenységet segítő szolgáltatások | B40: K336 | C40: =SUM('2. melléklet'!C40+'3. melléklet'!C40) -> 682000 | D40: ='[1]1. melléklet'!D40+'[1]2. melléklet'!D40 -> 0 | E40: ='[1]1. melléklet'!E40+'[1]2. melléklet'!E40 -> 0 | F40: =SUM(C40:E40) -> 682000
A41: Egyéb szolgáltatások | B41: K337 | C41: =SUM('2. melléklet'!C41+'3. melléklet'!C41) -> 8827517 | D41: ='[1]1. melléklet'!D41+'[1]2. melléklet'!D41 -> 0 | E41: ='[1]1. melléklet'!E41+'[1]2. melléklet'!E41 -> 0 | F41: =SUM(C41:E41) -> 8827517
A42: Szolgáltatási kiadások | B42: K33 | C42: =SUM(C35:C41) -> 20478508 | D42: ='[1]1. melléklet'!D42+'[1]2. melléklet'!D42 -> 0 | E42: ='[1]1. melléklet'!E42+'[1]2. melléklet'!E42 -> 0 | F42: =SUM(C42:E42) -> 20478508
...

Sheet 5. melléklet
B1: 5. melléklet 1/2019. (I.22.) önkormányzati rendelethez
A3: SOROKPOLÁNY Önkormányzat 2019. évi költségvetése
A4: Bevételek (Ft)
A6: SOROKPOLÁNY ÖNKORMÁNYZATI ELŐIRÁNYZATOK | C6: EREDETI ELŐIRÁNYZAT
A7: Rovat megnevezése | B7: Rovat- szám | C7: kötelező feladatok | D7: önként vállalt feladatok | E7: államigazgatási feladatok | F7: ÖSSZESEN
A8: Helyi önkormányzatok működésének általános támogatása | B8: B111 | C8: 13368394 | D8: 0 | E8: 0 | F8: =SUM(C8:E8) -> 13368394
A9: Települési önkormányzatok egyes köznevelési feladatainak támogatása | B9: B112 | C9: 13356868 | D9: 0 | E9: 0 | F9: =SUM(C9:E9) -> 13356868
A10: Települési önkormányzatok szociális és gyermekjóléti feladatainak támogatása | B10: B113 | C10: 8077897 | D10: 0 | E10: 0 | F10: =SUM(C10:E10) -> 8077897
A11: Települési önkormányzatok kulturális feladatainak támogatása | B11: B114 | C11: 1800000 | D11: 0 | E11: 0 | F11: =SUM(C11:E11) -> 1800000
A12: Működési célú központosított előirányzatok | B12: B115 | C12: 0 | D12: 0 | E12: 0 | F12: =SUM(C12:E12) -> 0
A13: Elszámolásból származó bevételek | B13: B116 | C13: 0 | D13: 0 | E13: 0 | F13: =SUM(C13:E13) -> 0
A14: Önkormányzatok működési támogatásai | B14: B11 | C14: =SUM(C8:C13) -> 36603159 | D14: =SUM(D8:D13) -> 0 | E14: =SUM(E8:E13) -> 0 | F14: =SUM(C14:E14) -> 36603159
A15: Elvonások és befizetések bevételei | B15: B12 | C15: 0 | D15: 0 | E15: 0 | F15: =SUM(C15:E15) -> 0
A16: Működési célú garancia- és kezességvállalásból származó megtérülések államháztartáson belülről | B16: B13 | C16: 0 | D16: 0 | E16: 0 | F16: =SUM(C16:E16) -> 0
A17: Működési célú visszatérítendő támogatások, kölcsönök visszatérülése államháztartáson belülről | B17: B14 | C17: 0 | D17: 0 | E17: 0 | F17: =SUM(C17:E17) -> 0
A18: Működési célú visszatérítendő támogatások, kölcsönök igénybevétele államháztartáson belülről | B18: B15 | C18: 0 | D18: 0 | E18: 0 | F18: =SUM(C18:E18) -> 0
A19: Egyéb működési célú támogatások bevételei államháztartáson belülről | B19: B16 | C19: 0 | D19: 0 | E19: 0 | F19: =SUM(C19:E19) -> 0
A20: Működési célú támogatások államháztartáson belülről | B20: B1 | C20: =SUM(C14:C19) -> 36603159 | D20: =SUM(D14:D19) -> 0 | E20: =SUM(E14:E19) -> 0 | F20: =SUM(C20:E20) -> 36603159
A21: Magánszemélyek jövedelemadói | B21: B311 | C21: 0 | D21: 0 | E21: 0 | F21: =SUM(C21:E21) -> 0
A22: Társaságok jövedelemadói | B22: B312 | C22: 0 | D22: 0 | E22: 0 | F22: =SUM(C22:E22) -> 0
A23: Jövedelemadók | B23: B31 | C23: =SUM(C21:C22) -> 0 | D23: =SUM(D21:D22) -> 0 | E23: =SUM(E21:E22) -> 0 | F23: =SUM(C23:E23) -> 0
A24: Szociális hozzájárulási adó és járulékok | B24: B32 | C24: 0 | D24: 0 | E24: 0 | F24: =SUM(C24:E24) -> 0
A25: Bérhez és foglalkoztatáshoz kapcsolódó adók | B25: B33 | C25: 0 | D25: 0 | E25: 0 | F25: =SUM(C25:E25) -> 0
A26: Vagyoni tipusú adók | B26: B34 | C26: 1000000 | D26: 0 | E26: 0 | F26: =SUM(C26:E26) -> 1000000
A27: Értékesítési és forgalmi adók | B27: B351 | C27: 10500000 | D27: 0 | E27: 0 | F27: =SUM(C27:E27) -> 10500000
A28: Fogyasztási adók | B28: B352 | C28: 0 | D28: 0 | E28: 0 | F28: =SUM(C28:E28) -> 0
A29: Pénzügyi monopóliumok nyereségét terhelő adók | B29: B353 | C29: 0 | D29: 0 | E29: 0 | F29: =SUM(C29:E29) -> 0
A30: Gépjárműadók | B30: B354 | C30: 1900000 | D30: 0 | E30: 0 | F30: =SUM(C30:E30) -> 1900000
A31: Egyéb áruhasználati és szolgáltatási adók | B31: B355 | C31: 0 | D31: 0 | E31: 0 | F31: =SUM(C31:E31) -> 0
A32: Termékek és szolgáltatások adói | B32: B35 | C32: =SUM(C27:C31) -> 12400000 | D32: =SUM(D27:D31) -> 0 | E32: =SUM(E27:E31) -> 0 | F32: =SUM(F27:F31) -> 12400000
A33: Egyéb közhatalmi bevételek | B33: B36 | C33: 180000 | D33: 0 | E33: 20000 | F33: =SUM(C33:E33) -> 200000
A34: Közhatalmi bevételek | B34: B3 | C34: =SUM(C33+C32+C26+C25+C24+C23) -> 13580000 | D34: =SUM(D33+D32+D26+D25+D24+D23) -> 0 | E34: =SUM(E33+E32+E26+E25+E24+E23) -> 20000 | F34: =SUM(F33+F32+F26+F25+F24+F23) -> 13600000
A35: Áru- és készletértékesítés ellenértéke | B35: B401 | C35: 0 | D35: 0 | E35: 0 | F35: =SUM(C35:E35) -> 0
A36: Szolgáltatások ellenértéke | B36: B402 | C36: 0 | D36: 0 | E36: 0 | F36: =SUM(C36:E36) -> 0
A37: Közvetített szolgáltatások értéke | B37: B403 | C37: 1350000 | D37: 0 | E37: 0 | F37: =SUM(C37:E37) -> 1350000
A38: Tulajdonosi bevételek | B38: B404 | C38: 1070000 | D38: 0 | E38: 0 | F38: =SUM(C38:E38) -> 1070000
A39: Ellátási díjak | B39: B405 | C39: 450000 | D39: 0 | E39: 0 | F39: =SUM(C39:E39) -> 450000
A40: Kiszámlázott általános forgalmi adó | B40: B406 | C40: 0 | D40: 0 | E40: 0 | F40: =SUM(C40:E40) -> 0
A41: Általános forgalmi adó visszatérítése | B41: B407 | C41: 0 | D41: 0 | E41: 0 | F41: =SUM(C41:E41) -> 0
A42: Kamatbevételek | B42: B408 | C42: 0 | D42: 0 | E42: 0 | F42: =SUM(C42:E42) -> 0
...

Sheet 6. melléklet 
B1: 6. melléklet 1/2019. (I.22.) önkormányzati rendelethez
A3: SOROKPOLÁNY Önkormányzat 2019. évi költségvetése
A4: Bevételek (Ft)
A6: BÓBITA ÓVODA ELŐIRÁNYZATOK | C6: EREDETI ELŐIRÁNYZAT
A7: Rovat megnevezése | B7: Rovat- szám | C7: kötelező feladatok | D7: önként vállalt feladatok | E7: államigazgatási feladatok | F7: ÖSSZESEN
A8: Helyi önkormányzatok működésének általános támogatása | B8: B111 | C8: 0 | D8: 0 | E8: 0 | F8: =SUM(C8:E8) -> 0
A9: Települési önkormányzatok egyes köznevelési feladatainak támogatása | B9: B112 | C9: 0 | D9: 0 | E9: 0 | F9: =SUM(C9:E9) -> 0
A10: Települési önkormányzatok szociális és gyermekjóléti feladatainak támogatása | B10: B113 | C10: 0 | D10: 0 | E10: 0 | F10: =SUM(C10:E10) -> 0
A11: Települési önkormányzatok kulturális feladatainak támogatása | B11: B114 | C11: 0 | D11: 0 | E11: 0 | F11: =SUM(C11:E11) -> 0
A12: Működési célú központosított előirányzatok | B12: B115 | C12: 0 | D12: 0 | E12: 0 | F12: =SUM(C12:E12) -> 0
A13: Elszámolásból származó bevételek | B13: B116 | C13: 0 | D13: 0 | E13: 0 | F13: =SUM(C13:E13) -> 0
A14: Önkormányzatok működési támogatásai | B14: B11 | C14: =SUM(C8:C13) -> 0 | D14: =SUM(D8:D13) -> 0 | E14: =SUM(E8:E13) -> 0 | F14: =SUM(C14:E14) -> 0
A15: Elvonások és befizetések bevételei | B15: B12 | C15: 0 | D15: 0 | E15: 0 | F15: =SUM(C15:E15) -> 0
A16: Működési célú garancia- és kezességvállalásból származó megtérülések államháztartáson belülről | B16: B13 | C16: 0 | D16: 0 | E16: 0 | F16: =SUM(C16:E16) -> 0
A17: Működési célú visszatérítendő támogatások, kölcsönök visszatérülése államháztartáson belülről | B17: B14 | C17: 0 | D17: 0 | E17: 0 | F17: =SUM(C17:E17) -> 0
A18: Működési célú visszatérítendő támogatások, kölcsönök igénybevétele államháztartáson belülről | B18: B15 | C18: 0 | D18: 0 | E18: 0 | F18: =SUM(C18:E18) -> 0
A19: Egyéb működési célú támogatások bevételei államháztartáson belülről | B19: B16 | C19: 0 | D19: 0 | E19: 0 | F19: =SUM(C19:E19) -> 0
A20: Működési célú támogatások államháztartáson belülről | B20: B1 | C20: =SUM(C14:C19) -> 0 | D20: =SUM(D14:D19) -> 0 | E20: =SUM(E14:E19) -> 0 | F20: =SUM(C20:E20) -> 0
A21: Magánszemélyek jövedelemadói | B21: B311 | C21: 0 | D21: 0 | E21: 0 | F21: =SUM(C21:E21) -> 0
A22: Társaságok jövedelemadói | B22: B312 | C22: 0 | D22: 0 | E22: 0 | F22: =SUM(C22:E22) -> 0
A23: Jövedelemadók | B23: B31 | C23: =SUM(C21:C22) -> 0 | D23: =SUM(D21:D22) -> 0 | E23: =SUM(E21:E22) -> 0 | F23: =SUM(C23:E23) -> 0
A24: Szociális hozzájárulási adó és járulékok | B24: B32 | C24: 0 | D24: 0 | E24: 0 | F24: =SUM(C24:E24) -> 0
A25: Bérhez és foglalkoztatáshoz kapcsolódó adók | B25: B33 | C25: 0 | D25: 0 | E25: 0 | F25: =SUM(C25:E25) -> 0
A26: Vagyoni tipusú adók | B26: B34 | C26: 0 | D26: 0 | E26: 0 | F26: =SUM(C26:E26) -> 0
A27: Értékesítési és forgalmi adók | B27: B351 | C27: 0 | D27: 0 | E27: 0 | F27: =SUM(C27:E27) -> 0
A28: Fogyasztási adók | B28: B352 | C28: 0 | D28: 0 | E28: 0 | F28: =SUM(C28:E28) -> 0
A29: Pénzügyi monopóliumok nyereségét terhelő adók | B29: B353 | C29: 0 | D29: 0 | E29: 0 | F29: =SUM(C29:E29) -> 0
A30: Gépjárműadók | B30: B354 | C30: 0 | D30: 0 | E30: 0 | F30: =SUM(C30:E30) -> 0
A31: Egyéb áruhasználati és szolgáltatási adók | B31: B355 | C31: 0 | D31: 0 | E31: 0 | F31: =SUM(C31:E31) -> 0
A32: Termékek és szolgáltatások adói | B32: B35 | C32: =SUM(C27:C31) -> 0 | D32: =SUM(D27:D31) -> 0 | E32: =SUM(E27:E31) -> 0 | F32: =SUM(C32:E32) -> 0
A33: Egyéb közhatalmi bevételek | B33: B36 | C33: 0 | D33: 0 | E33: 0 | F33: =SUM(C33:E33) -> 0
A34: Közhatalmi bevételek | B34: B3 | C34: =C23+C24+C25+C26+C32+C33 -> 0 | D34: =D23+D24+D25+D26+D32+D33 -> 0 | E34: =E23+E24+E25+E26+E32+E33 -> 0 | F34: =SUM(C34:E34) -> 0
A35: Áru- és készletértékesítés ellenértéke | B35: B401 | C35: 0 | D35: 0 | E35: 0 | F35: =SUM(C35:E35) -> 0
A36: Szolgáltatások ellenértéke | B36: B402 | C36: 0 | D36: 0 | E36: 0 | F36: =SUM(C36:E36) -> 0
A37: Közvetített szolgáltatások értéke | B37: B403 | C37: 0 | D37: 0 | E37: 0 | F37: =SUM(C37:E37) -> 0
A38: Tulajdonosi bevételek | B38: B404 | C38: 0 | D38: 0 | E38: 0 | F38: =SUM(C38:E38) -> 0
A39: Ellátási díjak | B39: B405 | C39: 0 | D39: 0 | E39: 0 | F39: =SUM(C39:E39) -> 0
A40: Kiszámlázott általános forgalmi adó | B40: B406 | C40: 0 | D40: 0 | E40: 0 | F40: =SUM(C40:E40) -> 0
A41: Általános forgalmi adó visszatérítése | B41: B407 | C41: 0 | D41: 0 | E41: 0 | F41: =SUM(C41:E41) -> 0
A42: Kamatbevételek | B42: B408 | C42: 0 | D42: 0 | E42: 0 | F42: =SUM(C42:E42) -> 0
...

Sheet 7. melléklet 
B1: 7. melléklet 1/2019. (I.22.) önkormányzati rendelethez
A3: SOROKPOLÁNY Önkormányzat 2019. évi költségvetése
A4: Bevételek (Ft)
A6: Sorokpolány Önkormányzat és költségvetési szervei előirányzat | C6: EREDETI ELŐIRÁNYZAT
A7: Rovat megnevezése | B7: Rovat- szám | C7: kötelező feladatok | D7: önként vállalt feladatok | E7: államigazgatási feladatok | F7: ÖSSZESEN
A8: Helyi önkormányzatok működésének általános támogatása | B8: B111 | C8: 13368394 | D8: ='[1]4. melléklet'!D8+'[1]5. melléklet '!D8 -> 0 | E8: ='[1]4. melléklet'!E8+'[1]5. melléklet '!E8 -> 0 | F8: =SUM(C8:E8) -> 13368394
A9: Települési önkormányzatok egyes köznevelési feladatainak támogatása | B9: B112 | C9: 13356868 | D9: ='[1]4. melléklet'!D9+'[1]5. melléklet '!D9 -> 0 | E9: ='[1]4. melléklet'!E9+'[1]5. melléklet '!E9 -> 0 | F9: =SUM(C9:E9) -> 13356868
A10: Települési önkormányzatok szociális és gyermekjóléti feladatainak támogatása | B10: B113 | C10: 8077897 | D10: ='[1]4. melléklet'!D10+'[1]5. melléklet '!D10 -> 0 | E10: ='[1]4. melléklet'!E10+'[1]5. melléklet '!E10 -> 0 | F10: =SUM(C10:E10) -> 8077897
A11: Települési önkormányzatok kulturális feladatainak támogatása | B11: B114 | C11: ='[1]4. melléklet'!C11+'[1]5. melléklet '!C11 -> 1800000 | D11: ='[1]4. melléklet'!D11+'[1]5. melléklet '!D11 -> 0 | E11: ='[1]4. melléklet'!E11+'[1]5. melléklet '!E11 -> 0 | F11: =SUM(C11:E11) -> 1800000
A12: Működési célú központosított előirányzatok | B12: B115 | C12: ='[1]4. melléklet'!C12+'[1]5. melléklet '!C12 -> 0 | D12: ='[1]4. melléklet'!D12+'[1]5. melléklet '!D12 -> 0 | E12: ='[1]4. melléklet'!E12+'[1]5. melléklet '!E12 -> 0 | F12: =SUM(C12:E12) -> 0
A13: Elszámolásból származó bevételek | B13: B116 | C13: ='[1]4. melléklet'!C13+'[1]5. melléklet '!C13 -> 0 | D13: ='[1]4. melléklet'!D13+'[1]5. melléklet '!D13 -> 0 | E13: ='[1]4. melléklet'!E13+'[1]5. melléklet '!E13 -> 0 | F13: =SUM(C13:E13) -> 0
A14: Önkormányzatok működési támogatásai | B14: B11 | C14: =SUM(C8:C13) -> 36603159 | D14: ='[1]4. melléklet'!D14+'[1]5. melléklet '!D14 -> 0 | E14: ='[1]4. melléklet'!E14+'[1]5. melléklet '!E14 -> 0 | F14: =SUM(C14:E14) -> 36603159
A15: Elvonások és befizetések bevételei | B15: B12 | C15: ='[1]4. melléklet'!C15+'[1]5. melléklet '!C15 -> 0 | D15: ='[1]4. melléklet'!D15+'[1]5. melléklet '!D15 -> 0 | E15: ='[1]4. melléklet'!E15+'[1]5. melléklet '!E15 -> 0 | F15: =SUM(C15:E15) -> 0
A16: Működési célú garancia- és kezességvállalásból származó megtérülések államháztartáson belülről | B16: B13 | C16: ='[1]4. melléklet'!C16+'[1]5. melléklet '!C16 -> 0 | D16: ='[1]4. melléklet'!D16+'[1]5. melléklet '!D16 -> 0 | E16: ='[1]4. melléklet'!E16+'[1]5. melléklet '!E16 -> 0 | F16: =SUM(C16:E16) -> 0
A17: Működési célú visszatérítendő támogatások, kölcsönök visszatérülése államháztartáson belülről | B17: B14 | C17: ='[1]4. melléklet'!C17+'[1]5. melléklet '!C17 -> 0 | D17: ='[1]4. melléklet'!D17+'[1]5. melléklet '!D17 -> 0 | E17: ='[1]4. melléklet'!E17+'[1]5. melléklet '!E17 -> 0 | F17: =SUM(C17:E17) -> 0
A18: Működési célú visszatérítendő támogatások, kölcsönök igénybevétele államháztartáson belülről | B18: B15 | C18: ='[1]4. melléklet'!C18+'[1]5. melléklet '!C18 -> 0 | D18: ='[1]4. melléklet'!D18+'[1]5. melléklet '!D18 -> 0 | E18: ='[1]4. melléklet'!E18+'[1]5. melléklet '!E18 -> 0 | F18: =SUM(C18:E18) -> 0
A19: Egyéb működési célú támogatások bevételei államháztartáson belülről | B19: B16 | C19: ='[1]4. melléklet'!C19+'[1]5. melléklet '!C19 -> 0 | D19: ='[1]4. melléklet'!D19+'[1]5. melléklet '!D19 -> 0 | E19: ='[1]4. melléklet'!E19+'[1]5. melléklet '!E19 -> 0 | F19: =SUM(C19:E19) -> 0
A20: Működési célú támogatások államháztartáson belülről | B20: B1 | C20: =SUM(C14:C19) -> 36603159 | D20: ='[1]4. melléklet'!D20+'[1]5. melléklet '!D20 -> 0 | E20: ='[1]4. melléklet'!E20+'[1]5. melléklet '!E20 -> 0 | F20: =SUM(C20:E20) -> 36603159
A21: Magánszemélyek jövedelemadói | B21: B311 | C21: ='[1]4. melléklet'!C21+'[1]5. melléklet '!C21 -> 0 | D21: ='[1]4. melléklet'!D21+'[1]5. melléklet '!D21 -> 0 | E21: ='[1]4. melléklet'!E21+'[1]5. melléklet '!E21 -> 0 | F21: =SUM(C21:E21) -> 0
A22: Társaságok jövedelemadói | B22: B312 | C22: ='[1]4. melléklet'!C22+'[1]5. melléklet '!C22 -> 0 | D22: ='[1]4. melléklet'!D22+'[1]5. melléklet '!D22 -> 0 | E22: ='[1]4. melléklet'!E22+'[1]5. melléklet '!E22 -> 0 | F22: =SUM(C22:E22) -> 0
A23: Jövedelemadók | B23: B31 | C23: ='[1]4. melléklet'!C23+'[1]5. melléklet '!C23 -> 0 | D23: ='[1]4. melléklet'!D23+'[1]5. melléklet '!D23 -> 0 | E23: ='[1]4. melléklet'!E23+'[1]5. melléklet '!E23 -> 0 | F23: =SUM(C23:E23) -> 0
A24: Szociális hozzájárulási adó és járulékok | B24: B32 | C24: ='[1]4. melléklet'!C24+'[1]5. melléklet '!C24 -> 0 | D24: ='[1]4. melléklet'!D24+'[1]5. melléklet '!D24 -> 0 | E24: ='[1]4. melléklet'!E24+'[1]5. melléklet '!E24 -> 0 | F24: =SUM(C24:E24) -> 0
A25: Bérhez és foglalkoztatáshoz kapcsolódó adók | B25: B33 | C25: ='[1]4. melléklet'!C25+'[1]5. melléklet '!C25 -> 0 | D25: ='[1]4. melléklet'!D25+'[1]5. melléklet '!D25 -> 0 | E25: ='[1]4. melléklet'!E25+'[1]5. melléklet '!E25 -> 0 | F25: =SUM(C25:E25) -> 0
A26: Vagyoni tipusú adók | B26: B34 | C26: 1000000 | D26: ='[1]4. melléklet'!D26+'[1]5. melléklet '!D26 -> 0 | E26: ='[1]4. melléklet'!E26+'[1]5. melléklet '!E26 -> 0 | F26: =SUM(C26:E26) -> 1000000
A27: Értékesítési és forgalmi adók | B27: B351 | C27: 10500000 | D27: ='[1]4. melléklet'!D27+'[1]5. melléklet '!D27 -> 0 | E27: ='[1]4. melléklet'!E27+'[1]5. melléklet '!E27 -> 0 | F27: =SUM(C27:E27) -> 10500000
A28: Fogyasztási adók | B28: B352 | C28: ='[1]4. melléklet'!C28+'[1]5. melléklet '!C28 -> 0 | D28: ='[1]4. melléklet'!D28+'[1]5. melléklet '!D28 -> 0 | E28: ='[1]4. melléklet'!E28+'[1]5. melléklet '!E28 -> 0 | F28: =SUM(C28:E28) -> 0
A29: Pénzügyi monopóliumok nyereségét terhelő adók | B29: B353 | C29: ='[1]4. melléklet'!C29+'[1]5. melléklet '!C29 -> 0 | D29: ='[1]4. melléklet'!D29+'[1]5. melléklet '!D29 -> 0 | E29: ='[1]4. melléklet'!E29+'[1]5. melléklet '!E29 -> 0 | F29: =SUM(C29:E29) -> 0
A30: Gépjárműadók | B30: B354 | C30: ='[1]4. melléklet'!C30+'[1]5. melléklet '!C30 -> 1900000 | D30: ='[1]4. melléklet'!D30+'[1]5. melléklet '!D30 -> 0 | E30: ='[1]4. melléklet'!E30+'[1]5. melléklet '!E30 -> 0 | F30: =SUM(C30:E30) -> 1900000
A31: Egyéb áruhasználati és szolgáltatási adók | B31: B355 | C31: ='[1]4. melléklet'!C31+'[1]5. melléklet '!C31 -> 0 | D31: ='[1]4. melléklet'!D31+'[1]5. melléklet '!D31 -> 0 | E31: ='[1]4. melléklet'!E31+'[1]5. melléklet '!E31 -> 0 | F31: =SUM(C31:E31) -> 0
A32: Termékek és szolgáltatások adói | B32: B35 | C32: =SUM(C27:C31) -> 12400000 | D32: ='[1]4. melléklet'!D32+'[1]5. melléklet '!D32 -> 0 | E32: ='[1]4. melléklet'!E32+'[1]5. melléklet '!E32 -> 0 | F32: =SUM(C32:E32) -> 12400000
A33: Egyéb közhatalmi bevételek | B33: B36 | C33: 180000 | D33: ='[1]4. melléklet'!D33+'[1]5. melléklet '!D33 -> 0 | E33: ='[1]4. melléklet'!E33+'[1]5. melléklet '!E33 -> 20000 | F33: =SUM(C33:E33) -> 200000
A34: Közhatalmi bevételek | B34: B3 | C34: =SUM(C23+C24+C25+C26+C32+C33) -> 13580000 | D34: ='[1]4. melléklet'!D34+'[1]5. melléklet '!D34 -> 0 | E34: ='[1]4. melléklet'!E34+'[1]5. melléklet '!E34 -> 20000 | F34: =SUM(C34:E34) -> 13600000
A35: Áru- és készletértékesítés ellenértéke | B35: B401 | C35: ='[1]4. melléklet'!C35+'[1]5. melléklet '!C35 -> 0 | D35: ='[1]4. melléklet'!D35+'[1]5. melléklet '!D35 -> 0 | E35: ='[1]4. melléklet'!E35+'[1]5. melléklet '!E35 -> 0 | F35: =SUM(C35:E35) -> 0
A36: Szolgáltatások ellenértéke | B36: B402 | C36: ='[1]4. melléklet'!C36+'[1]5. melléklet '!C36 -> 0 | D36: ='[1]4. melléklet'!D36+'[1]5. melléklet '!D36 -> 0 | E36: ='[1]4. melléklet'!E36+'[1]5. melléklet '!E36 -> 0 | F36: =SUM(C36:E36) -> 0
A37: Közvetített szolgáltatások értéke | B37: B403 | C37: 1350000 | D37: ='[1]4. melléklet'!D37+'[1]5. melléklet '!D37 -> 0 | E37: ='[1]4. melléklet'!E37+'[1]5. melléklet '!E37 -> 0 | F37: =SUM(C37:E37) -> 1350000
A38: Tulajdonosi bevételek | B38: B404 | C38: 1070000 | D38: ='[1]4. melléklet'!D38+'[1]5. melléklet '!D38 -> 0 | E38: ='[1]4. melléklet'!E38+'[1]5. melléklet '!E38 -> 0 | F38: =SUM(C38:E38) -> 1070000
A39: Ellátási díjak | B39: B405 | C39: 450000 | D39: ='[1]4. melléklet'!D39+'[1]5. melléklet '!D39 -> 0 | E39: ='[1]4. melléklet'!E39+'[1]5. melléklet '!E39 -> 0 | F39: =SUM(C39:E39) -> 450000
A40: Kiszámlázott általános forgalmi adó | B40: B406 | C40: ='[1]4. melléklet'!C40+'[1]5. melléklet '!C40 -> 0 | D40: ='[1]4. melléklet'!D40+'[1]5. melléklet '!D40 -> 0 | E40: ='[1]4. melléklet'!E40+'[1]5. melléklet '!E40 -> 0 | F40: =SUM(C40:E40) -> 0
A41: Általános forgalmi adó visszatérítése | B41: B407 | C41: ='[1]4. melléklet'!C41+'[1]5. melléklet '!C41 -> 0 | D41: ='[1]4. melléklet'!D41+'[1]5. melléklet '!D41 -> 0 | E41: ='[1]4. melléklet'!E41+'[1]5. melléklet '!E41 -> 0 | F41: =SUM(C41:E41) -> 0
A42: Kamatbevételek | B42: B408 | C42: ='[1]4. melléklet'!C42+'[1]5. melléklet '!C42 -> 0 | D42: ='[1]4. melléklet'!D42+'[1]5. melléklet '!D42 -> 0 | E42: ='[1]4. melléklet'!E42+'[1]5. melléklet '!E42 -> 0 | F42: =SUM(C42:E42) -> 0
...

Sheet 8. melléklet
A1: 8. melléklet 1/2019. (I.22.) önkormányzati rendelethez
A3: SOROKPOLÁNY Önkormányzat 2019. évi költségvetése
A4: Beruházások és felújítások (Ft)
A6: Rovat megnevezése | B6: Rovat-szám | C6: ÖNKORMÁNYZATI ELŐIRÁNYZATOK | D6: BÓBITA ÓVODA | E6: MINDÖSSZESEN
A11: Immateriális javak beszerzése, létesítése | B11: K61 | E11: =SUM(C11:D11) -> 0
E12: =SUM(C12:D12) -> 0
E13: =SUM(C13:D13) -> 0
E14: =SUM(C14:D14) -> 0
E15: =SUM(C15:D15) -> 0
A16: Ingatlanok beszerzése, létesítése | B16: K62 | C16: 0 | E16: =SUM(C16:D16) -> 0
E17: =SUM(C17:D17) -> 0
E18: =SUM(C18:D18) -> 0
E19: =SUM(C19:D19) -> 0
E20: =SUM(C20:D20) -> 0
A21: Informatikai eszközök beszerzése, létesítése | B21: K63 | E21: =SUM(C21:D21) -> 0
A22: Önkormányzat irodabútor | C22: 0 | E22: =SUM(C22:D22) -> 0
A23: Fűnyíró, egyéb eszközök | C23: 0 | E23: =SUM(C23:D23) -> 0
A24: Könyvtár bútor | C24: 0 | E24: =SUM(C24:D24) -> 0
A25: Egyéb tárgyi eszközök beszerzése, létesítése | B25: K64 | C25: 1774803 | D25: 50000 | E25: =SUM(C25:D25) -> 1824803
E26: =SUM(C26:D26) -> 0
E27: =SUM(C27:D27) -> 0
A28: Részesedések beszerzése | B28: K65 | E28: =SUM(C28:D28) -> 0
E29: =SUM(C29:D29) -> 0
E30: =SUM(C30:D30) -> 0
A31: Meglévő részesedések növeléséhez kapcsolódó kiadások | B31: K66 | E31: =SUM(C31:D31) -> 0
A32: Beruházási célú előzetesen felszámított általános forgalmi adó | B32: K67 | C32: 479197 | D32: 15000 | E32: =SUM(C32:D32) -> 494197
A33: Beruházások | B33: K6 | C33: =SUM(C16:C32) -> 2254000 | D33: 65000 | E33: =SUM(C33:D33) -> 2319000
A38: Ingatlanok felújítása | B38: K71 | C38: 1600000 | E38: =SUM(C38:D38) -> 1600000
E39: =SUM(C39:D39) -> 0
E40: =SUM(C40:D40) -> 0
E41: =SUM(C41:D41) -> 0
E42: =SUM(C42:D42) -> 0
A43: Informatikai eszközök felújítása | B43: K72 | E43: =SUM(C43:D43) -> 0
E44: =SUM(C44:D44) -> 0
E45: =SUM(C45:D45) -> 0
E46: =SUM(C46:D46) -> 0
E47: =SUM(C47:D47) -> 0
A48: Egyéb tárgyi eszközök felújítása | B48: K73 | C48: 0 | E48: =SUM(C48:D48) -> 0
A49: Felújítási célú előzetesen felszámított általános forgalmi adó | B49: K74 | C49: 432000 | E49: =SUM(C49:D49) -> 432000
A50: Felújítások | B50: K7 | C50: =SUM(C38:C49) -> 2032000 | E50: =SUM(C50:D50) -> 2032000
...

Sheet 9. melléklet
B1: 9. melléklet 1/2019. (I.22.) önkormányzati rendelethez
A3: SOROKPOLÁNY Önkormányzat 2019. évi költségvetése
A4: Foglalkoztatottak létszáma (fő)
A7: MEGNEVEZÉS | B7: Költségvetési engedélyezett létszámkeret (álláshely) (fő) ÖNKORMÁNYZAT | C7: Költségvetési engedélyezett létszámkeret (álláshely) (fő) BÓBITA ÓVODA | D7: MINDÖSSZESEN
A8: főjegyző, jegyző, aljegyző, címzetes főjegyző, körjegyző | D8: =SUM(B8:C8) -> 0
A9: I. besorolási osztály összesen | D9: =SUM(B9:C9) -> 0
A10: II. besorolási osztály összesen | D10: =SUM(B10:C10) -> 0
A11: III. besorolási osztály összesen | D11: =SUM(B11:C11) -> 0
A12: KÖZTISZTVISELŐK, KORMÁNYTISZTVISELŐK ÖSSZESEN | B12: =SUM(B8:B11) -> 0 | C12: =SUM(C8:C11) -> 0 | D12: =SUM(B12:C12) -> 0
A13: igazgató (főigazgató), igazgatóhelyettes (főigazgató-helyettes) | D13: =SUM(B13:C13) -> 0
A14: főosztályvezető, főosztályvezető-helyettes, osztályvezető, ügykezelő osztályvezető, további vezető | D14: =SUM(B14:C14) -> 0
A15: főtanácsos, főmunkatárs, tanácsos, munkatárs | D15: =SUM(B15:C15) -> 0
A16: "A", "B" fizetési osztály összesen | B16: 0 | C16: 2 | D16: =SUM(B16:C16) -> 2
A17: "C", "D" fizetési osztály összesen | D17: =SUM(B17:C17) -> 0
A18: "E"-"J" fizetési osztály összesen | C18: 2 | D18: =SUM(B18:C18) -> 2
A19: kutató, felsőoktatásban oktató | D19: =SUM(B19:C19) -> 0
A20: KÖZALKALMAZOTTAK ÖSSZESEN | B20: =SUM(B13:B19) -> 0 | C20: =SUM(C13:C19) -> 4 | D20: =SUM(B20:C20) -> 4
A21: fizikai alkalmazott, a költségvetési szerveknél foglalkoztatott egyéb munkavállaló (fizikai alkalmazott) | B21: 1 | C21: 0 | D21: =SUM(B21:C21) -> 1
A22: ösztöndíjas foglalkoztatott | D22: =SUM(B22:C22) -> 0
A23: közfoglalkoztatott | D23: =SUM(B23:C23) -> 0
A24: EGYÉB BÉRRENDSZER ÖSSZESEN | B24: =SUM(B21:B23) -> 1 | C24: =SUM(C21:C23) -> 0 | D24: =SUM(B24:C24) -> 1
A25: polgármester, főpolgármester | B25: 1 | D25: =SUM(B25:C25) -> 1
A26: helyi önkormányzati képviselő-testület tagja, megyei közgyűlés tagja | B26: 3 | D26: =SUM(B26:C26) -> 3
A27: alpolgármester, főpolgármester-helyettes, megyei közgyűlés elnöke, alelnöke | B27: 1 | D27: =SUM(B27:C27) -> 1
A28: VÁLASZTOTT TISZTSÉGVISELŐK ÖSSZESEN | B28: =SUM(B25:B27) -> 5 | C28: =SUM(C25:C27) -> 0 | D28: =SUM(B28:C28) -> 5
A29: KÖLTSÉGVETÉSI ENGEDÉLYEZETT LÉTSZÁMKERETBE TARTOZÓ FOGLALKOZTATOTTAK LÉTSZÁMA MINDÖSSZESEN | B29: =SUM(B28,B24,B20,B12) -> 6 | C29: =SUM(C28,C24,C20,C12) -> 4 | D29: =SUM(B29:C29) -> 10
A30: prémiumévek programról és a különleges foglalkoztatási állományról szóló 2004. évi CXXII. törvény alapján foglalkoztatott prémiumévesek | D30: =SUM(B30:C30) -> 0
A31: prémiumévek programról és a különleges foglalkoztatási állományról szóló 2004. évi CXXII. törvény alapján foglalkoztatott különleges foglalkoztatási állományba helyezettek létszáma | D31: =SUM(B31:C31) -> 0
A32: ösztöndíjas foglalkoztatottak (Pftv, illetve Magyar Közigazgatási Ösztöndíjról szóló 228/2011. (X. 28.) Korm. rendelet) | D32: =SUM(B32:C32) -> 0
A33: munkaerőpiactól tartósan távol lévő személyek | D33: =SUM(B33:C33) -> 0
A34: KÖLTSÉGVETÉSI ENGEDÉLYEZETT LÉTSZÁMKERETBE NEM TARTOZÓ FOGLALKOZTATOTTAK LÉTSZÁMA AZ IDŐSZAK VÉGÉN ÖSSZESEN | B34: =SUM(B30:B33) -> 0 | C34: =SUM(C30:C33) -> 0 | D34: =SUM(B34:C34) -> 0

Sheet 10. melléklet
A1: 10. melléklet 1/2019. (I.22.) önkormányzati rendelethez
A3: SOROKPOLÁNY Önkormányzat 2019. évi költségvetése
A4: Az európai uniós forrásból finanszírozott támogatással megvalósuló programok, projektek kiadásai, bevételei, valamint a helyi önkormányzat ilyen projektekhez történő hozzájárulásai (Ft)
A7: Projekt megnevezése | B7: Eredeti ei.
A8: K1. Személyi juttatások
A9: K2. Munkaadókat terhelő járulékok és szociális hozzájárulási adó
A10: K3. Dologi kiadások
A11: K4. Ellátottak pénzbeli juttatásai
A12: K5. Egyéb működési célú kiadások
A13: K6. Beruházási kiadások
A14: K7. Felújítások
A15: K8. Egyéb felhalmozási célú kiadások
A16: K1-K8. Költségvetési kiadások ÖSSZESEN | B16: =SUM(B8:B15) -> 0
A17: B16 Működési célú támogatások fejezeti kezelésű előirányzatok EU-s programokra és azok hazai társfinanszírozásától
A18: B25 Felhalmozási célú támogatásokfejezeti kezelésű előirányzatok EU-s programokra és azok hazai társfinanszírozásától
A19: B63 Működési célú átvett pénzeszközök Európai Uniótól
A20: B73 Felhalmozási célú átvett pénzeszközök Európai Uniótól
A21: B1-7 A helyi önkormányzat projekthez történő hozzájárulása
A22: B1-B7 Költségvetési bevételek | B22: =SUM(B17:B21) -> 0
A23: B8 Finanszírozási bevételek- önkormányzat projekthez történő hozzájárulása
A24: BEVÉTELEK ÖSSZESEN | B24: =SUM(B22,B23,) -> 0

Sheet 11. melléklet
H1: 11. melléklet 1/2019. (I.22.) önkormányzati rendelethez
A2: SOROKPOLÁNY Önkormányzat 2019. évi költségvetése
A3: A költségvetési év azon fejlesztési céljai, amelyek megvalósításához a Gst. 3. § (1) bekezdése szerinti adósságot keletkeztető ügylet megkötése válik vagy válhat szükségessé (E Ft)
A5: ÖNKORMÁNYZATI ELŐIRÁNYZATOK
A6: Rovat megnevezése | B6: Rovat-szám | C6: kiadási eredeti előirányzat | D6: ebből kiadási előirányzat fedezete-saját forrás | E6: ebből kiadási előirányzat fedezete-adósságot keletkeztető ügylet | F6: adósságot keletkeztető ügylet fajtája | G6: adósságot keletkeztető ügylet rovatszáma (B8) | H6: adósságot keletkeztető ügylet kezdő időpontja | I6: adósságot keletkeztető ügylet lejárati időpontja | J6: adósságot keletkeztető ügylet- várható visszatérítendő összege (kamattal) leáratig mindösszesen
F7: hitel/lízing/kölcsön/értékpapír
A11: Immateriális javak beszerzése, létesítése | B11: K61
A16: Ingatlanok beszerzése, létesítése | B16: K62
A21: Informatikai eszközök beszerzése, létesítése | B21: K63
A24: Egyéb tárgyi eszközök beszerzése, létesítése | B24: K64
A27: Részesedések beszerzése | B27: K65
A30: Meglévő részesedések növeléséhez kapcsolódó kiadások | B30: K66
A31: Beruházási célú előzetesen felszámított általános forgalmi adó | B31: K67
A32: Beruházások | B32: K6 | C32: =SUM(C11,C16,C21,C24,C27,C30,C31,) -> 0 | D32: =SUM(D11,D16,D21,D24,D27,D30,D31,) -> 0 | E32: =SUM(E11,E16,E21,E24,E27,E30,E31,) -> 0 | F32: =SUM(F11,F16,F21,F24,F27,F30,F31,) -> 0 | G32: =SUM(G11,G16,G21,G24,G27,G30,G31,) -> 0 | H32: =SUM(H11,H16,H21,H24,H27,H30,H31,) -> 0 | I32: =SUM(I11,I16,I21,I24,I27,I30,I31,) -> 0 | J32: =SUM(J11,J16,J21,J24,J27,J30,J31,) -> 0
A37: Ingatlanok felújítása | B37: K71
A42: Informatikai eszközök felújítása | B42: K72
A47: Egyéb tárgyi eszközök felújítása | B47: K73
A48: Felújítási célú előzetesen felszámított általános forgalmi adó | B48: K74
A49: Felújítások | B49: K7 | C49: =SUM(C37,C42,C47,C48,) -> 0 | D49: =SUM(D37,D42,D47,D48,) -> 0 | E49: =SUM(E37,E42,E47,E48,) -> 0 | F49: =SUM(F37,F42,F47,F48,) -> 0 | G49: =SUM(G37,G42,G47,G48,) -> 0 | H49: =SUM(H37,H42,H47,H48,) -> 0 | I49: =SUM(I37,I42,I47,I48,) -> 0 | J49: =SUM(J37,J42,J47,J48,) -> 0
A50: Az önkormányzati garanciákból és önkormányzati kezességekből fennálló kötelezettségek az adósságot keletkeztető ügyletek futamidejének végéig, illetve a garancia, kezesség érvényesíthetőségéig
A51: ebből:
A52: ebből:
A53: ebből:
A56: Adósságot keletkeztető ügylet és annak értéke:
A58: a) hitel, kölcsön felvétele, átvállalása a folyósítás, átvállalás napjától a végtörlesztés napjáig, és annak aktuális tőketartozása,
A59: b) a számvitelről szóló törvény (a továbbiakban: Szt.) szerinti hitelviszonyt megtestesítő értékpapír forgalomba hozatala a forgalomba hozatal napjától a beváltás napjáig, kamatozó értékpapír esetén annak névértéke, egyéb értékpapír esetén annak vételára,
A60: c) váltó kibocsátása a kibocsátás napjától a beváltás napjáig, és annak a váltóval kiváltott kötelezettséggel megegyező, kamatot nem tartalmazó értéke,
A61: d) az Szt. szerint pénzügyi lízing lízingbevevői félként történő megkötése a lízing futamideje alatt, és a lízingszerződésben kikötött tőkerész hátralévő összege,
A62: e) a visszavásárlási kötelezettség kikötésével megkötött adásvételi szerződés eladói félként történő megkötése - ideértve az Szt. szerinti valódi penziós és óvadéki repóügyleteket is - a visszavásárlásig, és a kikötött visszavásárlási ár,
A63: f) a szerződésben kapott, legalább háromszázhatvanöt nap időtartamú halasztott fizetés, részletfizetés, és a még ki nem fizetett ellenérték,
A64: g) hitelintézetek által, származékos műveletek különbözeteként az Államadósság Kezelő Központ Zrt.-nél (a továbbiakban: ÁKK Zrt.) elhelyezett fedezeti betétek, és azok összege.
A65: (2) Az (1) bekezdés szerinti adósságot keletkeztető ügyletként nem kell figyelembe venni a költségvetési év első hat hónapjában lejáró adósság előző költségvetési évben történő előfinanszírozását, amelynek összege nem haladja meg a költségvetési év első hat hónapja során várható törlesztések összegét.

Sheet 12. melléklet
E1: 12. melléklet 1/2019. (I.22.) önkormányzati rendelethez
A3: SOROKPOLÁNY Önkormányzat 2019. évi költségvetése
A4: A Gst. 3. § (1) bekezdése szerinti adósságot keletkeztető ügyletekből és kezességvállalásokból fennálló kötelezettségek az adósságot keletkeztető ügyletek futamidejének végéig, illetve a kezesség érvényesíthetőségéig, és a Gst. 45. § (1) bekezdés a) pontja felhatalmazása alapján kiadott jogszabályban meghatározottak szerinti saját bevételek (Ft)
A6: ÖNKORMÁNYZATI ELŐIRÁNYZATOK | F6: SAJÁT BEVÉTELEK
A7: Rovat megnevezése | B7: Rovat-szám | C7: adósságot keletkeztető ügylet kezdő időpontja | D7: adósságot keletkeztető ügylet lejárati időpontja | E7: adósságot keletkeztető ügyletekből és kezességvállalásokból fennálló kötelezettségek | F7: 2016 | G7: 2017 | H7: 2018 | I7: 2019
A8: Hosszú lejáratú hitelek, kölcsönök felvétele | B8: B8111
A9: ebből: pénzügyi vállalkozás | B9: B8111
A10: Likviditási célú hitelek, kölcsönök felvétele pénzügyi vállalkozástól | B10: B8112
A11: Rövid lejáratú hitelek, kölcsönök felvétele | B11: B8113
A12: ebből: pénzügyi vállalkozás | B12: B8113
A13: Hitel-, kölcsönfelvétel államháztartáson kívülről | B13: B811
A14: Forgatási célú belföldi értékpapírok beváltása, értékesítése | B14: B8121
A15: ebből: befektetési jegyek | B15: B8121
A16: Forgatási célú belföldi értékpapírok kibocsátása | B16: B8122
A17: Befektetési célú belföldi értékpapírok beváltása, értékesítése | B17: B8123
A18: ebből: kárpótlási jegyek | B18: B8123
A19: Befektetési célú belföldi értékpapírok kibocsátása | B19: B8124
... A28: Külföldi finanszírozás bevételei | B28: B82
A30: Rovat megnevezése | B30: Rovat-szám | C30: saját bevételek 2016. | D30: saját bevételek 2017. | E30: saját bevételek 2018. | F30: saját bevételek 2019.
A31: 353/2011. (XII. 30.) Korm. Rendelet értelmében az önkormányzat saját bevételének minősül
A32: 1.a helyi adóból és a települési adóból származó bevétel,
A33: 2. az önkormányzati vagyon és az önkormányzatot megillető vagyoni értékű jog értékesítéséből és hasznosításából származó bevétel,
A34: 3. az osztalék, a koncessziós díj és a hozambevétel,
A35: 4. a tárgyi eszköz és az immateriális jószág, részvény, részesedés, vállalat értékesítéséből vagy privatizációból származó bevétel,
A36: 5. bírság-, pótlék- és díjbevétel,
A37: 6. a kezesség-, illetve garanciavállalással kapcsolatos megtérülés.
A38: ÖSSZESEN:
A41: Az önkormányzat adósságot keletkeztető ügyletből származó tárgyévi összes fizetési kötelezettsége az adósságot keletkeztető ügylet futamidejének végéig egyik évben sem haladhatja meg az önkormányzat adott évi saját bevételeinek 50%-át.

Sheet 13. melléklet
F1: 13. melléklet 1/2019. (I.22.) önkormányzati rendelethez
A3: SOROKPOLÁNY Önkormányzat 2019. évi költségvetése
A4: Általános- és céltartalékok (Ft)
A7: Rovat megnevezése | B7: Rovat-szám | C7: ÖNKORMÁNYZATI ELŐIRÁNYZATOK | D7: BÓBITA ÓVODA | E7: KÖLTSÉGVETÉSI SZERV | F7: KÖLTSÉGVETÉSI SZERV | G7: KÖLTSÉGVETÉSI SZERV | H7: MINDÖSSZESEN
A12: Általános tartalékok | B12: K513 | C12: =SUM('2. melléklet'!F74) -> 14249455 | H12: =SUM(C12:G12) -> 14249455
A17: Céltartalékok | B17: K513

Sheet 14. melléklet
C2: 14. melléklet 1/2019. (I.22.) önkormányzati rendelethez
A4: SOROKPOLÁNY Önkormányzat 2019. évi költségvetése
A5: A közvetett támogatások (Ft)
A7: ÖNKORMÁNYZATI ELŐIRÁNYZATOK
A8: Rovat megnevezése | B8: Rovat-szám | C8: tervezett elvárt bevétel | D8: közvetett támogatás | E8: várható bevétel
A13: az ellátottak térítési díjának, kártérítésének méltányossági alapon történő elengedésének összege | B13: B405 | C13: =SUM(C9:C12) -> 0 | D13: =SUM(D9:D12) -> 0 | E13: =SUM(E9:E12) -> 0
A18: a lakosság részére lakásépítéshez, lakásfelújításhoz nyújtott kölcsönök elengedésének összege | B18: B72
A19: építményadó | B19: B34
A20: épület után fizetett idegenforgalmi adó | B20: B34
A21: magánszemélyek kommunális adója | B21: B34
A22: telekadó | B22: B34
A23: Gépjárműadók | B23: B354
A24: Értékesítési és forgalmi adók | B24: B351
A26: a helyi adónál, gépjárműadónál biztosított kedvezmény, mentesség összege adónemenként | B26: B3, B7 | C26: =SUM(C18:C24) -> 0 | D26: =SUM(D18:D24) -> 0 | E26: =SUM(E18:E24) -> 0
B27: B402
B28: B5
A31: a helyiségek, eszközök hasznosításából származó bevételből nyújtott kedvezmény, mentesség összege | B31: B4, B5 | C31: =SUM(C27:C28) -> 0 | D31: =SUM(D27:D28) -> 0 | E31: =SUM(E27:E28) -> 0
A36: az egyéb nyújtott kedvezmény vagy kölcsön elengedésének összege

Sheet 15. melléklet
A1: 15. melléklet 1/2019. (I.22.) önkormányzati rendelethez
A3: SOROKPOLÁNY Önkormányzat 2019. évi költségvetése
A4: Támogatások, kölcsönök nyújtása és törlesztése (Ft)
A6: ÖNKORMÁNYZATI ELŐIRÁNYZATOK
A7: Megnevezés | B7: Rovat-szám | C7: eredeti ei.
A8: központi költségvetési szervek részére | B8: K504
A9: központi kezelésű előirányzatok részére | B9: K504
A10: fejezeti kezelésű előirányzatok EU-s programokra és azok hazai társfinanszírozása részére | B10: K504
A11: egyéb fejezeti kezelésű előirányzatok részére | B11: K504
A12: társadalombiztosítás pénzügyi alapjai részére | B12: K504
A13: elkülönített állami pénzalapok részére | B13: K504
A14: helyi önkormányzatok és költségvetési szerveik részére | B14: K504
A15: társulások és költségvetési szerveik részére | B15: K504
A16: nemzetiségi önkormányzatok és költségvetési szerveik részére | B16: K504
A17: térségi fejlesztési tanácsok és költségvetési szerveik részére | B17: K504
A18: Működési célú visszatérítendő támogatások, kölcsönök nyújtása államháztartáson belülre | B18: K504
A19: központi költségvetési szervek részére | B19: K505
... A36: helyi önkormányzatok és költségvetési szerveik részére | B36: K506
A37: társulások és költségvetési szerveik részére | B37: K506 | C37: 1900063
A38: nemzetiségi önkormányzatok és költségvetési szerveik részére | B38: K506
A39: térségi fejlesztési tanácsok és költségvetési szerveik részére | B39: K506
A40: Egyéb működési célú támogatások államháztartáson belülre | B40: K506 | C40: =SUM(C30:C39) -> 1900063
A41: egyházi jogi személyek részére | B41: K508
A42: egyéb civil szervezetek részére | B42: K508
A43: háztartások részére | B43: K508
A44: pénzügyi vállalkozások részére | B44: K508
A45: állami többségi tulajdonú nem pénzügyi vállalkozások részére | B45: K508
A46: önkormányzati többségi tulajdonú nem pénzügyi vállalkozások részére | B46: K508
A47: egyéb vállalkozások részére | B47: K508
A48: Európai Unió részére | B48: K508
A49: kormányok és nemzetközi szervezetek részére | B49: K508
A50: egyéb külföldiek részére | B50: K508
A51: Működési célú visszatérítendő támogatások, kölcsönök nyújtása államháztartáson kívülre | B51: K508
A52: egyházi jogi személyek részére | B52: K512
A53: egyéb civil szervezetek részére | B53: K512 | C53: 550000
A54: háztartások részére | B54: K512 | C54: 480000
A55: pénzügyi vállalkozások részére | B55: K512
A56: állami többségi tulajdonú nem pénzügyi vállalkozások részére | B56: K512
A57: önkormányzati többségi tulajdonú nem pénzügyi vállalkozások részére | B57: K512
A58: egyéb vállalkozások részére | B58: K512
...

Sheet 16. melléklet
A1: 16. melléklet 1/2019. (I.22.) önkormányzati rendelethez
A3: SOROKPOLÁNY Önkormányzat 2019. évi költségvetése
A4: Támogatások, kölcsönök bevételei (Ft)
A6: ÖNKORMÁNYZATI ELŐIRÁNYZATOK
A7: Megnevezés | B7: Rovat-szám | C7: eredeti ei.
A8: központi költségvetési szervektől | B8: B14
A9: központi kezelésű előirányzatoktól | B9: B14
A10: fejezeti kezelésű előirányzatok EU-s programokra és azok hazai társfinanszírozásától | B10: B14
A11: egyéb fejezeti kezelésű előirányzatoktól | B11: B14
A12: társadalombiztosítás pénzügyi alapjaitól | B12: B14
A13: elkülönített állami pénzalapoktól | B13: B14
A14: helyi önkormányzatok és költségvetési szerveiktől | B14: B14
A15: társulások és költségvetési szerveiktől | B15: B14
A16: nemzetiségi önkormányzatok és költségvetési szerveiktől | B16: B14
A17: térségi fejlesztési tanácsok és költségvetési szerveiktől | B17: B14
A18: Működési célú visszatérítendő támogatások, kölcsönök visszatérülése államháztartáson belülről | B18: B14
A19: központi költségvetési szervektől | B19: B15
... A29: Működési célú visszatérítendő támogatások, kölcsönök igénybevétele államháztartáson belülről | B29: B15
A30: központi költségvetési szervektől | B30: B16 | C30: 0
A31: központi kezelésű előirányzatoktól | B31: B16
A32: fejezeti kezelésű előirányzatok EU-s programokra és azok hazai társfinanszírozásától | B32: B16
A33: egyéb fejezeti kezelésű előirányzatoktól | B33: B16
A34: társadalombiztosítás pénzügyi alapjaitól | B34: B16
A35: elkülönített állami pénzalapoktól | B35: B16
A36: helyi önkormányzatok és költségvetési szerveiktől | B36: B16
A37: társulások és költségvetési szerveiktől | B37: B16
A38: nemzetiségi önkormányzatok és költségvetési szerveiktől | B38: B16
A39: térségi fejlesztési tanácsok és költségvetési szerveiktől | B39: B16
A40: Egyéb működési célú támogatások bevételei államháztartáson belülről | B40: B16 | C40: 0
A41: központi költségvetési szervektől | B41: B23
A42: központi kezelésű előirányzatoktól | B42: B23
A43: fejezeti kezelésű előirányzatok EU-s programokra és azok hazai társfinanszírozásától | B43: B23
A44: egyéb fejezeti kezelésű előirányzatoktól | B44: B23
A45: társadalombiztosítás pénzügyi alapjaitól | B45: B23
A46: elkülönített állami pénzalapoktól | B46: B23
A47: helyi önkormányzatok és költségvetési szerveiktől | B47: B23
A48: társulások és költségvetési szerveiktől | B48: B23
A49: nemzetiségi önkormányzatok és költségvetési szerveiktől | B49: B23
A50: térségi fejlesztési tanácsok és költségvetési szerveiktől | B50: B23
A51: Felhalmozási célú visszatérítendő támogatások, kölcsönök visszatérülése államháztartáson belülről | B51: B23
...

Sheet 17. melléklet
A1: 17. melléklet 1/2019. (I.22.) önkormányzati rendelethez
A3: SOROKPOLÁNY Önkormányzat 2019. évi költségvetése
A4: Lakosságnak juttatott támogatások, szociális, rászorultsági jellegű ellátások (Ft)
A6: ÖNKORMÁNYZATI ELŐIRÁNYZATOK
A7: Megnevezés | B7: Rovat-szám | C7: eredeti ei.
A8: mozgáskorlátozottak közlekedési támogatása | B8: K44
A9: mozgáskorlátozottak szerzési és átalakítási támogatása | B9: K44
A10: megváltozott munkaképességűek illetve egészségkárosodottak keresetkiegészítése | B10: K44
A11: cukorbetegek támogatása | B11: K44
A12: helyi megállapítású ápolási díj [Szoctv. 43/B. §] | B12: K44
A13: helyi megállapítású közgyógyellátás [Szoctv.50.§ (3) bek.] | B13: K44
A14: Betegséggel kapcsolatos (nem társadalombiztosítási) ellátások | B14: K44
A15: foglalkoztatást helyettesítő támogatás [Szoctv. 35. § (1) bek.] | B15: K45
A16: Foglalkoztatással, munkanélküliséggel kapcsolatos ellátások | B16: K45
A17: hozzájárulás a lakossági energiaköltségekhez | B17: K46
A18: lakbértámogatás | B18: K46
A19: lakásfenntartási támogatás [Szoctv. 38. § (1) bek. a) és b) pontok] | B19: K46
... A25: oktatásban résztvevők pénzbeli juttatásai | B25: K47
A26: Intézményi ellátottak pénzbeli juttatásai | B26: K47 | C26: =SUM(C24:C25) -> 0
A27: időskorúak járadéka [Szoctv. 32/B. § (1) bek.] | B27: K48
A28: rendszeres szociális segély [Szoctv. 37. § (1) bek. a) - d) pontok] | B28: K48
A29: átmeneti segély [Szoctv. 45.§] | B29: K48
A30: temetési segély [Szoctv. 46.§] | B30: K48
A31: egyéb, az önkormányzat rendeletében megállapított juttatás | B31: K48
A32: természetben nyújtott rendszeres szociális segély [Szoctv. 47.§ (1) bek. a) pont] | B32: K48
A33: települési támogatás | B33: K48 | C33: 4110000
A34: temetési segély [Szoctv. 47.§ (1) bek. d) pont} | B34: K48
A35: köztemetés [Szoctv. 48.§] | B35: K48
