Workbook
Name foot_4_place: '9. melléklet'!$A$19
Name foot_5_place: '9. melléklet'!#REF!
Name foot_53_place: '9. melléklet'!$A$64

Sheet 1. melléklet
A1: 1. melléklet a 5/2018.(V.29) önkormányzati rendelethez
A3: Sorokpolány Község Önkormányzat 2017. évi zárszámadása
A4: Az egységes rovatrend szerint a kiemelt kiadási és bevételi jogcímek
A7: K1. Személyi juttatások
A8: K2. Munkaadókat terhelő járulékok és szociális hozzájárulási adó
A9: K3. Dologi kiadások
A10: K4. Ellátottak pénzbeli juttatásai
A11: K5. Egyéb működési célú kiadások
A12: K6. Beruházási kiadások
A13: K7. Felújítások
A14: K8. Egyéb felhalmozási célú kiadások
A15: K1-8. Költségvetési kiadások
... A27: BEVÉTELEK ÖSSZESEN (B1-8)

Sheet 2. melléklet
A1: 2. melléklet a 5/2018.(V.29) önkormányzati rendelethez
A2: Sorokpolány Község Önkormányzat 2017. évi zárszámadása
A3: Bevételek (E Ft)
A5: ÖNKORMÁNYZAT ÉS KÖLTSÉGVETÉSI SZERVEI ELŐIRÁNYZATA MINDÖSSZESEN
A6: Rovat megnevezése | B6: Rovat- szám | C6: eredeti ei. | D6: módosított ei. | E6: teljesítés
A7: Helyi önkormányzatok működésének általános támogatása | B7: B111 | C7: 9655 | D7: 9669 | E7: 10669
A8: Települési önkormányzatok egyes köznevelési feladatainak támogatása | B8: B112 | C8: 14907 | D8: 14907 | E8: 15454
A9: Települési önkormányzatok szociális és gyermekjóléti feladatainak támogatása | B9: B113 | C9: 8979 | D9: 8979 | E9: 7854
A10: Települési önkormányzatok kulturális feladatainak támogatása | B10: B114 | C10: 1200 | D10: 1200 | E10: 1200
A11: Működési célú központosított előirányzatok | B11: B115 | D11: 1321 | E11: 899
A12: Helyi önkormányzatok kiegészítő támogatásai | B12: B116
A13: Önkormányzatok működési támogatásai | B13: B11 | C13: 34741 | D13: 36072 | E13: 36076
A14: Elvonások és befizetések bevételei | B14: B12
A15: Működési célú garancia- és kezességvállalásból származó megtérülések államháztartáson belülről | B15: B13
A16: Működési célú visszatérítendő támogatások, kölcsönök visszatérülése államháztartáson belülről | B16: B14
A17: Működési célú visszatérítendő támogatások, kölcsönök igénybevétele államháztartáson belülről | B17: B15
A18: Egyéb működési célú támogatások bevételei államháztartáson belülről | B18: B16 | C18: 168 | D18: 266 | E18: 2841
A19: Működési célú támogatások államháztartáson belülről | B19: B1 | C19: 34909 | D19: 36342 | E19: 38917
A20: Magánszemélyek jövedelemadói | B20: B311
A21: Társaságok jövedelemadói | B21: B312
A22: Jövedelemadók | B22: B31
A23: Szociális hozzájárulási adó és járulékok | B23: B32
A24: Bérhez és foglalkoztatáshoz kapcsolódó adók | B24: B33
A25: Vagyoni tipusú adók | B25: B34 | C25: 1191 | D25: 1191 | E25: 1082
A26: Értékesítési és forgalmi adók | B26: B351 | C26: 10000 | D26: 10000 | E26: 9224
A27: Fogyasztási adók | B27: B352
A28: Pénzügyi monopóliumok nyereségét terhelő adók | B28: B353
A29: Gépjárműadók | B29: B354 | C29: 1875 | D29: 1875 | E29: 1712
A30: Egyéb áruhasználati és szolgáltatási adók | B30: B355 | C30: 180 | D30: 180 | E30: 0
A31: Termékek és szolgáltatások adói | B31: B35 | C31: 12055 | D31: 12055 | E31: 10935
A32: Egyéb közhatalmi bevételek | B32: B36 | C32: 110 | D32: 110 | E32: 311
A33: Közhatalmi bevételek | B33: B3 | C33: 13356 | D33: 13356 | E33: 12328
A34: Áru- és készletértékesítés ellenértéke | B34: B401
A35: Szolgáltatások ellenértéke | B35: B402
A36: Közvetített szolgáltatások értéke | B36: B403 | C36: 617 | D36: 617 | E36: 1526
A37: Tulajdonosi bevételek | B37: B404
A38: Ellátási díjak | B38: B405 | C38: 1032 | D38: 1032 | E38: 776
A39: Kiszámlázott általános forgalmi adó | B39: B406
A40: Általános forgalmi adó visszatérítése | B40: B407
A41: Kamatbevételek | B41: B408 | C41: 1 | D41: 1 | E41: 36
...

Sheet 2A. melléklet
A1: 2A. melléklet a 5/2018.(V.29) önkormányzati rendelethez
A2: Sorokpolány Község Önkormányzat 2017. évi zárszámadása
A3: Bevételek (E Ft)
A5: Sorokpolány Község Önkormányzata
A6: Rovat megnevezése | B6: Rovat- szám | C6: eredeti ei. | D6: módosított ei. | E6: teljesítés
A7: Helyi önkormányzatok működésének általános támogatása | B7: B111 | C7: 9655 | D7: 9669 | E7: 10669
A8: Települési önkormányzatok egyes köznevelési feladatainak támogatása | B8: B112 | C8: 14907 | D8: 14907 | E8: 15454
A9: Települési önkormányzatok szociális és gyermekjóléti feladatainak támogatása | B9: B113 | C9: 8979 | D9: 8979 | E9: 7854
A10: Települési önkormányzatok kulturális feladatainak támogatása | B10: B114 | C10: 1200 | D10: 1200 | E10: 1200
A11: Működési célú központosított előirányzatok | B11: B115 | D11: 1321 | E11: 899
A12: Helyi önkormányzatok kiegészítő támogatásai | B12: B116
A13: Önkormányzatok működési támogatásai | B13: B11 | C13: 34741 | D13: 36072 | E13: 36076
A14: Elvonások és befizetések bevételei | B14: B12
A15: Működési célú garancia- és kezességvállalásból származó megtérülések államháztartáson belülről | B15: B13
A16: Működési célú visszatérítendő támogatások, kölcsönök visszatérülése államháztartáson belülről | B16: B14
A17: Működési célú visszatérítendő támogatások, kölcsönök igénybevétele államháztartáson belülről | B17: B15
A18: Egyéb működési célú támogatások bevételei államháztartáson belülről | B18: B16 | C18: 168 | D18: 266 | E18: 2841
A19: Működési célú támogatások államháztartáson belülről | B19: B1 | C19: 34909 | D19: 36342 | E19: 38917
A20: Magánszemélyek jövedelemadói | B20: B311
A21: Társaságok jövedelemadói | B21: B312
A22: Jövedelemadók | B22: B31
A23: Szociális hozzájárulási adó és járulékok | B23: B32
A24: Bérhez és foglalkoztatáshoz kapcsolódó adók | B24: B33
A25: Vagyoni tipusú adók | B25: B34 | C25: 1191 | D25: 1191 | E25: 1082
A26: Értékesítési és forgalmi adók | B26: B351 | C26: 10000 | D26: 10000 | E26: 9224
A27: Fogyasztási adók | B27: B352
A28: Pénzügyi monopóliumok nyereségét terhelő adók | B28: B353
A29: Gépjárműadók | B29: B354 | C29: 1875 | D29: 1875 | E29: 1712
A30: Egyéb áruhasználati és szolgáltatási adók | B30: B355 | C30: 180 | D30: 180 | E30: 0
A31: Termékek és szolgáltatások adói | B31: B35 | C31: 12055 | D31: 12055 | E31: 10935
A32: Egyéb közhatalmi bevételek | B32: B36 | C32: 110 | D32: 110 | E32: 311
A33: Közhatalmi bevételek | B33: B3 | C33: 13356 | D33: 13356 | E33: 12328
A34: Áru- és készletértékesítés ellenértéke | B34: B401
A35: Szolgáltatások ellenértéke | B35: B402
A36: Közvetített szolgáltatások értéke | B36: B403 | C36: 617 | D36: 617 | E36: 1526
A37: Tulajdonosi bevételek | B37: B404
A38: Ellátási díjak | B38: B405 | C38: 1032 | D38: 1032 | E38: 776
A39: Kiszámlázott általános forgalmi adó | B39: B406
A40: Általános forgalmi adó visszatérítése | B40: B407
A41: Kamatbevételek | B41: B408 | C41: 1000 | D41: 1000 | E41: 36
...

Sheet 2B. melléklet
A1: 2B. melléklet a 5/2018.(V.29) önkormányzati rendelethez
A2: Sorokpolány Község Önkormányzat 2017. évi zárszámadása
A3: Bevételek (E Ft)
A5: Sorokpolányi Bóbita Óvoda
A6: Rovat megnevezése | B6: Rovat- szám | C6: eredeti ei. | D6: módosított ei. | E6: teljesítés
A7: Helyi önkormányzatok működésének általános támogatása | B7: B111
A8: Települési önkormányzatok egyes köznevelési feladatainak támogatása | B8: B112
A9: Települési önkormányzatok szociális és gyermekjóléti feladatainak támogatása | B9: B113
A10: Települési önkormányzatok kulturális feladatainak támogatása | B10: B114
A11: Működési célú központosított előirányzatok | B11: B115
A12: Helyi önkormányzatok kiegészítő támogatásai | B12: B116
A13: Önkormányzatok működési támogatásai | B13: B11
A14: Elvonások és befizetések bevételei | B14: B12
A15: Működési célú garancia- és kezességvállalásból származó megtérülések államháztartáson belülről | B15: B13
A16: Működési célú visszatérítendő támogatások, kölcsönök visszatérülése államháztartáson belülről | B16: B14
A17: Működési célú visszatérítendő támogatások, kölcsönök igénybevétele államháztartáson belülről | B17: B15
A18: Egyéb működési célú támogatások bevételei államháztartáson belülről | B18: B16
... A48: Működési célú átvett pénzeszközök | B48: B6
A49: Működési költségvetés előirányzat csoport
A50: Felhalmozási célú önkormányzati támogatások | B50: B21
A51: Felhalmozási célú garancia- és kezességvállalásból származó megtérülések államháztartáson belülről | B51: B22
A52: Felhalmozási célú visszatérítendő támogatások, kölcsönök visszatérülése államháztartáson belülről | B52: B23
A53: Felhalmozási célú visszatérítendő támogatások, kölcsönök igénybevétele államháztartáson belülről | B53: B24
A54: Egyéb felhalmozási célú támogatások bevételei államháztartáson belülről | B54: B25
A55: Felhalmozási célú támogatások államháztartáson belülről | B55: B2
A56: Immateriális javak értékesítése | B56: B51
A57: Ingatlanok értékesítése | B57: B52
A58: Egyéb tárgyi eszközök értékesítése | B58: B53
A59: Részesedések értékesítése | B59: B54
A60: Részesedések megszűnéséhez kapcsolódó bevételek | B60: B55
A61: Felhalmozási bevételek | B61: B5
... A65: Felhalmozási célú átvett pénzeszközök | B65: B7
A66: Felhalmozási költségvetés előirányzat csoport
A67: Költségvetési bevételek | B67: B1-B7
A68: költségvetési egyenleg MŰKÖDÉSI
A69: költségvetési egyenleg FELHALMOZÁSI
A70: Hosszú lejáratú hitelek, kölcsönök felvétele | B70: B8111
A71: Likviditási célú hitelek, kölcsönök felvétele pénzügyi vállalkozástól | B71: B8112
A72: Rövid lejáratú hitelek, kölcsönök felvétele | B72: B8113
A73: Hitel-, kölcsönfelvétel államháztartáson kívülről | B73: B811
...

Sheet 3. melléklet
A1: 3. melléklet a 5/2018.(V.29) önkormányzati rendelethez
A2: Sorokpolány Község Önkormányzat 2017. évi zárszámadása
A3: Bevételek (E Ft)
A5: ÖNKORMÁNYZAT ÉS KÖLTSÉGVETÉSI SZERVEI ELŐIRÁNYZATA MINDÖSSZESEN
A6: Rovat megnevezése | B6: Rovat-szám | C6: kötelező feladatok | F6: önként vállalt feladatok | I6: állami (államigazgatási) feladatok | L6: ÖSSZESEN
C7: eredeti ei. | D7: módosított ei. | E7: teljesítés | F7: eredeti ei. | G7: módosított ei. | H7: teljesítés | I7: eredeti ei. | J7: módosított ei. | K7: teljesítés | L7: eredeti ei. | M7: módosított ei. | N7: teljesítés
A8: Helyi önkormányzatok működésének általános támogatása | B8: B111 | C8: 9655 | D8: 9669 | E8: 10669 | L8: 9655 | M8: 9669 | N8: 10669
A9: Települési önkormányzatok egyes köznevelési feladatainak támogatása | B9: B112 | C9: 14907 | D9: 14907 | E9: 15454 | L9: 14907 | M9: 14907 | N9: 15454
A10: Települési önkormányzatok szociális és gyermekjóléti feladatainak támogatása | B10: B113 | C10: 8979 | D10: 8979 | E10: 7854 | L10: 8979 | M10: 8979 | N10: 7854
A11: Települési önkormányzatok kulturális feladatainak támogatása | B11: B114 | C11: 1200 | D11: 1200 | E11: 1200 | L11: 1200 | M11: 1200 | N11: 1200
A12: Működési célú központosított előirányzatok | B12: B115 | C12: 0 | D12: 1321 | E12: 899 | L12: 0 | M12: 1321 | N12: 899
A13: Helyi önkormányzatok kiegészítő támogatásai | B13: B116
A14: Önkormányzatok működési támogatásai | B14: B11 | C14: 34741 | D14: 36076 | E14: 36076 | L14: 34741 | M14: 36076 | N14: 36076
A15: Elvonások és befizetések bevételei | B15: B12
A16: Működési célú garancia- és kezességvállalásból származó megtérülések államháztartáson belülről | B16: B13
A17: Működési célú visszatérítendő támogatások, kölcsönök visszatérülése államháztartáson belülről | B17: B14
A18: Működési célú visszatérítendő támogatások, kölcsönök igénybevétele államháztartáson belülről | B18: B15
A19: Egyéb működési célú támogatások bevételei államháztartáson belülről | B19: B16 | C19: 168 | D19: 266 | E19: 2841 | L19: 168 | M19: 266 | N19: 2841
A20: Működési célú támogatások államháztartáson belülről | B20: B1 | C20: 34909 | D20: 36342 | E20: 38917 | L20: 34909 | M20: 36342 | N20: 38971
A21: Magánszemélyek jövedelemadói | B21: B311
A22: Társaságok jövedelemadói | B22: B312
A23: Jövedelemadók | B23: B31
A24: Szociális hozzájárulási adó és járulékok | B24: B32
A25: Bérhez és foglalkoztatáshoz kapcsolódó adók | B25: B33
A26: Vagyoni tipusú adók | B26: B34 | C26: 1191 | D26: 1191 | E26: 1082 | L26: 1191 | M26: 1191 | N26: 1082
A27: Értékesítési és forgalmi adók | B27: B351 | C27: 10000 | D27: 10000 | E27: 9224 | L27: 10000 | M27: 10000 | N27: 9224
A28: Fogyasztási adók | B28: B352
A29: Pénzügyi monopóliumok nyereségét terhelő adók | B29: B353
A30: Gépjárműadók | B30: B354 | C30: 1875 | D30: 1875 | E30: 1712 | L30: 1875 | M30: 1875 | N30: 1712
A31: Egyéb áruhasználati és szolgáltatási adók | B31: B355 | C31: 180 | D31: 180 | E31: 0 | L31: 180 | M31: 180 | N31: 0
A32: Termékek és szolgáltatások adói | B32: B35 | C32: 12055 | D32: 12055 | E32: 10935 | L32: 12055 | M32: 12055 | N32: 10935
A33: Egyéb közhatalmi bevételek | B33: B36 | C33: 110 | D33: 110 | E33: 311 | L33: 110 | M33: 110 | N33: 311
A34: Közhatalmi bevételek | B34: B3 | C34: 13356 | D34: 13356 | E34: 12328 | L34: 13356 | M34: 13356 | N34: 12328
A35: Áru- és készletértékesítés ellenértéke | B35: B401
A36: Szolgáltatások ellenértéke | B36: B402 | C36: 0 | D36: 0 | E36: 0 | L36: 0 | M36: 0 | N36: 0
A37: Közvetített szolgáltatások értéke | B37: B403 | C37: 617 | D37: 617 | E37: 1256 | L37: 617 | M37: 617 | N37: 1256
A38: Tulajdonosi bevételek | B38: B404
A39: Ellátási díjak | B39: B405 | C39: 1032 | D39: 1032 | E39: 776 | L39: 1032 | M39: 1032 | N39: 776
A40: Kiszámlázott általános forgalmi adó | B40: B406
A41: Általános forgalmi adó visszatérítése | B41: B407
...

Sheet 3A. melléklet
A1: 3A. melléklet a 5/2018.(V.29) önkormányzati rendelethez
A2: Sorokpolány Község Önkormányzat 2017. évi zárszámadása
A3: Bevételek (E Ft)
A5: Sorokpolány Község Önkormányzata
A6: Rovat megnevezése | B6: Rovat-szám | C6: kötelező feladatok | F6: önként vállalt feladatok | I6: állami (államigazgatási) feladatok | L6: ÖSSZESEN
C7: eredeti ei. | D7: módosított ei. | E7: teljesítés | F7: eredeti ei. | G7: módosított ei. | H7: teljesítés | I7: eredeti ei. | J7: módosított ei. | K7: teljesítés | L7: eredeti ei. | M7: módosított ei. | N7: teljesítés
A8: Helyi önkormányzatok működésének általános támogatása | B8: B111 | C8: 9655 | D8: 9669 | E8: 10669 | L8: 9655 | M8: 9669 | N8: 10669
A9: Települési önkormányzatok egyes köznevelési feladatainak támogatása | B9: B112 | C9: 14907 | D9: 14907 | E9: 15454 | L9: 14907 | M9: 14907 | N9: 15454
A10: Települési önkormányzatok szociális és gyermekjóléti feladatainak támogatása | B10: B113 | C10: 8979 | D10: 8979 | E10: 7854 | L10: 8979 | M10: 8979 | N10: 7854
A11: Települési önkormányzatok kulturális feladatainak támogatása | B11: B114 | C11: 1200 | D11: 1200 | E11: 1200 | L11: 1200 | M11: 1200 | N11: 1200
A12: Működési célú központosított előirányzatok | B12: B115 | C12: 0 | D12: 1321 | E12: 899 | L12: 0 | M12: 1321 | N12: 899
A13: Helyi önkormányzatok kiegészítő támogatásai | B13: B116
A14: Önkormányzatok működési támogatásai | B14: B11 | C14: 34741 | D14: 36076 | E14: 36076 | L14: 34741 | M14: 36076 | N14: 36076
A15: Elvonások és befizetések bevételei | B15: B12
A16: Működési célú garancia- és kezességvállalásból származó megtérülések államháztartáson belülről | B16: B13
A17: Működési célú visszatérítendő támogatások, kölcsönök visszatérülése államháztartáson belülről | B17: B14
A18: Működési célú visszatérítendő támogatások, kölcsönök igénybevétele államháztartáson belülről | B18: B15
A19: Egyéb működési célú támogatások bevételei államháztartáson belülről | B19: B16 | C19: 168 | D19: 266 | E19: 2841 | L19: 168 | M19: 266 | N19: 2841
A20: Működési célú támogatások államháztartáson belülről | B20: B1 | C20: 34909 | D20: 36342 | E20: 38917 | L20: 34909 | M20: 36342 | N20: 38917
A21: Magánszemélyek jövedelemadói | B21: B311
A22: Társaságok jövedelemadói | B22: B312
A23: Jövedelemadók | B23: B31
A24: Szociális hozzájárulási adó és járulékok | B24: B32
A25: Bérhez és foglalkoztatáshoz kapcsolódó adók | B25: B33
A26: Vagyoni tipusú adók | B26: B34 | C26: 1191 | D26: 1191 | E26: 1082 | L26: 1191 | M26: 1191 | N26: 1082
A27: Értékesítési és forgalmi adók | B27: B351 | C27: 10000 | D27: 10000 | E27: 9224 | L27: 10000 | M27: 10000 | N27: 9224
A28: Fogyasztási adók | B28: B352
A29: Pénzügyi monopóliumok nyereségét terhelő adók | B29: B353
A30: Gépjárműadók | B30: B354 | C30: 1875 | D30: 1875 | E30: 1712 | L30: 1875 | M30: 1875 | N30: 1712
A31: Egyéb áruhasználati és szolgáltatási adók | B31: B355 | C31: 180 | D31: 180 | E31: 0 | L31: 180 | M31: 180 | N31: 0
A32: Termékek és szolgáltatások adói | B32: B35 | C32: 12055 | D32: 12055 | E32: 10935 | L32: 12055 | M32: 12055 | N32: 10935
A33: Egyéb közhatalmi bevételek | B33: B36 | C33: 110 | D33: 110 | E33: 311 | L33: 110 | M33: 110 | N33: 311
A34: Közhatalmi bevételek | B34: B3 | C34: 13356 | D34: 13356 | E34: 12328 | L34: 13356 | M34: 13356 | N34: 12328
A35: Áru- és készletértékesítés ellenértéke | B35: B401
A36: Szolgáltatások ellenértéke | B36: B402 | C36: 0 | D36: 0 | E36: 0 | L36: 0 | M36: 0 | N36: 0
A37: Közvetített szolgáltatások értéke | B37: B403 | C37: 617 | D37: 617 | E37: 1256 | L37: 617 | M37: 617 | N37: 1256
A38: Tulajdonosi bevételek | B38: B404
A39: Ellátási díjak | B39: B405 | C39: 1032 | D39: 1032 | E39: 776 | L39: 1032 | M39: 1032 | N39: 776
A40: Kiszámlázott általános forgalmi adó | B40: B406
A41: Általános forgalmi adó visszatérítése | B41: B407
...

Sheet 3B. melléklet
A1: 3B. melléklet a 5/2018.(V.29) önkormányzati rendelethez
A2: Sorokpolány Község Önkormányzat 2017. évi zárszámadása
A3: Bevételek (E Ft)
A5: Sorokpolányi Bóbita Óvoda
A6: Rovat megnevezése | B6: Rovat-szám | C6: kötelező feladatok | F6: önként vállalt feladatok | I6: állami (államigazgatási) feladatok | L6: ÖSSZESEN
C7: eredeti ei. | D7: módosított ei. | E7: teljesítés | F7: eredeti ei. | G7: módosított ei. | H7: teljesítés | I7: eredeti ei. | J7: módosított ei. | K7: teljesítés | L7: eredeti ei. | M7: módosított ei. | N7: teljesítés
A8: Helyi önkormányzatok működésének általános támogatása | B8: B111
A9: Települési önkormányzatok egyes köznevelési feladatainak támogatása | B9: B112
A10: Települési önkormányzatok szociális és gyermekjóléti feladatainak támogatása | B10: B113
A11: Települési önkormányzatok kulturális feladatainak támogatása | B11: B114
A12: Működési célú központosított előirányzatok | B12: B115
A13: Helyi önkormányzatok kiegészítő támogatásai | B13: B116
A14: Önkormányzatok működési támogatásai | B14: B11
A15: Elvonások és befizetések bevételei | B15: B12
A16: Működési célú garancia- és kezességvállalásból származó megtérülések államháztartáson belülről | B16: B13
A17: Működési célú visszatérítendő támogatások, kölcsönök visszatérülése államháztartáson belülről | B17: B14
A18: Működési célú visszatérítendő támogatások, kölcsönök igénybevétele államháztartáson belülről | B18: B15
A19: Egyéb működési célú támogatások bevételei államháztartáson belülről | B19: B16
... A49: Működési célú átvett pénzeszközök | B49: B6
A50: Működési költségvetés előirányzat csoport
A51: Felhalmozási célú önkormányzati támogatások | B51: B21
A52: Felhalmozási célú garancia- és kezességvállalásból származó megtérülések államháztartáson belülről | B52: B22
A53: Felhalmozási célú visszatérítendő támogatások, kölcsönök visszatérülése államháztartáson belülről | B53: B23
A54: Felhalmozási célú visszatérítendő támogatások, kölcsönök igénybevétele államháztartáson belülről | B54: B24
A55: Egyéb felhalmozási célú támogatások bevételei államháztartáson belülről | B55: B25
A56: Felhalmozási célú támogatások államháztartáson belülről | B56: B2
A57: Immateriális javak értékesítése | B57: B51
A58: Ingatlanok értékesítése | B58: B52
A59: Egyéb tárgyi eszközök értékesítése | B59: B53
A60: Részesedések értékesítése | B60: B54
A61: Részesedések megszűnéséhez kapcsolódó bevételek | B61: B55
A62: Felhalmozási bevételek | B62: B5
... A66: Felhalmozási célú átvett pénzeszközök | B66: B7
A67: Felhalmozási költségvetés előirányzat csoport
A68: Költségvetési bevételek | B68: B1-B7
A69: költségvetési egyenleg MŰKÖDÉSI
A70: költségvetési egyenleg FELHALMOZÁSI
A71: Hosszú lejáratú hitelek, kölcsönök felvétele | B71: B8111
A72: Likviditási célú hitelek, kölcsönök felvétele pénzügyi vállalkozástól | B72: B8112
A73: Rövid lejáratú hitelek, kölcsönök felvétele | B73: B8113
...

Sheet 4. melléklet
A1: 4. melléklet a 5/2018.(V.29) önkormányzati rendelethez
A2: Sorokpolány Község Önkormányzat 2017. évi zárszámadása
A3: Kiadások (E Ft)
A5: ÖNKORMÁNYZAT ÉS KÖLTSÉGVETÉSI SZERVEI ELŐIRÁNYZATA MINDÖSSZESEN
A6: Rovat megnevezése | B6: Rovat-szám | C6: eredeti ei. | D6: módosított ei. | E6: teljesítés
A7: Törvény szerinti illetmények, munkabérek | B7: K1101 | C7: 17792 | D7: 18254 | E7: 16531
A8: Normatív jutalmak | B8: K1102 | C8: 0 | D8: 399 | E8: 399
A9: Céljuttatás, projektprémium | B9: K1103
A10: Készenléti, ügyeleti, helyettesítési díj, túlóra, túlszolgálat | B10: K1104 | C10: 0 | D10: ='4A. melléklet'!D10+'4B. melléklet'!D10 -> 103 | E10: ='4A. melléklet'!E10+'4B. melléklet'!E10 -> 103
A11: Végkielégítés | B11: K1105
A12: Jubileumi jutalom | B12: K1106 | C12: 2282 | D12: 2669 | E12: 2811
A13: Béren kívüli juttatások | B13: K1107 | C13: 582 | D13: 883 | E13: 876
A14: Ruházati költségtérítés | B14: K1108
A15: Közlekedési költségtérítés | B15: K1109 | C15: 155 | D15: 351 | E15: 158
A16: Egyéb költségtérítések | B16: K1110
A17: Lakhatási támogatások | B17: K1111
A18: Szociális támogatások | B18: K1112
A19: Foglalkoztatottak egyéb személyi juttatásai | B19: K1113 | C19: 0 | D19: ='4A. melléklet'!D19+'4B. melléklet'!D19 -> 13 | E19: ='4A. melléklet'!E19+'4B. melléklet'!E19 -> 13
A20: Foglalkoztatottak személyi juttatásai | B20: K11 | C20: 20811 | D20: 22670 | E20: 20426
A21: Választott tisztségviselők juttatásai | B21: K121 | C21: 4333 | D21: 4333 | E21: 4281
A22: Munkavégzésre irányuló egyéb jogviszonyban nem saját foglalkoztatottnak fizetett juttatások | B22: K122 | C22: 0 | D22: ='4A. melléklet'!D22+'4B. melléklet'!D22 -> 155 | E22: 153
A23: Egyéb külső személyi juttatások | B23: K123 | C23: 305 | D23: 669 | E23: 669
A24: Külső személyi juttatások | B24: K12 | C24: 4638 | D24: 5157 | E24: 5103
A25: Személyi juttatások | B25: K1 | C25: 25449 | D25: 27827 | E25: 25529
A26: Munkaadókat terhelő járulékok és szociális hozzájárulási adó | B26: K2 | C26: 5625 | D26: 6080 | E26: 6080
A27: Szakmai anyagok beszerzése | B27: K311 | C27: 10 | D27: 10 | E27: 8
A28: Üzemeltetési anyagok beszerzése | B28: K312 | C28: 1774 | D28: ='4A. melléklet'!D28+'4B. melléklet'!D28 -> 1774 | E28: 1588
A29: Árubeszerzés | B29: K313
A30: Készletbeszerzés | B30: K31 | C30: 1784 | D30: ='4A. melléklet'!D30+'4B. melléklet'!D30 -> 1784 | E30: ='4A. melléklet'!E30+'4B. melléklet'!E30 -> 1596
A31: Informatikai szolgáltatások igénybevétele | B31: K321 | C31: 106 | D31: ='4A. melléklet'!D31+'4B. melléklet'!D31 -> 106 | E31: ='4A. melléklet'!E31+'4B. melléklet'!E31 -> 50
A32: Egyéb kommunikációs szolgáltatások | B32: K322 | C32: 305 | D32: 478 | E32: 252
A33: Kommunikációs szolgáltatások | B33: K32 | C33: 411 | D33: 478 | E33: 302
A34: Közüzemi díjak | B34: K331 | C34: 4542 | D34: 6654 | E34: 4425
A35: Vásárolt élelmezés | B35: K332 | C35: 3936 | D35: 4151 | E35: 3399
A36: Bérleti és lízing díjak | B36: K333
A37: Karbantartási, kisjavítási szolgáltatások | B37: K334 | C37: 333 | D37: 283 | E37: 37
A38: Közvetített szolgáltatások | B38: K335 | C38: 603 | D38: 631 | E38: ='4A. melléklet'!E38+'4B. melléklet'!E38 -> 631
A39: Szakmai tevékenységet segítő szolgáltatások | B39: K336 | C39: 500 | D39: 652 | E39: ='4A. melléklet'!E39+'4B. melléklet'!E39 -> 391
A40: Egyéb szolgáltatások | B40: K337 | C40: 3805 | D40: 6192 | E40: ='4A. melléklet'!E40+'4B. melléklet'!E40 -> 5784
A41: Szolgáltatási kiadások | B41: K33 | C41: 13719 | D41: 18564 | E41: ='4A. melléklet'!E41+'4B. melléklet'!E41 -> 14669
...

Sheet 4A. melléklet
A1: 4A. melléklet a 5/2018.(V.29) önkormányzati rendelethez
A2: Sorokpolány Község Önkormányzat 2017. évi zárszámadása
A3: Kiadások (E Ft)
A5: Sorokpolány Község Önkormányzat
A6: Rovat megnevezése | B6: Rovat-szám | C6: eredeti ei. | D6: módosított ei. | E6: teljesítés
A7: Törvény szerinti illetmények, munkabérek | B7: K1101 | C7: 3462 | D7: 3924 | E7: 3924
A8: Normatív jutalmak | B8: K1102
A9: Céljuttatás, projektprémium | B9: K1103
A10: Készenléti, ügyeleti, helyettesítési díj, túlóra, túlszolgálat | B10: K1104
A11: Végkielégítés | B11: K1105
A12: Jubileumi jutalom | B12: K1106 | C12: 322 | D12: 322 | E12: 0
A13: Béren kívüli juttatások | B13: K1107 | C13: 172 | D13: 464 | E13: 464
A14: Ruházati költségtérítés | B14: K1108
A15: Közlekedési költségtérítés | B15: K1109 | C15: 0 | D15: 8 | E15: 8
A16: Egyéb költségtérítések | B16: K1110
A17: Lakhatási támogatások | B17: K1111
A18: Szociális támogatások | B18: K1112
A19: Foglalkoztatottak egyéb személyi juttatásai | B19: K1113
A20: Foglalkoztatottak személyi juttatásai | B20: K11 | C20: 3956 | D20: 4718 | E20: 4396
A21: Választott tisztségviselők juttatásai | B21: K121 | C21: 4333 | D21: 4333 | E21: 4281
A22: Munkavégzésre irányuló egyéb jogviszonyban nem saját foglalkoztatottnak fizetett juttatások | B22: K122 | C22: 0 | D22: 155 | E22: 153
A23: Egyéb külső személyi juttatások | B23: K123 | C23: 305 | D23: 669 | E23: 669
A24: Külső személyi juttatások | B24: K12 | C24: 4638 | D24: 5157 | E24: 5103
A25: Személyi juttatások | B25: K1 | C25: 8594 | D25: 9875 | E25: 9499
A26: Munkaadókat terhelő járulékok és szociális hozzájárulási adó | B26: K2 | C26: 1904 | D26: 2198 | E26: 2198
A27: Szakmai anyagok beszerzése | B27: K311
A28: Üzemeltetési anyagok beszerzése | B28: K312 | C28: 1484 | D28: 1484 | E28: 1477
A29: Árubeszerzés | B29: K313
A30: Készletbeszerzés | B30: K31 | C30: 1484 | D30: 1484 | E30: 1477
A31: Informatikai szolgáltatások igénybevétele | B31: K321 | C31: 106 | D31: 106 | E31: 50
A32: Egyéb kommunikációs szolgáltatások | B32: K322 | C32: 225 | D32: 398 | E32: 238
A33: Kommunikációs szolgáltatások | B33: K32 | C33: 331 | D33: 504 | E33: 288
A34: Közüzemi díjak | B34: K331 | C34: 3342 | D34: 4900 | E34: 3533
A35: Vásárolt élelmezés | B35: K332 | C35: 3936 | D35: 4151 | E35: 3399
A36: Bérleti és lízing díjak | B36: K333
A37: Karbantartási, kisjavítási szolgáltatások | B37: K334 | C37: 83 | D37: 83 | E37: 7
A38: Közvetített szolgáltatások | B38: K335 | C38: 603 | D38: 631 | E38: 631
A39: Szakmai tevékenységet segítő szolgáltatások | B39: K336 | C39: 500 | D39: 500 | E39: 239
A40: Egyéb szolgáltatások | B40: K337 | C40: 3490 | D40: 5899 | E40: 5624
A41: Szolgáltatási kiadások | B41: K33 | C41: 11954 | D41: 16164 | E41: 13434
...

Sheet 4B. melléklet
A1: 4B. melléklet a 5/2018.(V.29) önkormányzati rendelethez
A2: Sorokpolány Község Önkormányzat 2017. évi zárszámadása
A3: Kiadások (E Ft)
A5: Sorokpolányi Bóbita Óvoda
A6: Rovat megnevezése | B6: Rovat-szám | C6: eredeti ei. | D6: módosított ei. | E6: teljesítés
A7: Törvény szerinti illetmények, munkabérek | B7: K1101 | C7: 14330 | D7: 14330 | E7: 12607
A8: Normatív jutalmak | B8: K1102 | C8: 0 | D8: 399 | E8: 399
A9: Céljuttatás, projektprémium | B9: K1103
A10: Készenléti, ügyeleti, helyettesítési díj, túlóra, túlszolgálat | B10: K1104 | C10: 0 | D10: 103 | E10: 103
A11: Végkielégítés | B11: K1105
A12: Jubileumi jutalom | B12: K1106 | C12: 1960 | D12: 2347 | E12: 2347
A13: Béren kívüli juttatások | B13: K1107 | C13: 410 | D13: 419 | E13: 412
A14: Ruházati költségtérítés | B14: K1108
A15: Közlekedési költségtérítés | B15: K1109 | C15: 155 | D15: 343 | E15: 150
A16: Egyéb költségtérítések | B16: K1110
A17: Lakhatási támogatások | B17: K1111
A18: Szociális támogatások | B18: K1112
A19: Foglalkoztatottak egyéb személyi juttatásai | B19: K1113 | C19: 0 | D19: 13 | E19: 13
A20: Foglalkoztatottak személyi juttatásai | B20: K11 | C20: 16855 | D20: 17952 | E20: 16030
A21: Választott tisztségviselők juttatásai | B21: K121
A22: Munkavégzésre irányuló egyéb jogviszonyban nem saját foglalkoztatottnak fizetett juttatások | B22: K122
A23: Egyéb külső személyi juttatások | B23: K123
A24: Külső személyi juttatások | B24: K12
A25: Személyi juttatások | B25: K1 | C25: 16855 | D25: 17952 | E25: 16030
A26: Munkaadókat terhelő járulékok és szociális hozzájárulási adó | B26: K2 | C26: 3721 | D26: 3882 | E26: 3882
A27: Szakmai anyagok beszerzése | B27: K311 | C27: 10 | D27: 10 | E27: 8
A28: Üzemeltetési anyagok beszerzése | B28: K312 | C28: 290 | D28: 290 | E28: 111
A29: Árubeszerzés | B29: K313
A30: Készletbeszerzés | B30: K31 | C30: 300 | D30: 300 | E30: 119
A31: Informatikai szolgáltatások igénybevétele | B31: K321
A32: Egyéb kommunikációs szolgáltatások | B32: K322 | C32: 80 | D32: 80 | E32: 14
A33: Kommunikációs szolgáltatások | B33: K32 | C33: 80 | D33: 80 | E33: 14
A34: Közüzemi díjak | B34: K331 | C34: 1200 | D34: 1754 | E34: 892
A35: Vásárolt élelmezés | B35: K332
A36: Bérleti és lízing díjak | B36: K333
A37: Karbantartási, kisjavítási szolgáltatások | B37: K334 | C37: 250 | D37: 200 | E37: 30
A38: Közvetített szolgáltatások | B38: K335
A39: Szakmai tevékenységet segítő szolgáltatások | B39: K336 | C39: 0 | D39: 152 | E39: 152
A40: Egyéb szolgáltatások | B40: K337 | C40: 315 | D40: 293 | E40: 160
A41: Szolgáltatási kiadások | B41: K33 | C41: 1765 | D41: 2400 | E41: 1235
...

Sheet 5. melléklet
A1: 5. melléklet a 5/2018.(V.29) önkormányzati rendelethez
A2: Sorokpolány Község Önkormányzat 2017. évi zárszámadása
A3: Kiadások (E Ft)
A5: ÖNKORMÁNYZAT ÉS KÖLTSÉGVETÉSI SZERVEI ELŐIRÁNYZATA MINDÖSSZESEN
A6: Rovat megnevezése | B6: Rovat-szám | C6: kötelező feladatok | F6: önként vállalt feladatok | I6: állami (államigazgatási) feladatok | L6: ÖSSZESEN
C7: eredeti ei. | D7: módosított ei. | E7: teljesítés | F7: eredeti ei. | G7: módosított ei. | H7: teljesítés | I7: eredeti ei. | J7: módosított ei. | K7: teljesítés | L7: eredeti ei. | M7: módosított ei. | N7: teljesítés
A8: Törvény szerinti illetmények, munkabérek | B8: K1101 | C8: 17792 | D8: 18254 | E8: 16531 | L8: 17792 | M8: 18254 | N8: 16531
A9: Normatív jutalmak | B9: K1102 | C9: 0 | D9: 399 | E9: 399 | L9: 0 | M9: 399 | N9: 399
A10: Céljuttatás, projektprémium | B10: K1103
A11: Készenléti, ügyeleti, helyettesítési díj, túlóra, túlszolgálat | B11: K1104 | C11: 0 | D11: 103 | E11: 103 | L11: 0 | M11: 103 | N11: 103
A12: Végkielégítés | B12: K1105
A13: Jubileumi jutalom | B13: K1106 | C13: 2282 | D13: 2669 | E13: 2811 | L13: 2282 | M13: 2669 | N13: 2811
A14: Béren kívüli juttatások | B14: K1107 | C14: 582 | D14: 883 | E14: 876 | L14: 582 | M14: 883 | N14: 876
A15: Ruházati költségtérítés | B15: K1108
A16: Közlekedési költségtérítés | B16: K1109 | C16: 155 | D16: 351 | E16: 158 | L16: 155 | M16: 351 | N16: 158
A17: Egyéb költségtérítések | B17: K1110
A18: Lakhatási támogatások | B18: K1111
A19: Szociális támogatások | B19: K1112
A20: Foglalkoztatottak egyéb személyi juttatásai | B20: K1113 | C20: 0 | D20: 13 | E20: 13 | L20: 0 | M20: 13 | N20: 13
A21: Foglalkoztatottak személyi juttatásai | B21: K11 | C21: 20811 | D21: 22670 | E21: 20426 | L21: 20811 | M21: 22670 | N21: 20426
A22: Választott tisztségviselők juttatásai | B22: K121 | C22: 4333 | D22: 4333 | E22: 4281 | L22: 4333 | M22: 4333 | N22: 4281
A23: Munkavégzésre irányuló egyéb jogviszonyban nem saját foglalkoztatottnak fizetett juttatások | B23: K122 | C23: 0 | D23: 155 | E23: 153 | L23: 0 | M23: 155 | N23: 153
A24: Egyéb külső személyi juttatások | B24: K123 | C24: 305 | D24: 669 | E24: 669 | L24: 305 | M24: 669 | N24: 669
A25: Külső személyi juttatások | B25: K12 | C25: 4638 | D25: 5157 | E25: 5103 | L25: 4638 | M25: 5157 | N25: 5103
A26: Személyi juttatások | B26: K1 | C26: 25449 | D26: 27827 | E26: 25529 | L26: 25449 | M26: 27827 | N26: 25529
A27: Munkaadókat terhelő járulékok és szociális hozzájárulási adó | B27: K2 | C27: 5625 | D27: 6080 | E27: 6080 | L27: 5625 | M27: 6080 | N27: 6080
A28: Szakmai anyagok beszerzése | B28: K311 | C28: 10 | D28: 10 | E28: 8 | L28: 10 | M28: 10 | N28: 8
A29: Üzemeltetési anyagok beszerzése | B29: K312 | C29: 1774 | D29: 1774 | E29: 1588 | L29: 1774 | M29: 1774 | N29: 1588
A30: Árubeszerzés | B30: K313
A31: Készletbeszerzés | B31: K31 | C31: 1784 | D31: 1784 | E31: 1596 | L31: 1784 | M31: 1784 | N31: 1596
A32: Informatikai szolgáltatások igénybevétele | B32: K321 | C32: 106 | D32: 106 | E32: 50 | L32: 106 | M32: 106 | N32: 50
A33: Egyéb kommunikációs szolgáltatások | B33: K322 | C33: 305 | D33: 478 | E33: 252 | L33: 305 | M33: 478 | N33: 252
A34: Kommunikációs szolgáltatások | B34: K32 | C34: 411 | D34: 478 | E34: 302 | L34: 411 | M34: 478 | N34: 302
A35: Közüzemi díjak | B35: K331 | C35: 4542 | D35: 6654 | E35: 4425 | L35: 4542 | M35: 6654 | N35: 4425
A36: Vásárolt élelmezés | B36: K332 | C36: 3936 | D36: 4151 | E36: 3399 | L36: 3936 | M36: 4151 | N36: 3399
A37: Bérleti és lízing díjak | B37: K333
A38: Karbantartási, kisjavítási szolgáltatások | B38: K334 | C38: 333 | D38: 283 | E38: 37 | L38: 333 | M38: 283 | N38: 37
A39: Közvetített szolgáltatások | B39: K335 | C39: 603 | D39: 631 | E39: 631 | L39: 603 | M39: 631 | N39: 631
A40: Szakmai tevékenységet segítő szolgáltatások | B40: K336 | C40: 500 | D40: 652 | E40: 391 | L40: 500 | M40: 652 | N40: 391
A41: Egyéb szolgáltatások | B41: K337 | C41: 3805 | D41: 6192 | E41: 5784 | L41: 3805 | M41: 6192 | N41: 5784
...

Sheet 5A. melléklet
A1: 5A. melléklet a 5/2018.(V.29) önkormányzati rendelethez
A2: Sorokpolány Község Önkormányzat 2017. évi zárszámadása
A3: Kiadások (E Ft)
A5: Sorokpolány Község Önkormányzat
A6: Rovat megnevezése | B6: Rovat-szám | C6: kötelező feladatok | F6: önként vállalt feladatok | I6: állami (államigazgatási) feladatok | L6: ÖSSZESEN
C7: eredeti ei. | D7: módosított ei. | E7: teljesítés | F7: eredeti ei. | G7: módosított ei. | H7: teljesítés | I7: eredeti ei. | J7: módosított ei. | K7: teljesítés | L7: eredeti ei. | M7: módosított ei. | N7: teljesítés
A8: Törvény szerinti illetmények, munkabérek | B8: K1101 | C8: 3462 | D8: 3924 | E8: 3924 | L8: 3462 | M8: 3924 | N8: 3924
A9: Normatív jutalmak | B9: K1102
A10: Céljuttatás, projektprémium | B10: K1103
A11: Készenléti, ügyeleti, helyettesítési díj, túlóra, túlszolgálat | B11: K1104
A12: Végkielégítés | B12: K1105
A13: Jubileumi jutalom | B13: K1106 | C13: 322 | D13: 322 | E13: 0 | L13: 322 | M13: 322 | N13: 0
A14: Béren kívüli juttatások | B14: K1107 | C14: 172 | D14: 464 | E14: 464 | L14: 172 | M14: 464 | N14: 464
A15: Ruházati költségtérítés | B15: K1108
A16: Közlekedési költségtérítés | B16: K1109 | C16: 0 | D16: 8 | E16: 8 | L16: 0 | M16: 8 | N16: 8
A17: Egyéb költségtérítések | B17: K1110
A18: Lakhatási támogatások | B18: K1111
A19: Szociális támogatások | B19: K1112
A20: Foglalkoztatottak egyéb személyi juttatásai | B20: K1113
A21: Foglalkoztatottak személyi juttatásai | B21: K11 | C21: 3956 | D21: 4718 | E21: 4396 | L21: 3956 | M21: 4718 | N21: 4396
A22: Választott tisztségviselők juttatásai | B22: K121 | C22: 4333 | D22: 4333 | E22: 4281 | L22: 4333 | M22: 4333 | N22: 4281
A23: Munkavégzésre irányuló egyéb jogviszonyban nem saját foglalkoztatottnak fizetett juttatások | B23: K122 | C23: 0 | D23: 155 | E23: 153 | L23: 0 | M23: 155 | N23: 153
A24: Egyéb külső személyi juttatások | B24: K123 | C24: 305 | D24: 669 | E24: 669 | L24: 305 | M24: 669 | N24: 669
A25: Külső személyi juttatások | B25: K12 | C25: 4638 | D25: 5157 | E25: 5103 | L25: 4638 | M25: 5157 | N25: 5103
A26: Személyi juttatások | B26: K1 | C26: 8594 | D26: 9875 | E26: 9499 | L26: 8594 | M26: 9875 | N26: 9499
A27: Munkaadókat terhelő járulékok és szociális hozzájárulási adó | B27: K2 | C27: 1904 | D27: 2197 | E27: 2197 | L27: 1904 | M27: 2197 | N27: 2197
A28: Szakmai anyagok beszerzése | B28: K311
A29: Üzemeltetési anyagok beszerzése | B29: K312 | C29: 1484 | D29: 1484 | E29: 1477 | L29: 1484 | M29: 1484 | N29: 1477
A30: Árubeszerzés | B30: K313
A31: Készletbeszerzés | B31: K31 | C31: 1484 | D31: 1484 | E31: 1477 | L31: 1484 | M31: 1484 | N31: 1477
A32: Informatikai szolgáltatások igénybevétele | B32: K321 | C32: 106 | D32: 106 | E32: 50 | L32: 106 | M32: 106 | N32: 50
A33: Egyéb kommunikációs szolgáltatások | B33: K322 | C33: 225 | D33: 398 | E33: 238 | L33: 225 | M33: 398 | N33: 238
A34: Kommunikációs szolgáltatások | B34: K32 | C34: 331 | D34: 504 | E34: 288 | L34: 331 | M34: 504 | N34: 288
A35: Közüzemi díjak | B35: K331 | C35: 3342 | D35: 4900 | E35: 3533 | L35: 3342 | M35: 4900 | N35: 3533
A36: Vásárolt élelmezés | B36: K332 | C36: 3936 | D36: 4151 | E36: 3399 | L36: 3936 | M36: 4151 | N36: 3399
A37: Bérleti és lízing díjak | B37: K333
A38: Karbantartási, kisjavítási szolgáltatások | B38: K334 | C38: 83 | D38: 83 | E38: 7 | L38: 83 | M38: 83 | N38: 7
A39: Közvetített szolgáltatások | B39: K335 | C39: 603 | D39: 631 | E39: 631 | L39: 603 | M39: 631 | N39: 631
A40: Szakmai tevékenységet segítő szolgáltatások | B40: K336 | C40: 500 | D40: 500 | E40: 239 | L40: 500 | M40: 500 | N40: 239
A41: Egyéb szolgáltatások | B41: K337 | C41: 3490 | D41: 5899 | E41: 5624 | L41: 3490 | M41: 5899 | N41: 5624
...

Sheet 5B. melléklet
A1: 5B. melléklet a 5/2018.(V.29) önkormányzati rendelethez
A2: Sorokpolány Község Önkormányzat 2017. évi zárszámadása
A3: Kiadások (E Ft)
A5: Sorokpolányi Bóbita Óvoda
A6: Rovat megnevezése | B6: Rovat-szám | C6: kötelező feladatok | F6: önként vállalt feladatok | I6: állami (államigazgatási) feladatok | L6: ÖSSZESEN
C7: eredeti ei. | D7: módosított ei. | E7: teljesítés | F7: eredeti ei. | G7: módosított ei. | H7: teljesítés | I7: eredeti ei. | J7: módosított ei. | K7: teljesítés | L7: eredeti ei. | M7: módosított ei. | N7: teljesítés
A8: Törvény szerinti illetmények, munkabérek | B8: K1101 | C8: 14330 | D8: 14330 | E8: 12607 | L8: 14330 | M8: 14330 | N8: 12607
A9: Normatív jutalmak | B9: K1102 | C9: 0 | D9: 399 | E9: 399 | L9: 0 | M9: 399 | N9: 399
A10: Céljuttatás, projektprémium | B10: K1103
A11: Készenléti, ügyeleti, helyettesítési díj, túlóra, túlszolgálat | B11: K1104 | C11: 0 | D11: 103 | E11: 103 | L11: 0 | M11: 103 | N11: 103
A12: Végkielégítés | B12: K1105
A13: Jubileumi jutalom | B13: K1106 | C13: 1960 | D13: 2347 | E13: 2347 | L13: 1960 | M13: 2347 | N13: 2347
A14: Béren kívüli juttatások | B14: K1107 | C14: 410 | D14: 419 | E14: 412 | L14: 410 | M14: 419 | N14: 412
A15: Ruházati költségtérítés | B15: K1108
A16: Közlekedési költségtérítés | B16: K1109 | C16: 155 | D16: 343 | E16: 150 | L16: 155 | M16: 343 | N16: 150
A17: Egyéb költségtérítések | B17: K1110
A18: Lakhatási támogatások | B18: K1111
A19: Szociális támogatások | B19: K1112
A20: Foglalkoztatottak egyéb személyi juttatásai | B20: K1113 | C20: 0 | D20: 13 | E20: 13 | L20: 0 | M20: 13 | N20: 13
A21: Foglalkoztatottak személyi juttatásai | B21: K11 | C21: 16855 | D21: 17952 | E21: 16030 | L21: 16855 | M21: 17952 | N21: 16030
A22: Választott tisztségviselők juttatásai | B22: K121
A23: Munkavégzésre irányuló egyéb jogviszonyban nem saját foglalkoztatottnak fizetett juttatások | B23: K122
A24: Egyéb külső személyi juttatások | B24: K123
A25: Külső személyi juttatások | B25: K12
A26: Személyi juttatások | B26: K1 | C26: 16855 | D26: 17952 | E26: 16030 | L26: 16855 | M26: 17952 | N26: 16030
A27: Munkaadókat terhelő járulékok és szociális hozzájárulási adó | B27: K2 | C27: 3721 | D27: 3882 | E27: 3882 | L27: 3721 | M27: 3882 | N27: 3882
A28: Szakmai anyagok beszerzése | B28: K311 | C28: 10 | D28: 10 | E28: 8 | L28: 10 | M28: 10 | N28: 8
A29: Üzemeltetési anyagok beszerzése | B29: K312 | C29: 290 | D29: 290 | E29: 111 | L29: 290 | M29: 290 | N29: 111
A30: Árubeszerzés | B30: K313
A31: Készletbeszerzés | B31: K31 | C31: 300 | D31: 300 | E31: 119 | L31: 300 | M31: 300 | N31: 119
A32: Informatikai szolgáltatások igénybevétele | B32: K321
A33: Egyéb kommunikációs szolgáltatások | B33: K322 | C33: 80 | D33: 80 | E33: 14 | L33: 80 | M33: 80 | N33: 14
A34: Kommunikációs szolgáltatások | B34: K32 | C34: 80 | D34: 80 | E34: 14 | L34: 80 | M34: 80 | N34: 14
A35: Közüzemi díjak | B35: K331 | C35: 1200 | D35: 1754 | E35: 892 | L35: 1200 | M35: 1754 | N35: 892
A36: Vásárolt élelmezés | B36: K332
A37: Bérleti és lízing díjak | B37: K333
A38: Karbantartási, kisjavítási szolgáltatások | B38: K334 | C38: 250 | D38: 200 | E38: 30 | L38: 250 | M38: 200 | N38: 30
A39: Közvetített szolgáltatások | B39: K335
A40: Szakmai tevékenységet segítő szolgáltatások | B40: K336 | C40: 0 | D40: 152 | E40: 152 | L40: 0 | M40: 152 | N40: 152
A41: Egyéb szolgáltatások | B41: K337 | C41: 315 | D41: 293 | E41: 160 | L41: 315 | M41: 293 | N41: 160
...

Sheet 6. melléklet
A1: 6. melléklet a 5/2018.(V.29) önkormányzati rendelethez
A2: Sorokpolány Község Önkormányzat 2017. évi zárszámadása
A3: Beruházások és felújítások (E Ft)
A5: Megnevezés | B5: Rovat-szám | C5: ÖNKORMÁNYZATI ELŐIRÁNYZATOK | F5: BÓBITA ÓVODA | I5: MINDÖSSZESEN
C6: eredeti ei. | D6: módosított ei. | E6: teljesítés | F6: eredeti ei. | G6: módosított ei. | H6: teljesítés | I6: eredeti ei. | J6: módosított ei. | K6: teljesítés
A7: Immateriális javak beszerzése, létesítése | B7: K61
A10: Ingatlanok beszerzése, létesítése | B10: K62
A13: Informatikai eszközök beszerzése, létesítése | B13: K63
A16: Egyéb tárgyi eszközök beszerzése, létesítése | B16: K64 | C16: 579 | D16: 579 | E16: 216 | F16: 0 | G16: 47 | H16: 47 | I16: =C16+F16 -> 579 | J16: =D16+G16 -> 626 | K16: =E16+H16 -> 263
A19: Részesedések beszerzése | B19: K65
A22: Meglévő részesedések növeléséhez kapcsolódó kiadások | B22: K66
A23: Beruházási célú előzetesen felszámított általános forgalmi adó | B23: K67 | C23: 266 | D23: 266 | E23: 57 | F23: 0 | G23: 13 | H23: 13 | I23: 266 | J23: 279 | K23: 70
A24: Beruházások | B24: K6 | C24: =C10+C13+C16+C23 -> 845 | D24: =D10+D13+D16+D23 -> 845 | E24: 269 | F24: 0 | G24: 59 | H24: 59 | I24: =I10+I13+I16+I23 -> 845 | J24: 904 | K24: 328
A25: Ingatlanok felújítása | B25: K71 | C25: 0 | D25: 2233 | E25: 2233 | I25: 0 | J25: 2233 | K25: 22333
A28: Informatikai eszközök felújítása | B28: K72
A31: Egyéb tárgyi eszközök felújítása | B31: K73
A32: Felújítási célú előzetesen felszámított általános forgalmi adó | B32: K74 | C32: 0 | D32: 603 | E32: 603 | I32: 0 | J32: 603 | K32: 603
A33: Felújítások | B33: K7 | C33: =C25+C32 -> 0 | D33: 2836 | E33: 2836 | I33: 0 | J33: 2836 | K33: 2836

Sheet 7. melléklet
A1: 7. melléklet a 5/2018.(V.29) önkormányzati rendelethez
A2: Sorokpolány Község Önkormányzat 2017. évi zárszámadása
A3: Foglalkoztatottak létszáma (fő)
A5: MEGNEVEZÉS | B5: Költségvetési engedélyezett létszámkeret (álláshely) (fő) ÖNKORMÁNYZAT | C5: Költségvetési engedélyezett létszámkeret (álláshely) (fő) BÓBITA ÓVODA | D5: MINDÖSSZESEN
A6: főjegyző, jegyző, aljegyző, címzetes főjegyző, körjegyző
A7: I. besorolási osztály összesen
A8: II. besorolási osztály összesen
A9: III. besorolási osztály összesen
A10: KÖZTISZTVISELŐK, KORMÁNYTISZTVISELŐK ÖSSZESEN
A11: igazgató (főigazgató), igazgatóhelyettes (főigazgató-helyettes)
A12: főosztályvezető, főosztályvezető-helyettes, osztályvezető, ügykezelő osztályvezető, további vezető
A13: főtanácsos, főmunkatárs, tanácsos, munkatárs
A14: "A", "B" fizetési osztály összesen | C14: 3 | D14: =B14+C14 -> 3
A15: "C", "D" fizetési osztály összesen | C15: 4 | D15: =B15+C15 -> 4
A16: "E"-"J" fizetési osztály összesen
A17: kutató, felsőoktatásban oktató
A18: KÖZALKALMAZOTTAK ÖSSZESEN | C18: 7 | D18: =B18+C18 -> 7
A19: fizikai alkalmazott, a költségvetési szerveknél foglalkoztatott egyéb munkavállaló (fizikai alkalmazott) | B19: 2 | D19: =B19+C19 -> 2
A20: ösztöndíjas foglalkoztatott
A21: közfoglalkoztatott | D21: =B21+C21 -> 0
A22: EGYÉB BÉRRENDSZER ÖSSZESEN | B22: =B19+B21 -> 2 | D22: =B22+C22 -> 2
A23: polgármester, főpolgármester | B23: 1 | D23: =B23+C23 -> 1
A24: helyi önkormányzati képviselő-testület tagja, megyei közgyűlés tagja | B24: 4 | D24: =B24+C24 -> 4
A25: alpolgármester, főpolgármester-helyettes, megyei közgyűlés elnöke, alelnöke | B25: 0 | D25: =B25+C25 -> 0
A26: VÁLASZTOTT TISZTSÉGVISELŐK ÖSSZESEN | B26: =B23+B24+B25 -> 5 | D26: =B26+C26 -> 5
A27: KÖLTSÉGVETÉSI ENGEDÉLYEZETT LÉTSZÁMKERETBE TARTOZÓ FOGLALKOZTATOTTAK LÉTSZÁMA MINDÖSSZESEN | B27: 7 | C27: 7 | D27: =B27+C27 -> 14
A28: prémiumévek programról és a különleges foglalkoztatási állományról szóló 2004. évi CXXII. törvény alapján foglalkoztatott prémiumévesek
A29: prémiumévek programról és a különleges foglalkoztatási állományról szóló 2004. évi CXXII. törvény alapján foglalkoztatott különleges foglalkoztatási állományba helyezettek létszáma
A30: ösztöndíjas foglalkoztatottak (Pftv, illetve Magyar Közigazgatási Ösztöndíjról szóló 228/2011. (X. 28.) Korm. rendelet)
A31: munkaerőpiactól tartósan távol lévő személyek
A32: KÖLTSÉGVETÉSI ENGEDÉLYEZETT LÉTSZÁMKERETBE NEM TARTOZÓ FOGLALKOZTATOTTAK LÉTSZÁMA AZ IDŐSZAK VÉGÉN ÖSSZESEN | B32: 0 | C32: 0 | D32: =B32+C32 -> 0

Sheet 8. melléklet
A1: 8. melléklet a 5/2018.(V.29) önkormányzati rendelethez
A2: Sorokpolány Község Önkormányzat 2017. évi zárszámadása
A3: Általános- és céltartalékok (E Ft)
A5: Rovat megnevezése | B5: Rovat-szám | C5: ÖNKORMÁNYZATI ELŐIRÁNYZATOK | E5: BÓBITA ÓVODA | G5: MINDÖSSZESEN
C6: eredeti ei. | D6: módosított ei. | E6: eredeti ei. | F6: módosított ei. | G6: eredeti ei. | H6: módosított ei.
A11: Általános tartalékok | B11: K513 | C11: 13133 | D11: 1718 | E11: 0 | F11: 0 | G11: =C11 -> 13133 | H11: =D11 -> 1718
A16: Céltartalékok- | B16: K513 | C16: 0 | D16: 0 | E16: 0 | F16: 0 | G16: 0 | H16: 0

Sheet 9. melléklet
A1: 9. melléklet a 5/2018.(V.29) önkormányzati rendelethez
A2: Sorokpolány Község Önkormányzat 2017. évi zárszámadása
A3: A Gst. 3. § (1) bekezdése szerinti adósságot keletkeztető ügyletekből és kezességvállalásokból fennálló kötelezettségek az adósságot keletkeztető ügyletek futamidejének végéig, illetve a kezesség érvényesíthetőségéig, és a Gst. 45. § (1) bekezdés a) pontja felhatalmazása alapján kiadott jogszabályban meghatározottak szerinti saját bevételek (E Ft)
A5: NEMLEGES
A6: Rovat megnevezése | B6: Rovat-szám | C6: adósságot keletkeztető ügylet kezdő időpontja | D6: adósságot keletkeztető ügylet lejárati időpontja | E6: adósságot keletkeztető ügyletekből és kezességvállalásokból fennálló kötelezettségek | F6: saját bevételek 2015. | G6: saját bevételek 2016. | H6: saját bevételek 2017. | I6: saját bevételek 2018.
A7: Hosszú lejáratú hitelek, kölcsönök felvétele | B7: B8111
A8: ebből: pénzügyi vállalkozás | B8: B8111
A9: Likviditási célú hitelek, kölcsönök felvétele pénzügyi vállalkozástól | B9: B8112
A10: Rövid lejáratú hitelek, kölcsönök felvétele | B10: B8113
A11: ebből: pénzügyi vállalkozás | B11: B8113
A12: Hitel-, kölcsönfelvétel államháztartáson kívülről | B12: B811
A13: Forgatási célú belföldi értékpapírok beváltása, értékesítése | B13: B8121
A14: ebből: befektetési jegyek | B14: B8121
A15: Forgatási célú belföldi értékpapírok kibocsátása | B15: B8122
A16: Befektetési célú belföldi értékpapírok beváltása, értékesítése | B16: B8123
A17: ebből: kárpótlási jegyek | B17: B8123
A18: Befektetési célú belföldi értékpapírok kibocsátása | B18: B8124
... A27: Külföldi finanszírozás bevételei | B27: B82
A29: Rovat megnevezése | B29: Rovat-szám | C29: 2016 | D29: 2017 | E29: 2018
A30: 353/2011. (XII. 30.) Korm. Rendelet értelmében az önkormányzat saját bevételének minősül
A31: 1. a helyi adóból származó bevétel, | C31: 10700 | D31: 10700 | E31: 10700
A32: 2. az önkormányzati vagyon és az önkormányzatot megillető vagyoni értékű jog értékesítéséből és hasznosításából származó bevétel, | C32: 500
A33: 3. az osztalék, a koncessziós díj és a hozambevétel,
A34: 4. a tárgyi eszköz és az immateriális jószág, részvény, részesedés, vállalat értékesítéséből vagy privatizációból származó bevétel,
A35: 5. bírság-, pótlék- és díjbevétel, valamint | C35: 30 | D35: 30 | E35: 30
A36: 6. a kezességvállalással kapcsolatos megtérülés.
A37: ÖSSZESEN: | C37: =C31+C32+C35 -> 11230 | D37: =D31+D32+D35 -> 10730 | E37: =E31+E32+E35 -> 10730
A49: a)4 hitel, kölcsön felvétele, átvállalása a folyósítás, átvállalás napjától a végtörlesztés napjáig, és annak aktuális tőketartozása,
A50: b) a számvitelről szóló törvény (a továbbiakban: Szt.) szerinti hitelviszonyt megtestesítő értékpapír forgalomba hozatala a forgalomba hozatal napjától a beváltás napjáig, kamatozó értékpapír esetén annak névértéke, egyéb értékpapír esetén annak vételára,
A51: c) váltó kibocsátása a kibocsátás napjától a beváltás napjáig, és annak a váltóval kiváltott kötelezettséggel megegyező, kamatot nem tartalmazó értéke,
A52: d) az Szt. szerint pénzügyi lízing lízingbevevői félként történő megkötése a lízing futamideje alatt, és a lízingszerződésben kikötött tőkerész hátralévő összege,
A53: e) a visszavásárlási kötelezettség kikötésével megkötött adásvételi szerződés eladói félként történő megkötése – ideértve az Szt. szerinti valódi penziós és óvadéki repóügyleteket is – a visszavásárlásig, és a kikötött visszavásárlási ár,
A54: f) a szerződésben kapott, legalább háromszázhatvanöt nap időtartamú halasztott fizetés, részletfizetés, és a még ki nem fizetett ellenérték,
A55: g)5 hitelintézetek által, származékos műveletek különbözeteként az Államadósság Kezelő Központ Zrt.-nél (a továbbiakban: ÁKK Zrt.) elhelyezett fedezeti betétek, és azok összege.
A57: Stabilitási tv.10. § (3): Az önkormányzat 3. § (1) bekezdése szerinti adósságot keletkeztető ügyletből származó tárgyévi összes fizetési kötelezettsége az adósságot keletkeztető ügylet futamidejének végéig egyik évben sem haladja meg az önkormányzat adott évi saját bevételeinek 50%-át.
A60: Mötv. 106. § (1) E törvény alkalmazásában saját bevétel:
A61: a) a helyi adók;
A62: b) saját tevékenységből, vállalkozásból és az önkormányzati vagyon hasznosításából származó bevétel, nyereség, osztalék, kamat és bérleti díj;
A63: c) átvett pénzeszközök;
... A74: 6. a kezességvállalással kapcsolatos megtérülés.

Sheet 9A. melléklet
A1: 9A. melléklet a 5/2018.(V.29) önkormányzati rendelethez
A2: Sorokpolány Község Önkormányzat 2017. évi zárszámadása
A3: A költségvetési év azon fejlesztései, amelyek megvalósításához a Gst. 3. § (1) bekezdése szerinti adósságot keletkeztető ügylet megkötése vált szükségessé (E Ft)
A5: NEMLEGES
A6: Rovat megnevezése | B6: Rovat-szám | C6: kiadási eredeti előirányzat | D6: kiadási módosított előirányzat | E6: teljesített kiadás | F6: ebből teljesített kiadás fedezete-saját forrás | G6: ebből teljesített kiadás fedezete-adósságot keletkeztető ügylet | H6: adósságot keletkeztető ügylet fajtája | I6: adósságot keletkeztető ügylet fajtája | J6: adósságot keletkeztető ügylet rovatszáma (B8) | K6: adósságot keletkeztető ügylet kezdő időpontja | L6: adósságot keletkeztető ügylet lejárati időpontja | M6: adósságot keletkeztető ügylet- várható visszatérítendő összege (kamattal) leáratig mindösszesen
A7: Immateriális javak beszerzése, létesítése | B7: K61
A10: Ingatlanok beszerzése, létesítése | B10: K62
A14: Egyéb tárgyi eszközök beszerzése, létesítése | B14: K64
A17: Részesedések beszerzése | B17: K65
A20: Meglévő részesedések növeléséhez kapcsolódó kiadások | B20: K66
A21: Beruházási célú előzetesen felszámított általános forgalmi adó | B21: K67
A22: Beruházások | B22: K6
A23: Ingatlanok felújítása | B23: K71
A26: Informatikai eszközök felújítása | B26: K72
A29: Egyéb tárgyi eszközök felújítása | B29: K73
A32: Felújítási célú előzetesen felszámított általános forgalmi adó | B32: K74
A33: Felújítások | B33: K7

Sheet 10. melléklet
A1: 10. melléklet a 5/2018.(V.29) önkormányzati rendelethez
A2: Sorokpolány Község Önkormányzat 2017. évi zárszámadása
A3: A költségvetési hiány külső finanszírozására vagy a költségvetési többlet felhasználására szolgáló finanszírozási bevételek és kiadások működési és felhalmozási cél szerinti tagolásban (E Ft)
A5: Megnevezés | B5: Rovat-szám | C5: eredeti ei. Működési célú | D5: eredeti ei. Felhalmozási célú | E5: módosított ei. Működési célú | F5: módosított ei. Felhalmozási célú | G5: Teljesítés Működési célú | H5: Teljesítés Felhalmozási célú
A6: Hosszú lejáratú hitelek, kölcsönök törlesztése | B6: K9111
A7: ebből: pénzügyi vállalkozás | B7: K9111
A8: ebből: fedezeti ügyletek nettó kiadásai | B8: K9111
A9: Likviditási célú hitelek, kölcsönök törlesztése pénzügyi vállalkozásnak | B9: K9112
A10: Rövid lejáratú hitelek, kölcsönök törlesztése | B10: K9113
A11: ebből: pénzügyi vállalkozás | B11: K9113
A12: ebből: fedezeti ügyletek nettó kiadásai | B12: K9113
A13: Hitel-, kölcsöntörlesztés államháztartáson kívülre | B13: K911
A14: Forgatási célú belföldi értékpapírok vásárlása | B14: K9121
A15: ebből: befektetési jegyek | B15: K9121
A16: ebből: kárpótlási jegyek | B16: K9121
A17: Forgatási célú belföldi értékpapírok beváltása | B17: K9122
... A24: Államháztartáson belüli megelőlegezések folyósítása | B24: K913
A25: Államháztartáson belüli megelőlegezések visszafizetése | B25: K914 | C25: 1218 | D25: 0 | E25: 1217 | F25: 0 | G25: 1218 | H25: 0
A26: Pénzeszközök betétként elhelyezése | B26: K916
A27: Pénzügyi lízing kiadásai | B27: K917
A28: Központi költségvetés sajátos finanszírozási kiadásai | B28: K918
A29: Belföldi finanszírozás kiadásai | B29: K91 | C29: 24512 | D29: 0 | E29: 26517 | F29: 0 | G29: 22837 | H29: 0
A30: Forgatási célú külföldi értékpapírok vásárlása | B30: K921
A31: Befektetési célú külföldi értékpapírok vásárlása | B31: K922
A32: Külföldi értékpapírok beváltása | B32: K923
A33: ebből: fedezeti ügyletek nettó kiadásai | B33: K923
A34: Külföldi hitelek, kölcsönök törlesztése | B34: K924
A35: ebből: nemzetközi fejlesztési szervezetek | B35: K924
A36: ebből: más kormányok | B36: K924
A37: ebből: külföldi pénzintézetek | B37: K924
A38: ebből: fedezeti ügyletek nettó kiadásai | B38: K924
A39: Külföldi finanszírozás kiadásai | B39: K92
A42: Megnevezés | B42: Rovat-szám | C42: eredeti ei. Működési célú | D42: eredeti ei. Felhalmozási célú | E42: módosított ei. Működési célú | F42: módosított ei. Felhalmozási célú | G42: Teljesítés Működési célú | H42: Teljesítés Felhalmozási célú
A43: Hosszú lejáratú hitelek, kölcsönök felvétele | B43: B8111
A44: ebből: pénzügyi vállalkozás | B44: B8111
A45: Likviditási célú hitelek, kölcsönök felvétele pénzügyi vállalkozástól | B45: B8112
A46: Rövid lejáratú hitelek, kölcsönök felvétele | B46: B8113
A47: ebből: pénzügyi vállalkozás | B47: B8113
A48: Hitel-, kölcsönfelvétel államháztartáson kívülről | B48: B811
A49: Forgatási célú belföldi értékpapírok beváltása, értékesítése | B49: B8121
...

Sheet 11. melléklet
A1: 11. melléklet a 5/2018.(V.29) önkormányzati rendelethez
A2: Sorokpolány Község Önkormányzat 2017. évi zárszámadása
A3: Támogatások, kölcsönök nyújtása és törlesztése (E Ft)
A5: Megnevezés | B5: Rovat-szám | C5: eredeti ei. | D5: módosított ei. | E5: teljesítés
A6: központi költségvetési szervek részére | B6: K504
A7: központi kezelésű előirányzatok részére | B7: K504
A8: fejezeti kezelésű előirányzatok EU-s programokra és azok hazai társfinanszírozása részére | B8: K504
A9: egyéb fejezeti kezelésű előirányzatok részére | B9: K504
A10: társadalombiztosítás pénzügyi alapjai részére | B10: K504
A11: elkülönített állami pénzalapok részére | B11: K504
A12: helyi önkormányzatok és költségvetési szerveik részére | B12: K504
A13: társulások és költségvetési szerveik részére | B13: K504
A14: nemzetiségi önkormányzatok és költségvetési szerveik részére | B14: K504
A15: térségi fejlesztési tanácsok és költségvetési szerveik részére | B15: K504
A16: Működési célú visszatérítendő támogatások, kölcsönök nyújtása államháztartáson belülre | B16: K504
A17: központi költségvetési szervek részére | B17: K505
... A33: elkülönített állami pénzalapok részére | B33: K506
A34: helyi önkormányzatok és költségvetési szerveik részére | B34: K506 | C34: 0 | D34: 0 | E34: 1675
A35: társulások és költségvetési szerveik részére | B35: K506 | C35: 0 | D35: 0 | E35: 44
A36: nemzetiségi önkormányzatok és költségvetési szerveik részére | B36: K506
A37: térségi fejlesztési tanácsok és költségvetési szerveik részére | B37: K506
A38: Egyéb működési célú támogatások államháztartáson belülre | B38: K506 | C38: 721 | D38: 1719 | E38: 1719
A39: egyházi jogi személyek részére | B39: K508
A40: egyéb civil szervezetek részére | B40: K508
A41: háztartások részére | B41: K508 | C41: 0 | D41: 0 | E41: 250
A42: pénzügyi vállalkozások részére | B42: K508
A43: állami többségi tulajdonú nem pénzügyi vállalkozások részére | B43: K508
A44: önkormányzati többségi tulajdonú nem pénzügyi vállalkozások részére | B44: K508
A45: egyéb vállalkozások részére | B45: K508
A46: Európai Unió részére | B46: K508
A47: kormányok és nemzetközi szervezetek részére | B47: K508
A48: egyéb külföldiek részére | B48: K508
A49: Működési célú visszatérítendő támogatások, kölcsönök nyújtása államháztartáson kívülre | B49: K508 | C49: 0 | D49: 250 | E49: 250
A50: egyházi jogi személyek részére | B50: K512
A51: egyéb civil szervezetek részére | B51: K512 | C51: 0 | D51: 0 | E51: 2028
A52: háztartások részére | B52: K512 | C52: 0 | D52: 0 | E52: 110
A53: pénzügyi vállalkozások részére | B53: K512
A54: állami többségi tulajdonú nem pénzügyi vállalkozások részére | B54: K512
A55: önkormányzati többségi tulajdonú nem pénzügyi vállalkozások részére | B55: K512
A56: egyéb vállalkozások részére | B56: K512
...

Sheet 12. melléklet
A1: 12. melléklet a 5/2018.(V.29) önkormányzati rendelethez
A2: Sorokpolány Község Önkormányzat 2017. évi zárszámadása
A3: Lakosságnak juttatott támogatások, szociális, rászorultsági jellegű ellátások (E Ft)
A5: Megnevezés | B5: Rovat-szám | C5: eredeti ei. | D5: módosított ei. | E5: teljesítés
A6: mozgáskorlátozottak közlekedési támogatása | B6: K44
A7: mozgáskorlátozottak szerzési és átalakítási támogatása | B7: K44
A8: megváltozott munkaképességűek illetve egészségkárosodottak keresetkiegészítése | B8: K44
A9: cukorbetegek támogatása | B9: K44
A10: helyi megállapítású ápolási díj [Szoctv. 43/B. §] | B10: K44
A11: helyi megállapítású közgyógyellátás [Szoctv.50.§ (3) bek.] | B11: K44
A12: Betegséggel kapcsolatos (nem társadalombiztosítási) ellátások | B12: K44
A13: foglalkoztatást helyettesítő támogatás [Szoctv. 35. § (1) bek.] | B13: K45
A14: Foglalkoztatással, munkanélküliséggel kapcsolatos ellátások | B14: K45
A15: hozzájárulás a lakossági energiaköltségekhez | B15: K46
A16: lakbértámogatás | B16: K46
A17: lakásfenntartási támogatás [Szoctv. 38. § (1) bek. a) és b) pontok] | B17: K46
... A22: állami gondozottak pénzbeli juttatásai | B22: K47
A23: oktatásban résztvevők pénzbeli juttatásai | B23: K47 | C23: 0 | D23: 0 | E23: 100
A24: Intézményi ellátottak pénzbeli juttatásai | B24: K47 | C24: 380 | D24: 380 | E24: 100
A25: időskorúak járadéka [Szoctv. 32/B. § (1) bek.] | B25: K48
A26: rendszeres szociális segély [Szoctv. 37. § (1) bek. a) - d) pontok] | B26: K48
A27: átmeneti segély [Szoctv. 45.§] | B27: K48
A28: temetési segély [Szoctv. 46.§] | B28: K48
A29: egyéb, az önkormányzat rendeletében megállapított juttatás | B29: K48
A30: természetben nyújtott rendszeres szociális segély [Szoctv. 47.§ (1) bek. a) pont] | B30: K48
A31: átmeneti segély [Szoctv. 47.§ (1) bek. c) pont] | B31: K48
A32: temetési segély [Szoctv. 47.§ (1) bek. d) pont} | B32: K48
A33: köztemetés [Szoctv. 48.§] | B33: K48
A34: rászorultságtól függõ normatív kedvezmények [Gyvt. 151. § (5) bek.] | B34: K48
A35: önkormányzat által saját hatáskörben (nem szociális és gyermekvédelmi előírások alapján) adott pénzügyi ellátás | B35: K48 | C35: 0 | D35: 0 | E35: 3799
A36: önkormányzat által saját hatáskörben (nem szociális és gyermekvédelmi előírások alapján) adott természetbeni ellátás | B36: K48
A37: Egyéb nem intézményi ellátások | B37: K48 | C37: 4933 | D37: 4933 | E37: 3799
A38: Ellátottak pénzbeli juttatásai | B38: K4 | C38: 5481 | D38: 5481 | E38: 3961

Sheet 13. melléklet
A1: 13. melléklet a 5/2018.(V.29) önkormányzati rendelethez
A2: Sorokpolány Község Önkormányzat 2017. évi zárszámadása
A3: Helyi adó és egyéb közhatalmi bevételek (E Ft)
A5: Megnevezés | B5: Rovat-szám | C5: eredeti ei. | D5: módosított ei. | E5: teljesítés
A6: építményadó | B6: B34
A7: épület után fizetett idegenforgalmi adó | B7: B34
A8: magánszemélyek kommunális adója | B8: B34 | C8: 0 | D8: 0 | E8: 1082
A9: telekadó | B9: B34
A10: Vagyoni tipusú adók | B10: B34 | C10: 1191 | D10: 1191 | E10: 1082
A11: Értékesítési és forgalmi adók | B11: B351 | C11: 10000 | D11: 10000 | E11: 9224
A12: ebből: állandó jeleggel végzett iparűzési tevékenység után fizetett helyi iparűzési adó | B12: B351 | C12: 0 | D12: 0 | E12: 9224
A13: ebből: ideiglenes jeleggel végzett tevékenység után fizetett helyi iparűzési adó | B13: B351
