Workbook
Name foot_4_place: '9. melléklet'!$A$19
Name foot_5_place: '9. melléklet'!#REF!
Name foot_53_place: '9. melléklet'!$A$64

Sheet 1. melléklet
A1: 1. melléklet a 5/2018.(V.29) önkormányzati rendelethez
A3: Sorokpolány Község Önkormányzat 2017. évi zárszámadása
A4: Az egységes rovatrend szerint a kiemelt kiadási és bevételi jogcímek
A7: K1. Személyi juttatások
A8: K2. Munkaadókat terhelő járulékok és szociális hozzájárulási adó
A9: K3. Dologi kiadások
A10: K4. Ellátottak pénzbeli juttatásai
A11: K5. Egyéb működési célú kiadások
A12: K6. Beruházási kiadások
A13: K7. Felújítások
A14: K8. Egyéb felhalmozási célú kiadások
A15: K1-8. Költségvetési kiadások
... A27: BEVÉTELEK ÖSSZESEN (B1-8)

Sheet 2. melléklet
A1: 2. melléklet a 5/2018.(V.29) önkormányzati rendelethez
A2: Sorokpolány Község Önkormányzat 2017. évi zárszámadása
A3: Bevételek (E Ft)
A5: ÖNKORMÁNYZAT ÉS KÖLTSÉGVETÉSI SZERVEI ELŐIRÁNYZATA MINDÖSSZESEN
A6: Rovat megnevezése | B6: Rovat- szám | C6: eredeti ei. | D6: módosított ei. | E6: teljesítés
A7: Helyi önkormányzatok működésének általános támogatása | B7: B111 | C7: 9655 | D7: 9669 | E7: 10669
A8: Települési önkormányzatok egyes köznevelési feladatainak támogatása | B8: B112 | C8: 14907 | D8: 14907 | E8: 15454
A9: Települési önkormányzatok szociális és gyermekjóléti feladatainak támogatása | B9: B113 | C9: 8979 | D9: 8979 | E9: 7854
A10: Települési önkormányzatok kulturális feladatainak támogatása | B10: B114 | C10: 1200 | D10: 1200 | E10: 1200
A11: Működési célú központosított előirányzatok | B11: B115 | D11: 1321 | E11: 899
A12: Helyi önkormányzatok kiegészítő támogatásai | B12: B116
A13: Önkormányzatok működési támogatásai | B13: B11 | C13: 34741 | D13: 36072 | E13: 36076
A14: Elvonások és befizetések bevételei | B14: B12
A15: Működési célú garancia- és kezességvállalásból származó megtérülések államháztartáson belülről | B15: B13
A16: Működési célú visszatérítendő támogatások, kölcsönök visszatérülése államháztartáson belülről | B16: B14
A17: Működési célú visszatérítendő támogatások, kölcsönök igénybevétele államháztartáson belülről | B17: B15
A18: Egyéb működési célú támogatások bevételei államháztartáson belülről | B18: B16 | C18: 168 | D18: 266 | E18: 2841
A19: Működési célú támogatások államháztartáson belülről | B19: B1 | C19: 34909 | D19: 36342 | E19: 38917
A20: Magánszemélyek jövedelemadói | B20: B311
A21: Társaságok jövedelemadói | B21: B312
A22: Jövedelemadók | B22: B31
A23: Szociális hozzájárulási adó és járulékok | B23: B32
A24: Bérhez és foglalkoztatáshoz kapcsolódó adók | B24: B33
A25: Vagyoni tipusú adók | B25: B34 | C25: 1191 | D25: 1191 | E25: 1082
A26: Értékesítési és forgalmi adók | B26: B351 | C26: 10000 | D26: 10000 | E26: 9224
A27: Fogyasztási adók | B27: B352
A28: Pénzügyi monopóliumok nyereségét terhelő adók | B28: B353
A29: Gépjárműadók | B29: B354 | C29: 1875 | D29: 1875 | E29: 1712
A30: Egyéb áruhasználati és szolgáltatási adók | B30: B355 | C30: 180 | D30: 180 | E30: 0
A31: Termékek és szolgáltatások adói | B31: B35 | C31: 12055 | D31: 12055 | E31: 10935
A32: Egyéb közhatalmi bevételek | B32: B36 | C32: 110 | D32: 110 | E32: 311
A33: Közhatalmi bevételek | B33: B3 | C33: 13356 | D33: 13356 | E33: 12328
A34: Áru- és készletértékesítés ellenértéke | B34: B401
A35: Szolgáltatások ellenértéke | B35: B402
A36: Közvetített szolgáltatások értéke | B36: B403 | C36: 617 | D36: 617 | E36: 1526
A37: Tulajdonosi bevételek | B37: B404
A38: Ellátási díjak | B38: B405 | C38: 1032 | D38: 1032 | E38: 776
A39: Kiszámlázott általános forgalmi adó | B39: B406
A40: Általános forgalmi adó visszatérítése | B40: B407
A41: Kamatbevételek | B41: B408 | C41: 1 | D41: 1 | E41: 36
A42: Egyéb pénzügyi műveletek bevételei | B42: B409
A43: Egyéb működési bevételek | B43: B410 | C43: 2789 | D43: 2789 | E43: 6706
A44: Működési bevételek | B44: B4 | C44: 4439 | D44: 4439 | E44: 9044
A45: Működési célú garancia- és kezességvállalásból származó megtérülések államháztartáson kívülről | B45: B61
A46: Működési célú visszatérítendő támogatások, kölcsönök visszatérülése államháztartáson kívülről | B46: B62
A47: Egyéb működési célú átvett pénzeszközök | B47: B63
A48: Működési célú átvett pénzeszközök | B48: B6 | C48: 0 | D48: 42 | E48: 127
A49: Működési költségvetés előirányzat csoport | C49: 52704 | D49: 54179 | E49: 60416
A50: Felhalmozási célú önkormányzati támogatások | B50: B21 | C50: 0 | D50: 1250 | E50: 1250
A51: Felhalmozási célú garancia- és kezességvállalásból származó megtérülések államháztartáson belülről | B51: B22
A52: Felhalmozási célú visszatérítendő támogatások, kölcsönök visszatérülése államháztartáson belülről | B52: B23
A53: Felhalmozási célú visszatérítendő támogatások, kölcsönök igénybevétele államháztartáson belülről | B53: B24
A54: Egyéb felhalmozási célú támogatások bevételei államháztartáson belülről | B54: B25
A55: Felhalmozási célú támogatások államháztartáson belülről | B55: B2 | C55: 0 | D55: 1250 | E55: 1250
A56: Immateriális javak értékesítése | B56: B51
A57: Ingatlanok értékesítése | B57: B52 | C57: 0 | D57: 0 | E57: 8
A58: Egyéb tárgyi eszközök értékesítése | B58: B53
A59: Részesedések értékesítése | B59: B54
A60: Részesedések megszűnéséhez kapcsolódó bevételek | B60: B55
A61: Felhalmozási bevételek | B61: B5 | C61: 0 | D61: 0 | E61: 8
A62: Felhalmozási célú garancia- és kezességvállalásból származó megtérülések államháztartáson kívülről | B62: B71
A63: Felhalmozási célú visszatérítendő támogatások, kölcsönök visszatérülése államháztartáson kívülről | B63: B72
A64: Egyéb felhalmozási célú átvett pénzeszközök | B64: B73
A65: Felhalmozási célú átvett pénzeszközök | B65: B7
A66: Felhalmozási költségvetés előirányzat csoport | C66: 0 | D66: 2500 | E66: 2516
A67: Költségvetési bevételek | B67: B1-B7 | C67: 52704 | D67: 55429 | E67: 61674
A68: költségvetési egyenleg MŰKÖDÉSI
A69: költségvetési egyenleg FELHALMOZÁSI
A70: Hosszú lejáratú hitelek, kölcsönök felvétele | B70: B8111
A71: Likviditási célú hitelek, kölcsönök felvétele pénzügyi vállalkozástól | B71: B8112
A72: Rövid lejáratú hitelek, kölcsönök felvétele | B72: B8113
A73: Hitel-, kölcsönfelvétel államháztartáson kívülről | B73: B811
A74: Forgatási célú belföldi értékpapírok beváltása, értékesítése | B74: B8121
A75: Forgatási célú belföldi értékpapírok kibocsátása | B75: B8122
A76: Befektetési célú belföldi értékpapírok beváltása, értékesítése | B76: B8123
A77: Befektetési célú belföldi értékpapírok kibocsátása | B77: B8124
A78: Belföldi értékpapírok bevételei | B78: B812
A79: Előző év költségvetési maradványának igénybevétele MŰKÖDÉSRE | B79: B8131 | C79: 19500 | D79: 21195 | E79: 21195
A80: Előző év költségvetési maradványának igénybevétele FELHALMOZÁSRA | B80: B8131
A81: Előző év vállalkozási maradványának igénybevétele MŰKÖDÉSRE | B81: B8132
A82: Előző év vállalkozási maradványának igénybevétele FELHALMOZÁSRA | B82: B8132
A83: Maradvány igénybevétele | B83: B813 | C83: 19500 | D83: 21195 | E83: 21195
A84: Államháztartáson belüli megelőlegezések | B84: B814 | C84: 0 | D84: 0 | E84: 1253
A85: Államháztartáson belüli megelőlegezések törlesztése | B85: B815
A86: Központi, irányító szervi támogatás | B86: B816
A87: Betétek megszüntetése | B87: B817
A88: Központi költségvetés sajátos finanszírozási bevételei | B88: B818
A89: Belföldi finanszírozás bevételei | B89: B81 | C89: 42794 | D89: 46491 | E89: 44067
A90: Forgatási célú külföldi értékpapírok beváltása, értékesítése | B90: B821
A91: Befektetési célú külföldi értékpapírok beváltása, értékesítése | B91: B822
A92: Külföldi értékpapírok kibocsátása | B92: B823
A93: Külföldi hitelek, kölcsönök felvétele | B93: B824
A94: Külföldi finanszírozás bevételei | B94: B82
A95: Adóssághoz nem kapcsolódó származékos ügyletek bevételei | B95: B83
A96: Finanszírozási bevételek | B96: B8 | C96: 42749 | D96: 46491 | E96: 44067
A97: BEVÉTELEK ÖSSZESEN (B1-8) | C97: 95453 | D97: 101920 | E97: 105741

Sheet 2A. melléklet
A1: 2A. melléklet a 5/2018.(V.29) önkormányzati rendelethez
A2: Sorokpolány Község Önkormányzat 2017. évi zárszámadása
A3: Bevételek (E Ft)
A5: Sorokpolány Község Önkormányzata
A6: Rovat megnevezése | B6: Rovat- szám | C6: eredeti ei. | D6: módosított ei. | E6: teljesítés
A7: Helyi önkormányzatok működésének általános támogatása | B7: B111 | C7: 9655 | D7: 9669 | E7: 10669
A8: Települési önkormányzatok egyes köznevelési feladatainak támogatása | B8: B112 | C8: 14907 | D8: 14907 | E8: 15454
A9: Települési önkormányzatok szociális és gyermekjóléti feladatainak támogatása | B9: B113 | C9: 8979 | D9: 8979 | E9: 7854
A10: Települési önkormányzatok kulturális feladatainak támogatása | B10: B114 | C10: 1200 | D10: 1200 | E10: 1200
A11: Működési célú központosított előirányzatok | B11: B115 | D11: 1321 | E11: 899
A12: Helyi önkormányzatok kiegészítő támogatásai | B12: B116
A13: Önkormányzatok működési támogatásai | B13: B11 | C13: 34741 | D13: 36072 | E13: 36076
A14: Elvonások és befizetések bevételei | B14: B12
A15: Működési célú garancia- és kezességvállalásból származó megtérülések államháztartáson belülről | B15: B13
A16: Működési célú visszatérítendő támogatások, kölcsönök visszatérülése államháztartáson belülről | B16: B14
A17: Működési célú visszatérítendő támogatások, kölcsönök igénybevétele államháztartáson belülről | B17: B15
A18: Egyéb működési célú támogatások bevételei államháztartáson belülről | B18: B16 | C18: 168 | D18: 266 | E18: 2841
A19: Működési célú támogatások államháztartáson belülről | B19: B1 | C19: 34909 | D19: 36342 | E19: 38917
A20: Magánszemélyek jövedelemadói | B20: B311
A21: Társaságok jövedelemadói | B21: B312
A22: Jövedelemadók | B22: B31
A23: Szociális hozzájárulási adó és járulékok | B23: B32
A24: Bérhez és foglalkoztatáshoz kapcsolódó adók | B24: B33
A25: Vagyoni tipusú adók | B25: B34 | C25: 1191 | D25: 1191 | E25: 1082
A26: Értékesítési és forgalmi adók | B26: B351 | C26: 10000 | D26: 10000 | E26: 9224
A27: Fogyasztási adók | B27: B352
A28: Pénzügyi monopóliumok nyereségét terhelő adók | B28: B353
A29: Gépjárműadók | B29: B354 | C29: 1875 | D29: 1875 | E29: 1712
A30: Egyéb áruhasználati és szolgáltatási adók | B30: B355 | C30: 180 | D30: 180 | E30: 0
A31: Termékek és szolgáltatások adói | B31: B35 | C31: 12055 | D31: 12055 | E31: 10935
A32: Egyéb közhatalmi bevételek | B32: B36 | C32: 110 | D32: 110 | E32: 311
A33: Közhatalmi bevételek | B33: B3 | C33: 13356 | D33: 13356 | E33: 12328
A34: Áru- és készletértékesítés ellenértéke | B34: B401
A35: Szolgáltatások ellenértéke | B35: B402
A36: Közvetített szolgáltatások értéke | B36: B403 | C36: 617 | D36: 617 | E36: 1526
A37: Tulajdonosi bevételek | B37: B404
A38: Ellátási díjak | B38: B405 | C38: 1032 | D38: 1032 | E38: 776
A39: Kiszámlázott általános forgalmi adó | B39: B406
A40: Általános forgalmi adó visszatérítése | B40: B407
A41: Kamatbevételek | B41: B408 | C41: 1000 | D41: 1000 | E41: 36
A42: Egyéb pénzügyi műveletek bevételei | B42: B409
A43: Egyéb működési bevételek | B43: B410 | C43: 2789 | D43: 2789 | E43: 6706
A44: Működési bevételek | B44: B4 | C44: 4439 | D44: 4439 | E44: 9044
A45: Működési célú garancia- és kezességvállalásból származó megtérülések államháztartáson kívülről | B45: B61
A46: Működési célú visszatérítendő támogatások, kölcsönök visszatérülése államháztartáson kívülről | B46: B62
A47: Egyéb működési célú átvett pénzeszközök | B47: B63
A48: Működési célú átvett pénzeszközök | B48: B6 | C48: 0 | D48: 42 | E48: 127
A49: Működési költségvetés előirányzat csoport | C49: 52704 | D49: 54137 | E49: 60416
A50: Felhalmozási célú önkormányzati támogatások | B50: B21 | D50: 1250 | E50: 1250
A51: Felhalmozási célú garancia- és kezességvállalásból származó megtérülések államháztartáson belülről | B51: B22
A52: Felhalmozási célú visszatérítendő támogatások, kölcsönök visszatérülése államháztartáson belülről | B52: B23
A53: Felhalmozási célú visszatérítendő támogatások, kölcsönök igénybevétele államháztartáson belülről | B53: B24
A54: Egyéb felhalmozási célú támogatások bevételei államháztartáson belülről | B54: B25
A55: Felhalmozási célú támogatások államháztartáson belülről | B55: B2 | C55: 0 | D55: 1250 | E55: 1250
A56: Immateriális javak értékesítése | B56: B51
A57: Ingatlanok értékesítése | B57: B52 | C57: 0 | D57: 0 | E57: 7700
A58: Egyéb tárgyi eszközök értékesítése | B58: B53
A59: Részesedések értékesítése | B59: B54
A60: Részesedések megszűnéséhez kapcsolódó bevételek | B60: B55
A61: Felhalmozási bevételek | B61: B5 | C61: 0 | D61: 0 | E61: 7700
A62: Felhalmozási célú garancia- és kezességvállalásból származó megtérülések államháztartáson kívülről | B62: B71
A63: Felhalmozási célú visszatérítendő támogatások, kölcsönök visszatérülése államháztartáson kívülről | B63: B72
A64: Egyéb felhalmozási célú átvett pénzeszközök | B64: B73
A65: Felhalmozási célú átvett pénzeszközök | B65: B7
A66: Felhalmozási költségvetés előirányzat csoport | C66: 0 | D66: 2500 | E66: 17900
A67: Költségvetési bevételek | B67: B1-B7 | C67: 52704 | D67: 55429 | E67: 61673
A68: költségvetési egyenleg MŰKÖDÉSI
A69: költségvetési egyenleg FELHALMOZÁSI
A70: Hosszú lejáratú hitelek, kölcsönök felvétele | B70: B8111
A71: Likviditási célú hitelek, kölcsönök felvétele pénzügyi vállalkozástól | B71: B8112
A72: Rövid lejáratú hitelek, kölcsönök felvétele | B72: B8113
A73: Hitel-, kölcsönfelvétel államháztartáson kívülről | B73: B811
A74: Forgatási célú belföldi értékpapírok beváltása, értékesítése | B74: B8121
A75: Forgatási célú belföldi értékpapírok kibocsátása | B75: B8122
A76: Befektetési célú belföldi értékpapírok beváltása, értékesítése | B76: B8123
A77: Befektetési célú belföldi értékpapírok kibocsátása | B77: B8124
A78: Belföldi értékpapírok bevételei | B78: B812
A79: Előző év költségvetési maradványának igénybevétele MŰKÖDÉSRE | B79: B8131 | D79: 12763 | E79: 12763
A80: Előző év költségvetési maradványának igénybevétele FELHALMOZÁSRA | B80: B8131
A81: Előző év vállalkozási maradványának igénybevétele MŰKÖDÉSRE | B81: B8132
A82: Előző év vállalkozási maradványának igénybevétele FELHALMOZÁSRA | B82: B8132
A83: Maradvány igénybevétele | B83: B813 | C83: 19500 | D83: 21158 | E83: 21158
A84: Államháztartáson belüli megelőlegezések | B84: B814 | C84: 0 | D84: 0 | E84: 1253
A85: Államháztartáson belüli megelőlegezések törlesztése | B85: B815
A86: Központi, irányító szervi támogatás | B86: B816
A87: Betétek megszüntetése | B87: B817
A88: Központi költségvetés sajátos finanszírozási bevételei | B88: B818
A89: Belföldi finanszírozás bevételei | B89: B81 | C89: 19500 | D89: 21158 | E89: 22410
A90: Forgatási célú külföldi értékpapírok beváltása, értékesítése | B90: B821
A91: Befektetési célú külföldi értékpapírok beváltása, értékesítése | B91: B822
A92: Külföldi értékpapírok kibocsátása | B92: B823
A93: Külföldi hitelek, kölcsönök felvétele | B93: B824
A94: Külföldi finanszírozás bevételei | B94: B82
A95: Adóssághoz nem kapcsolódó származékos ügyletek bevételei | B95: B83
A96: Finanszírozási bevételek | B96: B8 | C96: 19500 | D96: 21158 | E96: 22410
A97: BEVÉTELEK ÖSSZESEN (B1-8) | C97: 72204 | D97: 76587 | E97: 84083

Sheet 2B. melléklet
A1: 2B. melléklet a 5/2018.(V.29) önkormányzati rendelethez
A2: Sorokpolány Község Önkormányzat 2017. évi zárszámadása
A3: Bevételek (E Ft)
A5: Sorokpolányi Bóbita Óvoda
A6: Rovat megnevezése | B6: Rovat- szám | C6: eredeti ei. | D6: módosított ei. | E6: teljesítés
A7: Helyi önkormányzatok működésének általános támogatása | B7: B111
A8: Települési önkormányzatok egyes köznevelési feladatainak támogatása | B8: B112
A9: Települési önkormányzatok szociális és gyermekjóléti feladatainak támogatása | B9: B113
A10: Települési önkormányzatok kulturális feladatainak támogatása | B10: B114
A11: Működési célú központosított előirányzatok | B11: B115
A12: Helyi önkormányzatok kiegészítő támogatásai | B12: B116
A13: Önkormányzatok működési támogatásai | B13: B11
A14: Elvonások és befizetések bevételei | B14: B12
A15: Működési célú garancia- és kezességvállalásból származó megtérülések államháztartáson belülről | B15: B13
A16: Működési célú visszatérítendő támogatások, kölcsönök visszatérülése államháztartáson belülről | B16: B14
A17: Működési célú visszatérítendő támogatások, kölcsönök igénybevétele államháztartáson belülről | B17: B15
A18: Egyéb működési célú támogatások bevételei államháztartáson belülről | B18: B16
... A48: Működési célú átvett pénzeszközök | B48: B6
A49: Működési költségvetés előirányzat csoport
A50: Felhalmozási célú önkormányzati támogatások | B50: B21
A51: Felhalmozási célú garancia- és kezességvállalásból származó megtérülések államháztartáson belülről | B51: B22
A52: Felhalmozási célú visszatérítendő támogatások, kölcsönök visszatérülése államháztartáson belülről | B52: B23
A53: Felhalmozási célú visszatérítendő támogatások, kölcsönök igénybevétele államháztartáson belülről | B53: B24
A54: Egyéb felhalmozási célú támogatások bevételei államháztartáson belülről | B54: B25
A55: Felhalmozási célú támogatások államháztartáson belülről | B55: B2
A56: Immateriális javak értékesítése | B56: B51
A57: Ingatlanok értékesítése | B57: B52
A58: Egyéb tárgyi eszközök értékesítése | B58: B53
A59: Részesedések értékesítése | B59: B54
A60: Részesedések megszűnéséhez kapcsolódó bevételek | B60: B55
A61: Felhalmozási bevételek | B61: B5
... A65: Felhalmozási célú átvett pénzeszközök | B65: B7
A66: Felhalmozási költségvetés előirányzat csoport
A67: Költségvetési bevételek | B67: B1-B7
A68: költségvetési egyenleg MŰKÖDÉSI
A69: költségvetési egyenleg FELHALMOZÁSI
A70: Hosszú lejáratú hitelek, kölcsönök felvétele | B70: B8111
A71: Likviditási célú hitelek, kölcsönök felvétele pénzügyi vállalkozástól | B71: B8112
A72: Rövid lejáratú hitelek, kölcsönök felvétele | B72: B8113
A73: Hitel-, kölcsönfelvétel államháztartáson kívülről | B73: B811
A74: Forgatási célú belföldi értékpapírok beváltása, értékesítése | B74: B8121
A75: Forgatási célú belföldi értékpapírok kibocsátása | B75: B8122
A76: Befektetési célú belföldi értékpapírok beváltása, értékesítése | B76: B8123
A77: Befektetési célú belföldi értékpapírok kibocsátása | B77: B8124
A78: Belföldi értékpapírok bevételei | B78: B812
A79: Előző év költségvetési maradványának igénybevétele MŰKÖDÉSRE | B79: B8131 | C79: 0 | D79: 37 | E79: 37
A80: Előző év költségvetési maradványának igénybevétele FELHALMOZÁSRA | B80: B8131
A81: Előző év vállalkozási maradványának igénybevétele MŰKÖDÉSRE | B81: B8132
A82: Előző év vállalkozási maradványának igénybevétele FELHALMOZÁSRA | B82: B8132
A83: Maradvány igénybevétele | B83: B813 | C83: 0 | D83: 37 | E83: 37
A84: Államháztartáson belüli megelőlegezések | B84: B814
A85: Államháztartáson belüli megelőlegezések törlesztése | B85: B815
A86: Központi, irányító szervi támogatás | B86: B816 | C86: 23294 | D86: 25299 | E86: 21620
A87: Betétek megszüntetése | B87: B817
A88: Központi költségvetés sajátos finanszírozási bevételei | B88: B818
A89: Belföldi finanszírozás bevételei | B89: B81 | C89: 23294 | D89: 25337 | E89: 21657
A90: Forgatási célú külföldi értékpapírok beváltása, értékesítése | B90: B821
A91: Befektetési célú külföldi értékpapírok beváltása, értékesítése | B91: B822
A92: Külföldi értékpapírok kibocsátása | B92: B823
A93: Külföldi hitelek, kölcsönök felvétele | B93: B824
A94: Külföldi finanszírozás bevételei | B94: B82
A95: Adóssághoz nem kapcsolódó származékos ügyletek bevételei | B95: B83
A96: Finanszírozási bevételek | B96: B8 | C96: 23294 | D96: 25337 | E96: 21657
A97: BEVÉTELEK ÖSSZESEN (B1-8) | C97: 23294 | D97: 25337 | E97: 21657

Sheet 3. melléklet
A1: 3. melléklet a 5/2018.(V.29) önkormányzati rendelethez
A2: Sorokpolány Község Önkormányzat 2017. évi zárszámadása
A3: Bevételek (E Ft)
A5: ÖNKORMÁNYZAT ÉS KÖLTSÉGVETÉSI SZERVEI ELŐIRÁNYZATA MINDÖSSZESEN
A6: Rovat megnevezése | B6: Rovat-szám | C6: kötelező feladatok | F6: önként vállalt feladatok | I6: állami (államigazgatási) feladatok | L6: ÖSSZESEN
C7: eredeti ei. | D7: módosított ei. | E7: teljesítés | F7: eredeti ei. | G7: módosított ei. | H7: teljesítés | I7: eredeti ei. | J7: módosított ei. | K7: teljesítés | L7: eredeti ei. | M7: módosított ei. | N7: teljesítés
A8: Helyi önkormányzatok működésének általános támogatása | B8: B111 | C8: 9655 | D8: 9669 | E8: 10669 | L8: 9655 | M8: 9669 | N8: 10669
A9: Települési önkormányzatok egyes köznevelési feladatainak támogatása | B9: B112 | C9: 14907 | D9: 14907 | E9: 15454 | L9: 14907 | M9: 14907 | N9: 15454
A10: Települési önkormányzatok szociális és gyermekjóléti feladatainak támogatása | B10: B113 | C10: 8979 | D10: 8979 | E10: 7854 | L10: 8979 | M10: 8979 | N10: 7854
A11: Települési önkormányzatok kulturális feladatainak támogatása | B11: B114 | C11: 1200 | D11: 1200 | E11: 1200 | L11: 1200 | M11: 1200 | N11: 1200
A12: Működési célú központosított előirányzatok | B12: B115 | C12: 0 | D12: 1321 | E12: 899 | L12: 0 | M12: 1321 | N12: 899
A13: Helyi önkormányzatok kiegészítő támogatásai | B13: B116
A14: Önkormányzatok működési támogatásai | B14: B11 | C14: 34741 | D14: 36076 | E14: 36076 | L14: 34741 | M14: 36076 | N14: 36076
A15: Elvonások és befizetések bevételei | B15: B12
A16: Működési célú garancia- és kezességvállalásból származó megtérülések államháztartáson belülről | B16: B13
A17: Működési célú visszatérítendő támogatások, kölcsönök visszatérülése államháztartáson belülről | B17: B14
A18: Működési célú visszatérítendő támogatások, kölcsönök igénybevétele államháztartáson belülről | B18: B15
A19: Egyéb működési célú támogatások bevételei államháztartáson belülről | B19: B16 | C19: 168 | D19: 266 | E19: 2841 | L19: 168 | M19: 266 | N19: 2841
A20: Működési célú támogatások államháztartáson belülről | B20: B1 | C20: 34909 | D20: 36342 | E20: 38917 | L20: 34909 | M20: 36342 | N20: 38971
A21: Magánszemélyek jövedelemadói | B21: B311
A22: Társaságok jövedelemadói | B22: B312
A23: Jövedelemadók | B23: B31
A24: Szociális hozzájárulási adó és járulékok | B24: B32
A25: Bérhez és foglalkoztatáshoz kapcsolódó adók | B25: B33
A26: Vagyoni tipusú adók | B26: B34 | C26: 1191 | D26: 1191 | E26: 1082 | L26: 1191 | M26: 1191 | N26: 1082
A27: Értékesítési és forgalmi adók | B27: B351 | C27: 10000 | D27: 10000 | E27: 9224 | L27: 10000 | M27: 10000 | N27: 9224
A28: Fogyasztási adók | B28: B352
A29: Pénzügyi monopóliumok nyereségét terhelő adók | B29: B353
A30: Gépjárműadók | B30: B354 | C30: 1875 | D30: 1875 | E30: 1712 | L30: 1875 | M30: 1875 | N30: 1712
A31: Egyéb áruhasználati és szolgáltatási adók | B31: B355 | C31: 180 | D31: 180 | E31: 0 | L31: 180 | M31: 180 | N31: 0
A32: Termékek és szolgáltatások adói | B32: B35 | C32: 12055 | D32: 12055 | E32: 10935 | L32: 12055 | M32: 12055 | N32: 10935
A33: Egyéb közhatalmi bevételek | B33: B36 | C33: 110 | D33: 110 | E33: 311 | L33: 110 | M33: 110 | N33: 311
A34: Közhatalmi bevételek | B34: B3 | C34: 13356 | D34: 13356 | E34: 12328 | L34: 13356 | M34: 13356 | N34: 12328
A35: Áru- és készletértékesítés ellenértéke | B35: B401
A36: Szolgáltatások ellenértéke | B36: B402 | C36: 0 | D36: 0 | E36: 0 | L36: 0 | M36: 0 | N36: 0
A37: Közvetített szolgáltatások értéke | B37: B403 | C37: 617 | D37: 617 | E37: 1256 | L37: 617 | M37: 617 | N37: 1256
A38: Tulajdonosi bevételek | B38: B404
A39: Ellátási díjak | B39: B405 | C39: 1032 | D39: 1032 | E39: 776 | L39: 1032 | M39: 1032 | N39: 776
A40: Kiszámlázott általános forgalmi adó | B40: B406
A41: Általános forgalmi adó visszatérítése | B41: B407
A42: Kamatbevételek | B42: B408 | C42: 1 | D42: 1 | E42: 36 | L42: 1 | M42: 1 | N42: 36
A43: Egyéb pénzügyi műveletek bevételei | B43: B409
A44: Egyéb működési bevételek | B44: B410 | C44: 2789 | D44: 2789 | E44: 6076 | L44: 2789 | M44: 2789 | N44: 6076
A45: Működési bevételek | B45: B4 | C45: 4439 | D45: 4439 | E45: 9044 | L45: 4439 | M45: 4439 | N45: 9044
A46: Működési célú garancia- és kezességvállalásból származó megtérülések államháztartáson kívülről | B46: B61
A47: Működési célú visszatérítendő támogatások, kölcsönök visszatérülése államháztartáson kívülről | B47: B62
A48: Egyéb működési célú átvett pénzeszközök | B48: B63
A49: Működési célú átvett pénzeszközök | B49: B6 | C49: 0 | D49: 42 | E49: 127 | L49: 0 | M49: 42 | N49: 127
A50: Működési költségvetés előirányzat csoport | C50: 52704 | D50: 54179 | E50: 60416 | L50: 52704 | M50: 54179 | N50: 60416
A51: Felhalmozási célú önkormányzati támogatások | B51: B21 | C51: 0 | D51: 1250 | E51: 1250 | L51: 0 | M51: 1250 | N51: 1250
A52: Felhalmozási célú garancia- és kezességvállalásból származó megtérülések államháztartáson belülről | B52: B22
A53: Felhalmozási célú visszatérítendő támogatások, kölcsönök visszatérülése államháztartáson belülről | B53: B23
A54: Felhalmozási célú visszatérítendő támogatások, kölcsönök igénybevétele államháztartáson belülről | B54: B24
A55: Egyéb felhalmozási célú támogatások bevételei államháztartáson belülről | B55: B25
A56: Felhalmozási célú támogatások államháztartáson belülről | B56: B2 | C56: 0 | D56: 1250 | E56: 1250 | L56: 0 | M56: 1250 | N56: 1250
A57: Immateriális javak értékesítése | B57: B51
A58: Ingatlanok értékesítése | B58: B52 | C58: 0 | D58: 0 | E58: 8 | L58: 0 | M58: 0 | N58: 8
A59: Egyéb tárgyi eszközök értékesítése | B59: B53
A60: Részesedések értékesítése | B60: B54
A61: Részesedések megszűnéséhez kapcsolódó bevételek | B61: B55
A62: Felhalmozási bevételek | B62: B5 | C62: 0 | D62: 0 | E62: 8 | L62: 0 | M62: 0 | N62: 8
A63: Felhalmozási célú garancia- és kezességvállalásból származó megtérülések államháztartáson kívülről | B63: B71
A64: Felhalmozási célú visszatérítendő támogatások, kölcsönök visszatérülése államháztartáson kívülről | B64: B72
A65: Egyéb felhalmozási célú átvett pénzeszközök | B65: B73
A66: Felhalmozási célú átvett pénzeszközök | B66: B7
A67: Felhalmozási költségvetés előirányzat csoport | C67: 0 | D67: 2500 | E67: 2516 | L67: 0 | M67: 2500 | N67: 2516
A68: Költségvetési bevételek | B68: B1-B7 | C68: 52704 | D68: 55429 | E68: 61674 | L68: 52704 | M68: 55429 | N68: 61674
A69: költségvetési egyenleg MŰKÖDÉSI
A70: költségvetési egyenleg FELHALMOZÁSI
A71: Hosszú lejáratú hitelek, kölcsönök felvétele | B71: B8111
A72: Likviditási célú hitelek, kölcsönök felvétele pénzügyi vállalkozástól | B72: B8112
A73: Rövid lejáratú hitelek, kölcsönök felvétele | B73: B8113
A74: Hitel-, kölcsönfelvétel államháztartáson kívülről | B74: B811
A75: Forgatási célú belföldi értékpapírok beváltása, értékesítése | B75: B8121
A76: Forgatási célú belföldi értékpapírok kibocsátása | B76: B8122
A77: Befektetési célú belföldi értékpapírok beváltása, értékesítése | B77: B8123
A78: Befektetési célú belföldi értékpapírok kibocsátása | B78: B8124
A79: Belföldi értékpapírok bevételei | B79: B812
A80: Előző év költségvetési maradványának igénybevétele MŰKÖDÉSRE | B80: B8131 | C80: 19500 | D80: 21195 | E80: 21195 | L80: 19500 | M80: 21195 | N80: 21195
A81: Előző év költségvetési maradványának igénybevétele FELHALMOZÁSRA | B81: B8131
A82: Előző év vállalkozási maradványának igénybevétele MŰKÖDÉSRE | B82: B8132
A83: Előző év vállalkozási maradványának igénybevétele FELHALMOZÁSRA | B83: B8132
A84: Maradvány igénybevétele | B84: B813 | C84: 19500 | D84: 21195 | E84: 21195 | L84: 19500 | M84: 21195 | N84: 21195
A85: Államháztartáson belüli megelőlegezések | B85: B814 | C85: 0 | D85: 0 | E85: 1253 | L85: 0 | M85: 0 | N85: 1253
A86: Államháztartáson belüli megelőlegezések törlesztése | B86: B815
A87: Központi, irányító szervi támogatás | B87: B816
A88: Betétek megszüntetése | B88: B817
A89: Központi költségvetés sajátos finanszírozási bevételei | B89: B818
A90: Belföldi finanszírozás bevételei | B90: B81 | C90: 42749 | D90: 46495 | E90: 44067 | L90: 42749 | M90: 46495 | N90: 44067
A91: Forgatási célú külföldi értékpapírok beváltása, értékesítése | B91: B821
A92: Befektetési célú külföldi értékpapírok beváltása, értékesítése | B92: B822
A93: Külföldi értékpapírok kibocsátása | B93: B823
A94: Külföldi hitelek, kölcsönök felvétele | B94: B824
A95: Külföldi finanszírozás bevételei | B95: B82
A96: Adóssághoz nem kapcsolódó származékos ügyletek bevételei | B96: B83
A97: Finanszírozási bevételek | B97: B8 | C97: 42749 | D97: 46495 | E97: 44067 | L97: 42749 | M97: 46495 | N97: 44067
A98: BEVÉTELEK ÖSSZESEN (B1-8) | C98: 95453 | D98: 101924 | E98: 105741 | L98: 95453 | M98: 101924 | N98: 105741

Sheet 3A. melléklet
A1: 3A. melléklet a 5/2018.(V.29) önkormányzati rendelethez
A2: Sorokpolány Község Önkormányzat 2017. évi zárszámadása
A3: Bevételek (E Ft)
A5: Sorokpolány Község Önkormányzata
A6: Rovat megnevezése | B6: Rovat-szám | C6: kötelező feladatok | F6: önként vállalt feladatok | I6: állami (államigazgatási) feladatok | L6: ÖSSZESEN
C7: eredeti ei. | D7: módosított ei. | E7: teljesítés | F7: eredeti ei. | G7: módosított ei. | H7: teljesítés | I7: eredeti ei. | J7: módosított ei. | K7: teljesítés | L7: eredeti ei. | M7: módosított ei. | N7: teljesítés
A8: Helyi önkormányzatok működésének általános támogatása | B8: B111 | C8: 9655 | D8: 9669 | E8: 10669 | L8: 9655 | M8: 9669 | N8: 10669
A9: Települési önkormányzatok egyes köznevelési feladatainak támogatása | B9: B112 | C9: 14907 | D9: 14907 | E9: 15454 | L9: 14907 | M9: 14907 | N9: 15454
A10: Települési önkormányzatok szociális és gyermekjóléti feladatainak támogatása | B10: B113 | C10: 8979 | D10: 8979 | E10: 7854 | L10: 8979 | M10: 8979 | N10: 7854
A11: Települési önkormányzatok kulturális feladatainak támogatása | B11: B114 | C11: 1200 | D11: 1200 | E11: 1200 | L11: 1200 | M11: 1200 | N11: 1200
A12: Működési célú központosított előirányzatok | B12: B115 | C12: 0 | D12: 1321 | E12: 899 | L12: 0 | M12: 1321 | N12: 899
A13: Helyi önkormányzatok kiegészítő támogatásai | B13: B116
A14: Önkormányzatok működési támogatásai | B14: B11 | C14: 34741 | D14: 36076 | E14: 36076 | L14: 34741 | M14: 36076 | N14: 36076
A15: Elvonások és befizetések bevételei | B15: B12
A16: Működési célú garancia- és kezességvállalásból származó megtérülések államháztartáson belülről | B16: B13
A17: Működési célú visszatérítendő támogatások, kölcsönök visszatérülése államháztartáson belülről | B17: B14
A18: Működési célú visszatérítendő támogatások, kölcsönök igénybevétele államháztartáson belülről | B18: B15
A19: Egyéb működési célú támogatások bevételei államháztartáson belülről | B19: B16 | C19: 168 | D19: 266 | E19: 2841 | L19: 168 | M19: 266 | N19: 2841
A20: Működési célú támogatások államháztartáson belülről | B20: B1 | C20: 34909 | D20: 36342 | E20: 38917 | L20: 34909 | M20: 36342 | N20: 38917
A21: Magánszemélyek jövedelemadói | B21: B311
A22: Társaságok jövedelemadói | B22: B312
A23: Jövedelemadók | B23: B31
A24: Szociális hozzájárulási adó és járulékok | B24: B32
A25: Bérhez és foglalkoztatáshoz kapcsolódó adók | B25: B33
A26: Vagyoni tipusú adók | B26: B34 | C26: 1191 | D26: 1191 | E26: 1082 | L26: 1191 | M26: 1191 | N26: 1082
A27: Értékesítési és forgalmi adók | B27: B351 | C27: 10000 | D27: 10000 | E27: 9224 | L27: 10000 | M27: 10000 | N27: 9224
A28: Fogyasztási adók | B28: B352
A29: Pénzügyi monopóliumok nyereségét terhelő adók | B29: B353
A30: Gépjárműadók | B30: B354 | C30: 1875 | D30: 1875 | E30: 1712 | L30: 1875 | M30: 1875 | N30: 1712
A31: Egyéb áruhasználati és szolgáltatási adók | B31: B355 | C31: 180 | D31: 180 | E31: 0 | L31: 180 | M31: 180 | N31: 0
A32: Termékek és szolgáltatások adói | B32: B35 | C32: 12055 | D32: 12055 | E32: 10935 | L32: 12055 | M32: 12055 | N32: 10935
A33: Egyéb közhatalmi bevételek | B33: B36 | C33: 110 | D33: 110 | E33: 311 | L33: 110 | M33: 110 | N33: 311
A34: Közhatalmi bevételek | B34: B3 | C34: 13356 | D34: 13356 | E34: 12328 | L34: 13356 | M34: 13356 | N34: 12328
A35: Áru- és készletértékesítés ellenértéke | B35: B401
A36: Szolgáltatások ellenértéke | B36: B402 | C36: 0 | D36: 0 | E36: 0 | L36: 0 | M36: 0 | N36: 0
A37: Közvetített szolgáltatások értéke | B37: B403 | C37: 617 | D37: 617 | E37: 1256 | L37: 617 | M37: 617 | N37: 1256
A38: Tulajdonosi bevételek | B38: B404
A39: Ellátási díjak | B39: B405 | C39: 1032 | D39: 1032 | E39: 776 | L39: 1032 | M39: 1032 | N39: 776
A40: Kiszámlázott általános forgalmi adó | B40: B406
A41: Általános forgalmi adó visszatérítése | B41: B407
A42: Kamatbevételek | B42: B408 | C42: 1 | D42: 1 | E42: 36 | L42: 1 | M42: 1 | N42: 36
A43: Egyéb pénzügyi műveletek bevételei | B43: B409
A44: Egyéb működési bevételek | B44: B410 | C44: 2789 | D44: 2789 | E44: 6076 | L44: 2789 | M44: 2789 | N44: 6076
A45: Működési bevételek | B45: B4 | C45: 4439 | D45: 4439 | E45: 9044 | L45: 4439 | M45: 4439 | N45: 9044
A46: Működési célú garancia- és kezességvállalásból származó megtérülések államháztartáson kívülről | B46: B61
A47: Működési célú visszatérítendő támogatások, kölcsönök visszatérülése államháztartáson kívülről | B47: B62
A48: Egyéb működési célú átvett pénzeszközök | B48: B63
A49: Működési célú átvett pénzeszközök | B49: B6 | C49: 0 | D49: 42 | E49: 127 | L49: 0 | M49: 42 | N49: 127
A50: Működési költségvetés előirányzat csoport | C50: 52704 | D50: 54179 | E50: 60416 | L50: 52704 | M50: 54179 | N50: 60416
A51: Felhalmozási célú önkormányzati támogatások | B51: B21 | C51: 0 | D51: 1250 | E51: 1250 | L51: 0 | M51: 1250 | N51: 1250
A52: Felhalmozási célú garancia- és kezességvállalásból származó megtérülések államháztartáson belülről | B52: B22
A53: Felhalmozási célú visszatérítendő támogatások, kölcsönök visszatérülése államháztartáson belülről | B53: B23
A54: Felhalmozási célú visszatérítendő támogatások, kölcsönök igénybevétele államháztartáson belülről | B54: B24
A55: Egyéb felhalmozási célú támogatások bevételei államháztartáson belülről | B55: B25
A56: Felhalmozási célú támogatások államháztartáson belülről | B56: B2 | C56: 0 | D56: 1250 | E56: 1250 | L56: 0 | M56: 1250 | N56: 1250
A57: Immateriális javak értékesítése | B57: B51
A58: Ingatlanok értékesítése | B58: B52 | C58: 0 | D58: 0 | E58: 8 | L58: 0 | M58: 0 | N58: 8
A59: Egyéb tárgyi eszközök értékesítése | B59: B53
A60: Részesedések értékesítése | B60: B54
A61: Részesedések megszűnéséhez kapcsolódó bevételek | B61: B55
A62: Felhalmozási bevételek | B62: B5 | C62: 0 | D62: 0 | E62: 8 | L62: 0 | M62: 0 | N62: 8
A63: Felhalmozási célú garancia- és kezességvállalásból származó megtérülések államháztartáson kívülről | B63: B71
A64: Felhalmozási célú visszatérítendő támogatások, kölcsönök visszatérülése államháztartáson kívülről | B64: B72
A65: Egyéb felhalmozási célú átvett pénzeszközök | B65: B73
A66: Felhalmozási célú átvett pénzeszközök | B66: B7
A67: Felhalmozási költségvetés előirányzat csoport | C67: 0 | D67: 2500 | E67: 2516 | L67: 0 | M67: 2500 | N67: 2516
A68: Költségvetési bevételek | B68: B1-B7 | C68: 52704 | D68: 55429 | E68: 61674 | L68: 52704 | M68: 55429 | N68: 61674
A69: költségvetési egyenleg MŰKÖDÉSI
A70: költségvetési egyenleg FELHALMOZÁSI
A71: Hosszú lejáratú hitelek, kölcsönök felvétele | B71: B8111
A72: Likviditási célú hitelek, kölcsönök felvétele pénzügyi vállalkozástól | B72: B8112
A73: Rövid lejáratú hitelek, kölcsönök felvétele | B73: B8113
A74: Hitel-, kölcsönfelvétel államháztartáson kívülről | B74: B811
A75: Forgatási célú belföldi értékpapírok beváltása, értékesítése | B75: B8121
A76: Forgatási célú belföldi értékpapírok kibocsátása | B76: B8122
A77: Befektetési célú belföldi értékpapírok beváltása, értékesítése | B77: B8123
A78: Befektetési célú belföldi értékpapírok kibocsátása | B78: B8124
A79: Belföldi értékpapírok bevételei | B79: B812
A80: Előző év költségvetési maradványának igénybevétele MŰKÖDÉSRE | B80: B8131 | C80: 19500 | D80: 21158 | E80: 21158 | L80: 19500 | M80: 21158 | N80: 21158
A81: Előző év költségvetési maradványának igénybevétele FELHALMOZÁSRA | B81: B8131
A82: Előző év vállalkozási maradványának igénybevétele MŰKÖDÉSRE | B82: B8132
A83: Előző év vállalkozási maradványának igénybevétele FELHALMOZÁSRA | B83: B8132
A84: Maradvány igénybevétele | B84: B813 | C84: 19500 | D84: 21158 | E84: 21158 | L84: 19500 | M84: 21158 | N84: 21158
A85: Államháztartáson belüli megelőlegezések | B85: B814 | C85: 0 | D85: 0 | E85: 1253 | L85: 0 | M85: 0 | N85: 1253
A86: Államháztartáson belüli megelőlegezések törlesztése | B86: B815
A87: Központi, irányító szervi támogatás | B87: B816
A88: Betétek megszüntetése | B88: B817
A89: Központi költségvetés sajátos finanszírozási bevételei | B89: B818
A90: Belföldi finanszírozás bevételei | B90: B81 | C90: 19500 | D90: 21158 | E90: 22410 | L90: 19500 | M90: 21158 | N90: 22410
A91: Forgatási célú külföldi értékpapírok beváltása, értékesítése | B91: B821
A92: Befektetési célú külföldi értékpapírok beváltása, értékesítése | B92: B822
A93: Külföldi értékpapírok kibocsátása | B93: B823
A94: Külföldi hitelek, kölcsönök felvétele | B94: B824
A95: Külföldi finanszírozás bevételei | B95: B82
A96: Adóssághoz nem kapcsolódó származékos ügyletek bevételei | B96: B83
A97: Finanszírozási bevételek | B97: B8 | C97: 19500 | D97: 21158 | E97: 22410 | L97: 19500 | M97: 21158 | N97: 22410
A98: BEVÉTELEK ÖSSZESEN (B1-8) | C98: 72204 | D98: 76587 | E98: 84084 | L98: 72204 | M98: 76587 | N98: 84084

Sheet 3B. melléklet
A1: 3B. melléklet a 5/2018.(V.29) önkormányzati rendelethez
A2: Sorokpolány Község Önkormányzat 2017. évi zárszámadása
A3: Bevételek (E Ft)
A5: Sorokpolányi Bóbita Óvoda
A6: Rovat megnevezése | B6: Rovat-szám | C6: kötelező feladatok | F6: önként vállalt feladatok | I6: állami (államigazgatási) feladatok | L6: ÖSSZESEN
C7: eredeti ei. | D7: módosított ei. | E7: teljesítés | F7: eredeti ei. | G7: módosított ei. | H7: teljesítés | I7: eredeti ei. | J7: módosított ei. | K7: teljesítés | L7: eredeti ei. | M7: módosított ei. | N7: teljesítés
A8: Helyi önkormányzatok működésének általános támogatása | B8: B111
A9: Települési önkormányzatok egyes köznevelési feladatainak támogatása | B9: B112
A10: Települési önkormányzatok szociális és gyermekjóléti feladatainak támogatása | B10: B113
A11: Települési önkormányzatok kulturális feladatainak támogatása | B11: B114
A12: Működési célú központosított előirányzatok | B12: B115
A13: Helyi önkormányzatok kiegészítő támogatásai | B13: B116
A14: Önkormányzatok működési támogatásai | B14: B11
A15: Elvonások és befizetések bevételei | B15: B12
A16: Működési célú garancia- és kezességvállalásból származó megtérülések államháztartáson belülről | B16: B13
A17: Működési célú visszatérítendő támogatások, kölcsönök visszatérülése államháztartáson belülről | B17: B14
A18: Működési célú visszatérítendő támogatások, kölcsönök igénybevétele államháztartáson belülről | B18: B15
A19: Egyéb működési célú támogatások bevételei államháztartáson belülről | B19: B16
... A49: Működési célú átvett pénzeszközök | B49: B6
A50: Működési költségvetés előirányzat csoport
A51: Felhalmozási célú önkormányzati támogatások | B51: B21
A52: Felhalmozási célú garancia- és kezességvállalásból származó megtérülések államháztartáson belülről | B52: B22
A53: Felhalmozási célú visszatérítendő támogatások, kölcsönök visszatérülése államháztartáson belülről | B53: B23
A54: Felhalmozási célú visszatérítendő támogatások, kölcsönök igénybevétele államháztartáson belülről | B54: B24
A55: Egyéb felhalmozási célú támogatások bevételei államháztartáson belülről | B55: B25
A56: Felhalmozási célú támogatások államháztartáson belülről | B56: B2
A57: Immateriális javak értékesítése | B57: B51
A58: Ingatlanok értékesítése | B58: B52
A59: Egyéb tárgyi eszközök értékesítése | B59: B53
A60: Részesedések értékesítése | B60: B54
A61: Részesedések megszűnéséhez kapcsolódó bevételek | B61: B55
A62: Felhalmozási bevételek | B62: B5
... A66: Felhalmozási célú átvett pénzeszközök | B66: B7
A67: Felhalmozási költségvetés előirányzat csoport
A68: Költségvetési bevételek | B68: B1-B7
A69: költségvetési egyenleg MŰKÖDÉSI
A70: költségvetési egyenleg FELHALMOZÁSI
A71: Hosszú lejáratú hitelek, kölcsönök felvétele | B71: B8111
A72: Likviditási célú hitelek, kölcsönök felvétele pénzügyi vállalkozástól | B72: B8112
A73: Rövid lejáratú hitelek, kölcsönök felvétele | B73: B8113
A74: Hitel-, kölcsönfelvétel államháztartáson kívülről | B74: B811
A75: Forgatási célú belföldi értékpapírok beváltása, értékesítése | B75: B8121
A76: Forgatási célú belföldi értékpapírok kibocsátása | B76: B8122
A77: Befektetési célú belföldi értékpapírok beváltása, értékesítése | B77: B8123
A78: Befektetési célú belföldi értékpapírok kibocsátása | B78: B8124
A79: Belföldi értékpapírok bevételei | B79: B812
A80: Előző év költségvetési maradványának igénybevétele MŰKÖDÉSRE | B80: B8131 | C80: 0 | D80: 37 | E80: 37 | L80: 0 | M80: 37 | N80: 37
A81: Előző év költségvetési maradványának igénybevétele FELHALMOZÁSRA | B81: B8131
A82: Előző év vállalkozási maradványának igénybevétele MŰKÖDÉSRE | B82: B8132
A83: Előző év vállalkozási maradványának igénybevétele FELHALMOZÁSRA | B83: B8132
A84: Maradvány igénybevétele | B84: B813 | C84: 0 | D84: 37 | E84: 37 | L84: 0 | M84: 37 | N84: 37
A85: Államháztartáson belüli megelőlegezések | B85: B814
A86: Államháztartáson belüli megelőlegezések törlesztése | B86: B815
A87: Központi, irányító szervi támogatás | B87: B816 | C87: 23294 | D87: 25299 | E87: 21620 | L87: 23294 | M87: 25299 | N87: 21620
A88: Betétek megszüntetése | B88: B817
A89: Központi költségvetés sajátos finanszírozási bevételei | B89: B818
A90: Belföldi finanszírozás bevételei | B90: B81 | C90: 23294 | D90: 25337 | E90: 21657 | L90: 23294 | M90: 25337 | N90: 21657
A91: Forgatási célú külföldi értékpapírok beváltása, értékesítése | B91: B821
A92: Befektetési célú külföldi értékpapírok beváltása, értékesítése | B92: B822
A93: Külföldi értékpapírok kibocsátása | B93: B823
A94: Külföldi hitelek, kölcsönök felvétele | B94: B824
A95: Külföldi finanszírozás bevételei | B95: B82
A96: Adóssághoz nem kapcsolódó származékos ügyletek bevételei | B96: B83
A97: Finanszírozási bevételek | B97: B8 | C97: 23294 | D97: 25337 | E97: 21657 | L97: 23294 | M97: 25337 | N97: 21657
A98: BEVÉTELEK ÖSSZESEN (B1-8) | C98: 23294 | D98: 25337 | E98: 21657 | L98: 23294 | M98: 25337 | N98: 21657

Sheet 4. melléklet
A1: 4. melléklet a 5/2018.(V.29) önkormányzati rendelethez
A2: Sorokpolány Község Önkormányzat 2017. évi zárszámadása
A3: Kiadások (E Ft)
A5: ÖNKORMÁNYZAT ÉS KÖLTSÉGVETÉSI SZERVEI ELŐIRÁNYZATA MINDÖSSZESEN
A6: Rovat megnevezése | B6: Rovat-szám | C6: eredeti ei. | D6: módosított ei. | E6: teljesítés
A7: Törvény szerinti illetmények, munkabérek | B7: K1101 | C7: 17792 | D7: 18254 | E7: 16531
A8: Normatív jutalmak | B8: K1102 | C8: 0 | D8: 399 | E8: 399
A9: Céljuttatás, projektprémium | B9: K1103
A10: Készenléti, ügyeleti, helyettesítési díj, túlóra, túlszolgálat | B10: K1104 | C10: 0 | D10: ='4A. melléklet'!D10+'4B. melléklet'!D10 -> 103 | E10: ='4A. melléklet'!E10+'4B. melléklet'!E10 -> 103
A11: Végkielégítés | B11: K1105
A12: Jubileumi jutalom | B12: K1106 | C12: 2282 | D12: 2669 | E12: 2811
A13: Béren kívüli juttatások | B13: K1107 | C13: 582 | D13: 883 | E13: 876
A14: Ruházati költségtérítés | B14: K1108
A15: Közlekedési költségtérítés | B15: K1109 | C15: 155 | D15: 351 | E15: 158
A16: Egyéb költségtérítések | B16: K1110
A17: Lakhatási támogatások | B17: K1111
A18: Szociális támogatások | B18: K1112
A19: Foglalkoztatottak egyéb személyi juttatásai | B19: K1113 | C19: 0 | D19: ='4A. melléklet'!D19+'4B. melléklet'!D19 -> 13 | E19: ='4A. melléklet'!E19+'4B. melléklet'!E19 -> 13
A20: Foglalkoztatottak személyi juttatásai | B20: K11 | C20: 20811 | D20: 22670 | E20: 20426
A21: Választott tisztségviselők juttatásai | B21: K121 | C21: 4333 | D21: 4333 | E21: 4281
A22: Munkavégzésre irányuló egyéb jogviszonyban nem saját foglalkoztatottnak fizetett juttatások | B22: K122 | C22: 0 | D22: ='4A. melléklet'!D22+'4B. melléklet'!D22 -> 155 | E22: 153
A23: Egyéb külső személyi juttatások | B23: K123 | C23: 305 | D23: 669 | E23: 669
A24: Külső személyi juttatások | B24: K12 | C24: 4638 | D24: 5157 | E24: 5103
A25: Személyi juttatások | B25: K1 | C25: 25449 | D25: 27827 | E25: 25529
A26: Munkaadókat terhelő járulékok és szociális hozzájárulási adó | B26: K2 | C26: 5625 | D26: 6080 | E26: 6080
A27: Szakmai anyagok beszerzése | B27: K311 | C27: 10 | D27: 10 | E27: 8
A28: Üzemeltetési anyagok beszerzése | B28: K312 | C28: 1774 | D28: ='4A. melléklet'!D28+'4B. melléklet'!D28 -> 1774 | E28: 1588
A29: Árubeszerzés | B29: K313
A30: Készletbeszerzés | B30: K31 | C30: 1784 | D30: ='4A. melléklet'!D30+'4B. melléklet'!D30 -> 1784 | E30: ='4A. melléklet'!E30+'4B. melléklet'!E30 -> 1596
A31: Informatikai szolgáltatások igénybevétele | B31: K321 | C31: 106 | D31: ='4A. melléklet'!D31+'4B. melléklet'!D31 -> 106 | E31: ='4A. melléklet'!E31+'4B. melléklet'!E31 -> 50
A32: Egyéb kommunikációs szolgáltatások | B32: K322 | C32: 305 | D32: 478 | E32: 252
A33: Kommunikációs szolgáltatások | B33: K32 | C33: 411 | D33: 478 | E33: 302
A34: Közüzemi díjak | B34: K331 | C34: 4542 | D34: 6654 | E34: 4425
A35: Vásárolt élelmezés | B35: K332 | C35: 3936 | D35: 4151 | E35: 3399
A36: Bérleti és lízing díjak | B36: K333
A37: Karbantartási, kisjavítási szolgáltatások | B37: K334 | C37: 333 | D37: 283 | E37: 37
A38: Közvetített szolgáltatások | B38: K335 | C38: 603 | D38: 631 | E38: ='4A. melléklet'!E38+'4B. melléklet'!E38 -> 631
A39: Szakmai tevékenységet segítő szolgáltatások | B39: K336 | C39: 500 | D39: 652 | E39: ='4A. melléklet'!E39+'4B. melléklet'!E39 -> 391
A40: Egyéb szolgáltatások | B40: K337 | C40: 3805 | D40: 6192 | E40: ='4A. melléklet'!E40+'4B. melléklet'!E40 -> 5784
A41: Szolgáltatási kiadások | B41: K33 | C41: 13719 | D41: 18564 | E41: ='4A. melléklet'!E41+'4B. melléklet'!E41 -> 14669
A42: Kiküldetések kiadásai | B42: K341 | C42: 573 | D42: ='4A. melléklet'!D42+'4B. melléklet'!D42 -> 0 | E42: ='4A. melléklet'!E42+'4B. melléklet'!E42 -> 0
A43: Reklám- és propagandakiadások | B43: K342 | C43: 268 | D43: 268 | E43: ='4A. melléklet'!E43+'4B. melléklet'!E43 -> 47
A44: Kiküldetések, reklám- és propagandakiadások | B44: K34 | C44: 841 | D44: 268 | E44: ='4A. melléklet'!E44+'4B. melléklet'!E44 -> 47
A45: Működési célú előzetesen felszámított általános forgalmi adó | B45: K351 | C45: 2862 | D45: 4179 | E45: ='4A. melléklet'!E45+'4B. melléklet'!E45 -> 3512
A46: Fizetendő általános forgalmi adó | B46: K352
A47: Kamatkiadások | B47: K353
A48: Egyéb pénzügyi műveletek kiadásai | B48: K354
A49: Egyéb dologi kiadások | B49: K355 | C49: 10 | D49: 140 | E49: ='4A. melléklet'!E49+'4B. melléklet'!E49 -> 139
A50: Különféle befizetések és egyéb dologi kiadások | B50: K35 | C50: 2872 | D50: 4319 | E50: ='4A. melléklet'!E50+'4B. melléklet'!E50 -> 3651
A51: Dologi kiadások | B51: K3 | C51: 19627 | D51: 25520 | E51: ='4A. melléklet'!E51+'4B. melléklet'!E51 -> 20264
A52: Társadalombiztosítási ellátások | B52: K41
A53: Családi támogatások | B53: K42 | C53: 168 | D53: 168 | E53: ='4A. melléklet'!E53+'4B. melléklet'!E53 -> 62
A54: Pénzbeli kárpótlások, kártérítések | B54: K43
A55: Betegséggel kapcsolatos (nem társadalombiztosítási) ellátások | B55: K44
A56: Foglalkoztatással, munkanélküliséggel kapcsolatos ellátások | B56: K45
A57: Lakhatással kapcsolatos ellátások | B57: K46
A58: Intézményi ellátottak pénzbeli juttatásai | B58: K47 | C58: 380 | D58: 380 | E58: ='4A. melléklet'!E58+'4B. melléklet'!E58 -> 100
A59: Egyéb nem intézményi ellátások | B59: K48 | C59: 4933 | D59: 4933 | E59: ='4A. melléklet'!E59+'4B. melléklet'!E59 -> 3799
A60: Ellátottak pénzbeli juttatásai | B60: K4 | C60: 5481 | D60: ='4A. melléklet'!D60+'4B. melléklet'!D60 -> 5481 | E60: ='4A. melléklet'!E60+'4B. melléklet'!E60 -> 3961
A61: Nemzetközi kötelezettségek | B61: K501
A62: Elvonások és befizetések | B62: K502 | C62: 0 | D62: ='4A. melléklet'!D62+'4B. melléklet'!D62 -> 934 | E62: ='4A. melléklet'!E62+'4B. melléklet'!E62 -> 933
A63: Működési célú garancia- és kezességvállalásból származó kifizetés államháztartáson belülre | B63: K503
A64: Működési célú visszatérítendő támogatások, kölcsönök nyújtása államháztartáson belülre | B64: K504
A65: Működési célú visszatérítendő támogatások, kölcsönök törlesztése államháztartáson belülre | B65: K505
A66: Egyéb működési célú támogatások államháztartáson belülre | B66: K506 | C66: 721 | D66: ='4A. melléklet'!D66+'4B. melléklet'!D66 -> 1719 | E66: ='4A. melléklet'!E66+'4B. melléklet'!E66 -> 1719
A67: Működési célú garancia- és kezességvállalásból származó kifizetés államháztartáson kívülre | B67: K507
A68: Működési célú visszatérítendő támogatások, kölcsönök nyújtása államháztartáson kívülre | B68: K508 | C68: 0 | D68: ='4A. melléklet'!D68+'4B. melléklet'!D68 -> 250 | E68: ='4A. melléklet'!E68+'4B. melléklet'!E68 -> 250
A69: Árkiegészítések, ártámogatások | B69: K509
A70: Kamattámogatások | B70: K510
A71: Egyéb működési célú támogatások államháztartáson kívülre | B71: K511 | C71: 105 | D71: 2138 | E71: 2138
A72: Tartalékok-általános | B72: K512 | C72: 13133 | D72: ='4A. melléklet'!D72+'4B. melléklet'!D72 -> 1718 | E72: ='4A. melléklet'!E72+'4B. melléklet'!E72 -> 0
A73: Tartalékok-cél | B73: K512
A74: Egyéb működési célú kiadások | B74: K5 | C74: 13959 | D74: ='4A. melléklet'!D74+'4B. melléklet'!D74 -> 6759 | E74: ='4A. melléklet'!E74+'4B. melléklet'!E74 -> 5041
A75: Működési költségvetés előirányzat csoport | C75: 70141 | D75: =D74+D60+D51+D25+D26 -> 71667 | E75: =E74+E60+E51+E25+E26 -> 60875
A76: Immateriális javak beszerzése, létesítése | B76: K61
A77: Ingatlanok beszerzése, létesítése | B77: K62
A78: Informatikai eszközök beszerzése, létesítése | B78: K63
A79: Egyéb tárgyi eszközök beszerzése, létesítése | B79: K64 | C79: 579 | D79: ='4A. melléklet'!D79+'4B. melléklet'!D79 -> 626 | E79: ='4A. melléklet'!E79+'4B. melléklet'!E79 -> 259
A80: Részesedések beszerzése | B80: K65
A81: Meglévő részesedések növeléséhez kapcsolódó kiadások | B81: K66
A82: Beruházási célú előzetesen felszámított általános forgalmi adó | B82: K67 | C82: 266 | D82: 279 | E82: ='4A. melléklet'!E82+'4B. melléklet'!E82 -> 70
A83: Beruházások | B83: K6 | C83: 845 | D83: ='4A. melléklet'!D83+'4B. melléklet'!D83 -> 904 | E83: ='4A. melléklet'!E83+'4B. melléklet'!E83 -> 328
A84: Ingatlanok felújítása | B84: K71 | C84: 0 | D84: ='4A. melléklet'!D84+'4B. melléklet'!D84 -> 2233 | E84: ='4A. melléklet'!E84+'4B. melléklet'!E84 -> 2233
A85: Informatikai eszközök felújítása | B85: K72
A86: Egyéb tárgyi eszközök felújítása | B86: K73
A87: Felújítási célú előzetesen felszámított általános forgalmi adó | B87: K74 | C87: 0 | D87: ='4A. melléklet'!D87+'4B. melléklet'!D87 -> 603 | E87: ='4A. melléklet'!E87+'4B. melléklet'!E87 -> 603
A88: Felújítások | B88: K7 | C88: 0 | D88: ='4A. melléklet'!D88+'4B. melléklet'!D88 -> 2836 | E88: ='4A. melléklet'!E88+'4B. melléklet'!E88 -> 2836
A89: Felhalmozási célú garancia- és kezességvállalásból származó kifizetés államháztartáson belülre | B89: K81
A90: Felhalmozási célú visszatérítendő támogatások, kölcsönök nyújtása államháztartáson belülre | B90: K82
A91: Felhalmozási célú visszatérítendő támogatások, kölcsönök törlesztése államháztartáson belülre | B91: K83
A92: Egyéb felhalmozási célú támogatások államháztartáson belülre | B92: K84
A93: Felhalmozási célú garancia- és kezességvállalásból származó kifizetés államháztartáson kívülre | B93: K85
A94: Felhalmozási célú visszatérítendő támogatások, kölcsönök nyújtása államháztartáson kívülre | B94: K86
A95: Lakástámogatás | B95: K87
A96: Egyéb felhalmozási célú támogatások államháztartáson kívülre | B96: K88
A97: Egyéb felhalmozási célú kiadások | B97: K8
A98: Felhalmozási költségvetés előirányzat csoport | C98: 845 | D98: 3740 | E98: 3164
A99: Költségvetési kiadások | B99: K1-K8 | C99: 70986 | D99: ='4A. melléklet'!D99+'4B. melléklet'!D99 -> 75407 | E99: ='4A. melléklet'!E99+'4B. melléklet'!E99 -> 64039
A100: Hosszú lejáratú hitelek, kölcsönök törlesztése | B100: K9111
A101: Likviditási célú hitelek, kölcsönök törlesztése pénzügyi vállalkozásnak | B101: K9112
...

Sheet 4A. melléklet
A1: 4A. melléklet a 5/2018.(V.29) önkormányzati rendelethez
A2: Sorokpolány Község Önkormányzat 2017. évi zárszámadása
A3: Kiadások (E Ft)
A5: Sorokpolány Község Önkormányzat
A6: Rovat megnevezése | B6: Rovat-szám | C6: eredeti ei. | D6: módosított ei. | E6: teljesítés
A7: Törvény szerinti illetmények, munkabérek | B7: K1101 | C7: 3462 | D7: 3924 | E7: 3924
A8: Normatív jutalmak | B8: K1102
A9: Céljuttatás, projektprémium | B9: K1103
A10: Készenléti, ügyeleti, helyettesítési díj, túlóra, túlszolgálat | B10: K1104
A11: Végkielégítés | B11: K1105
A12: Jubileumi jutalom | B12: K1106 | C12: 322 | D12: 322 | E12: 0
A13: Béren kívüli juttatások | B13: K1107 | C13: 172 | D13: 464 | E13: 464
A14: Ruházati költségtérítés | B14: K1108
A15: Közlekedési költségtérítés | B15: K1109 | C15: 0 | D15: 8 | E15: 8
A16: Egyéb költségtérítések | B16: K1110
A17: Lakhatási támogatások | B17: K1111
A18: Szociális támogatások | B18: K1112
A19: Foglalkoztatottak egyéb személyi juttatásai | B19: K1113
A20: Foglalkoztatottak személyi juttatásai | B20: K11 | C20: 3956 | D20: 4718 | E20: 4396
A21: Választott tisztségviselők juttatásai | B21: K121 | C21: 4333 | D21: 4333 | E21: 4281
A22: Munkavégzésre irányuló egyéb jogviszonyban nem saját foglalkoztatottnak fizetett juttatások | B22: K122 | C22: 0 | D22: 155 | E22: 153
A23: Egyéb külső személyi juttatások | B23: K123 | C23: 305 | D23: 669 | E23: 669
A24: Külső személyi juttatások | B24: K12 | C24: 4638 | D24: 5157 | E24: 5103
A25: Személyi juttatások | B25: K1 | C25: 8594 | D25: 9875 | E25: 9499
A26: Munkaadókat terhelő járulékok és szociális hozzájárulási adó | B26: K2 | C26: 1904 | D26: 2198 | E26: 2198
A27: Szakmai anyagok beszerzése | B27: K311
A28: Üzemeltetési anyagok beszerzése | B28: K312 | C28: 1484 | D28: 1484 | E28: 1477
A29: Árubeszerzés | B29: K313
A30: Készletbeszerzés | B30: K31 | C30: 1484 | D30: 1484 | E30: 1477
A31: Informatikai szolgáltatások igénybevétele | B31: K321 | C31: 106 | D31: 106 | E31: 50
A32: Egyéb kommunikációs szolgáltatások | B32: K322 | C32: 225 | D32: 398 | E32: 238
A33: Kommunikációs szolgáltatások | B33: K32 | C33: 331 | D33: 504 | E33: 288
A34: Közüzemi díjak | B34: K331 | C34: 3342 | D34: 4900 | E34: 3533
A35: Vásárolt élelmezés | B35: K332 | C35: 3936 | D35: 4151 | E35: 3399
A36: Bérleti és lízing díjak | B36: K333
A37: Karbantartási, kisjavítási szolgáltatások | B37: K334 | C37: 83 | D37: 83 | E37: 7
A38: Közvetített szolgáltatások | B38: K335 | C38: 603 | D38: 631 | E38: 631
A39: Szakmai tevékenységet segítő szolgáltatások | B39: K336 | C39: 500 | D39: 500 | E39: 239
A40: Egyéb szolgáltatások | B40: K337 | C40: 3490 | D40: 5899 | E40: 5624
A41: Szolgáltatási kiadások | B41: K33 | C41: 11954 | D41: 16164 | E41: 13434
A42: Kiküldetések kiadásai | B42: K341
A43: Reklám- és propagandakiadások | B43: K342 | C43: 268 | D43: 268 | E43: 47
A44: Kiküldetések, reklám- és propagandakiadások | B44: K34 | C44: 268 | D44: 268 | E44: 47
A45: Működési célú előzetesen felszámított általános forgalmi adó | B45: K351 | C45: 2862 | D45: 3515 | E45: 3211
A46: Fizetendő általános forgalmi adó | B46: K352
A47: Kamatkiadások | B47: K353
A48: Egyéb pénzügyi műveletek kiadásai | B48: K354
A49: Egyéb dologi kiadások | B49: K355 | C49: 10 | D49: 140 | E49: 139
A50: Különféle befizetések és egyéb dologi kiadások | B50: K35 | C50: 2872 | D50: 3655 | E50: 3350
A51: Dologi kiadások | B51: K3 | C51: 16909 | D51: 22076 | E51: 18595
A52: Társadalombiztosítási ellátások | B52: K41
A53: Családi támogatások | B53: K42 | C53: 168 | D53: 168 | E53: 62
A54: Pénzbeli kárpótlások, kártérítések | B54: K43
A55: Betegséggel kapcsolatos (nem társadalombiztosítási) ellátások | B55: K44
A56: Foglalkoztatással, munkanélküliséggel kapcsolatos ellátások | B56: K45
A57: Lakhatással kapcsolatos ellátások | B57: K46
A58: Intézményi ellátottak pénzbeli juttatásai | B58: K47 | C58: 380 | D58: 380 | E58: 100
A59: Egyéb nem intézményi ellátások | B59: K48 | C59: 4933 | D59: 4933 | E59: 3799
A60: Ellátottak pénzbeli juttatásai | B60: K4 | C60: 5481 | D60: 5481 | E60: 3961
A61: Nemzetközi kötelezettségek | B61: K501
A62: Elvonások és befizetések | B62: K502 | C62: 0 | D62: 934 | E62: 933
A63: Működési célú garancia- és kezességvállalásból származó kifizetés államháztartáson belülre | B63: K503
A64: Működési célú visszatérítendő támogatások, kölcsönök nyújtása államháztartáson belülre | B64: K504
A65: Működési célú visszatérítendő támogatások, kölcsönök törlesztése államháztartáson belülre | B65: K505
A66: Egyéb működési célú támogatások államháztartáson belülre | B66: K506 | C66: 721 | D66: 1719 | E66: 1719
A67: Működési célú garancia- és kezességvállalásból származó kifizetés államháztartáson kívülre | B67: K507
A68: Működési célú visszatérítendő támogatások, kölcsönök nyújtása államháztartáson kívülre | B68: K508 | C68: 0 | D68: 250 | E68: 250
A69: Árkiegészítések, ártámogatások | B69: K509
A70: Kamattámogatások | B70: K510
A71: Egyéb működési célú támogatások államháztartáson kívülre | B71: K511 | C71: 105 | D71: 2138 | E71: 2138
A72: Tartalékok-általános | B72: K512 | C72: 13133 | D72: 1718 | E72: 0
A73: Tartalékok-cél | B73: K512
A74: Egyéb működési célú kiadások | B74: K5 | C74: 13959 | D74: 6759 | E74: 5041
A75: Működési költségvetés előirányzat csoport | C75: 46847 | D75: 46389 | E75: 39294
A76: Immateriális javak beszerzése, létesítése | B76: K61
A77: Ingatlanok beszerzése, létesítése | B77: K62
A78: Informatikai eszközök beszerzése, létesítése | B78: K63
A79: Egyéb tárgyi eszközök beszerzése, létesítése | B79: K64 | C79: 579 | D79: 579 | E79: 212
A80: Részesedések beszerzése | B80: K65
A81: Meglévő részesedések növeléséhez kapcsolódó kiadások | B81: K66
A82: Beruházási célú előzetesen felszámított általános forgalmi adó | B82: K67 | C82: 266 | D82: 266 | E82: 57
A83: Beruházások | B83: K6 | C83: 845 | D83: 845 | E83: 269
A84: Ingatlanok felújítása | B84: K71 | C84: 0 | D84: 2233 | E84: 2233
A85: Informatikai eszközök felújítása | B85: K72
A86: Egyéb tárgyi eszközök felújítása | B86: K73
A87: Felújítási célú előzetesen felszámított általános forgalmi adó | B87: K74 | C87: 0 | D87: 603 | E87: 603
A88: Felújítások | B88: K7 | C88: 0 | D88: 2836 | E88: 2836
A89: Felhalmozási célú garancia- és kezességvállalásból származó kifizetés államháztartáson belülre | B89: K81
A90: Felhalmozási célú visszatérítendő támogatások, kölcsönök nyújtása államháztartáson belülre | B90: K82
A91: Felhalmozási célú visszatérítendő támogatások, kölcsönök törlesztése államháztartáson belülre | B91: K83
A92: Egyéb felhalmozási célú támogatások államháztartáson belülre | B92: K84
A93: Felhalmozási célú garancia- és kezességvállalásból származó kifizetés államháztartáson kívülre | B93: K85
A94: Felhalmozási célú visszatérítendő támogatások, kölcsönök nyújtása államháztartáson kívülre | B94: K86
A95: Lakástámogatás | B95: K87
A96: Egyéb felhalmozási célú támogatások államháztartáson kívülre | B96: K88
A97: Egyéb felhalmozási célú kiadások | B97: K8
A98: Felhalmozási költségvetés előirányzat csoport | C98: 845 | D98: 3681 | E98: 3105
A99: Költségvetési kiadások | B99: K1-K8 | C99: 47692 | D99: 50070 | E99: 42399
A100: Hosszú lejáratú hitelek, kölcsönök törlesztése | B100: K9111
A101: Likviditási célú hitelek, kölcsönök törlesztése pénzügyi vállalkozásnak | B101: K9112
...

Sheet 4B. melléklet
A1: 4B. melléklet a 5/2018.(V.29) önkormányzati rendelethez
A2: Sorokpolány Község Önkormányzat 2017. évi zárszámadása
A3: Kiadások (E Ft)
A5: Sorokpolányi Bóbita Óvoda
A6: Rovat megnevezése | B6: Rovat-szám | C6: eredeti ei. | D6: módosított ei. | E6: teljesítés
A7: Törvény szerinti illetmények, munkabérek | B7: K1101 | C7: 14330 | D7: 14330 | E7: 12607
A8: Normatív jutalmak | B8: K1102 | C8: 0 | D8: 399 | E8: 399
A9: Céljuttatás, projektprémium | B9: K1103
A10: Készenléti, ügyeleti, helyettesítési díj, túlóra, túlszolgálat | B10: K1104 | C10: 0 | D10: 103 | E10: 103
A11: Végkielégítés | B11: K1105
A12: Jubileumi jutalom | B12: K1106 | C12: 1960 | D12: 2347 | E12: 2347
A13: Béren kívüli juttatások | B13: K1107 | C13: 410 | D13: 419 | E13: 412
A14: Ruházati költségtérítés | B14: K1108
A15: Közlekedési költségtérítés | B15: K1109 | C15: 155 | D15: 343 | E15: 150
A16: Egyéb költségtérítések | B16: K1110
A17: Lakhatási támogatások | B17: K1111
A18: Szociális támogatások | B18: K1112
A19: Foglalkoztatottak egyéb személyi juttatásai | B19: K1113 | C19: 0 | D19: 13 | E19: 13
A20: Foglalkoztatottak személyi juttatásai | B20: K11 | C20: 16855 | D20: 17952 | E20: 16030
A21: Választott tisztségviselők juttatásai | B21: K121
A22: Munkavégzésre irányuló egyéb jogviszonyban nem saját foglalkoztatottnak fizetett juttatások | B22: K122
A23: Egyéb külső személyi juttatások | B23: K123
A24: Külső személyi juttatások | B24: K12
A25: Személyi juttatások | B25: K1 | C25: 16855 | D25: 17952 | E25: 16030
A26: Munkaadókat terhelő járulékok és szociális hozzájárulási adó | B26: K2 | C26: 3721 | D26: 3882 | E26: 3882
A27: Szakmai anyagok beszerzése | B27: K311 | C27: 10 | D27: 10 | E27: 8
A28: Üzemeltetési anyagok beszerzése | B28: K312 | C28: 290 | D28: 290 | E28: 111
A29: Árubeszerzés | B29: K313
A30: Készletbeszerzés | B30: K31 | C30: 300 | D30: 300 | E30: 119
A31: Informatikai szolgáltatások igénybevétele | B31: K321
A32: Egyéb kommunikációs szolgáltatások | B32: K322 | C32: 80 | D32: 80 | E32: 14
A33: Kommunikációs szolgáltatások | B33: K32 | C33: 80 | D33: 80 | E33: 14
A34: Közüzemi díjak | B34: K331 | C34: 1200 | D34: 1754 | E34: 892
A35: Vásárolt élelmezés | B35: K332
A36: Bérleti és lízing díjak | B36: K333
A37: Karbantartási, kisjavítási szolgáltatások | B37: K334 | C37: 250 | D37: 200 | E37: 30
A38: Közvetített szolgáltatások | B38: K335
A39: Szakmai tevékenységet segítő szolgáltatások | B39: K336 | C39: 0 | D39: 152 | E39: 152
A40: Egyéb szolgáltatások | B40: K337 | C40: 315 | D40: 293 | E40: 160
A41: Szolgáltatási kiadások | B41: K33 | C41: 1765 | D41: 2400 | E41: 1235
A42: Kiküldetések kiadásai | B42: K341 | C42: 573 | D42: 0 | E42: 0
A43: Reklám- és propagandakiadások | B43: K342
A44: Kiküldetések, reklám- és propagandakiadások | B44: K34 | C44: 573 | D44: 0 | E44: 0
A45: Működési célú előzetesen felszámított általános forgalmi adó | B45: K351 | C45: 0 | D45: 664 | E45: 301
A46: Fizetendő általános forgalmi adó | B46: K352
A47: Kamatkiadások | B47: K353
A48: Egyéb pénzügyi műveletek kiadásai | B48: K354
A49: Egyéb dologi kiadások | B49: K355
A50: Különféle befizetések és egyéb dologi kiadások | B50: K35 | C50: 0 | D50: 664 | E50: 301
A51: Dologi kiadások | B51: K3 | C51: 2718 | D51: 3444 | E51: 1669
A52: Társadalombiztosítási ellátások | B52: K41
A53: Családi támogatások | B53: K42
A54: Pénzbeli kárpótlások, kártérítések | B54: K43
A55: Betegséggel kapcsolatos (nem társadalombiztosítási) ellátások | B55: K44
A56: Foglalkoztatással, munkanélküliséggel kapcsolatos ellátások | B56: K45
A57: Lakhatással kapcsolatos ellátások | B57: K46
A58: Intézményi ellátottak pénzbeli juttatásai | B58: K47
A59: Egyéb nem intézményi ellátások | B59: K48
A60: Ellátottak pénzbeli juttatásai | B60: K4
A61: Nemzetközi kötelezettségek | B61: K501
A62: Elvonások és befizetések | B62: K502
A63: Működési célú garancia- és kezességvállalásból származó kifizetés államháztartáson belülre | B63: K503
... A74: Egyéb működési célú kiadások | B74: K5
A75: Működési költségvetés előirányzat csoport | C75: 23294 | D75: 25278 | E75: 21581
A76: Immateriális javak beszerzése, létesítése | B76: K61
A77: Ingatlanok beszerzése, létesítése | B77: K62
A78: Informatikai eszközök beszerzése, létesítése | B78: K63
A79: Egyéb tárgyi eszközök beszerzése, létesítése | B79: K64 | C79: 0 | D79: 47 | E79: 47
A80: Részesedések beszerzése | B80: K65
A81: Meglévő részesedések növeléséhez kapcsolódó kiadások | B81: K66
A82: Beruházási célú előzetesen felszámított általános forgalmi adó | B82: K67 | C82: 0 | D82: 13 | E82: 13
A83: Beruházások | B83: K6 | C83: 0 | D83: 59 | E83: 59
A84: Ingatlanok felújítása | B84: K71
A85: Informatikai eszközök felújítása | B85: K72
A86: Egyéb tárgyi eszközök felújítása | B86: K73
A87: Felújítási célú előzetesen felszámított általános forgalmi adó | B87: K74
A88: Felújítások | B88: K7
A89: Felhalmozási célú garancia- és kezességvállalásból származó kifizetés államháztartáson belülre | B89: K81
A90: Felhalmozási célú visszatérítendő támogatások, kölcsönök nyújtása államháztartáson belülre | B90: K82
A91: Felhalmozási célú visszatérítendő támogatások, kölcsönök törlesztése államháztartáson belülre | B91: K83
A92: Egyéb felhalmozási célú támogatások államháztartáson belülre | B92: K84
A93: Felhalmozási célú garancia- és kezességvállalásból származó kifizetés államháztartáson kívülre | B93: K85
A94: Felhalmozási célú visszatérítendő támogatások, kölcsönök nyújtása államháztartáson kívülre | B94: K86
A95: Lakástámogatás | B95: K87
... A97: Egyéb felhalmozási célú kiadások | B97: K8
A98: Felhalmozási költségvetés előirányzat csoport | C98: 0 | D98: 59 | E98: 59
A99: Költségvetési kiadások | B99: K1-K8 | C99: 23294 | D99: 25337 | E99: 21640
A100: Hosszú lejáratú hitelek, kölcsönök törlesztése | B100: K9111
A101: Likviditási célú hitelek, kölcsönök törlesztése pénzügyi vállalkozásnak | B101: K9112
A102: Rövid lejáratú hitelek, kölcsönök törlesztése | B102: K9113
A103: Hitel-, kölcsöntörlesztés államháztartáson kívülre | B103: K911
A104: Forgatási célú belföldi értékpapírok vásárlása | B104: K9121
A105: Forgatási célú belföldi értékpapírok beváltása | B105: K9122
A106: Befektetési célú belföldi értékpapírok vásárlása | B106: K9123
A107: Befektetési célú belföldi értékpapírok beváltása | B107: K9124
A108: Belföldi értékpapírok kiadásai | B108: K912
A109: Államháztartáson belüli megelőlegezések folyósítása | B109: K913
A110: Államháztartáson belüli megelőlegezések visszafizetése | B110: K914
A111: Központi, irányító szervi támogatások folyósítása | B111: K915
... A122: Finanszírozási kiadások | B122: K9
...

Sheet 5. melléklet
A1: 5. melléklet a 5/2018.(V.29) önkormányzati rendelethez
A2: Sorokpolány Község Önkormányzat 2017. évi zárszámadása
A3: Kiadások (E Ft)
A5: ÖNKORMÁNYZAT ÉS KÖLTSÉGVETÉSI SZERVEI ELŐIRÁNYZATA MINDÖSSZESEN
A6: Rovat megnevezése | B6: Rovat-szám | C6: kötelező feladatok | F6: önként vállalt feladatok | I6: állami (államigazgatási) feladatok | L6: ÖSSZESEN
C7: eredeti ei. | D7: módosított ei. | E7: teljesítés | F7: eredeti ei. | G7: módosított ei. | H7: teljesítés | I7: eredeti ei. | J7: módosított ei. | K7: teljesítés | L7: eredeti ei. | M7: módosított ei. | N7: teljesítés
A8: Törvény szerinti illetmények, munkabérek | B8: K1101 | C8: 17792 | D8: 18254 | E8: 16531 | L8: 17792 | M8: 18254 | N8: 16531
A9: Normatív jutalmak | B9: K1102 | C9: 0 | D9: 399 | E9: 399 | L9: 0 | M9: 399 | N9: 399
A10: Céljuttatás, projektprémium | B10: K1103
A11: Készenléti, ügyeleti, helyettesítési díj, túlóra, túlszolgálat | B11: K1104 | C11: 0 | D11: 103 | E11: 103 | L11: 0 | M11: 103 | N11: 103
A12: Végkielégítés | B12: K1105
A13: Jubileumi jutalom | B13: K1106 | C13: 2282 | D13: 2669 | E13: 2811 | L13: 2282 | M13: 2669 | N13: 2811
A14: Béren kívüli juttatások | B14: K1107 | C14: 582 | D14: 883 | E14: 876 | L14: 582 | M14: 883 | N14: 876
A15: Ruházati költségtérítés | B15: K1108
A16: Közlekedési költségtérítés | B16: K1109 | C16: 155 | D16: 351 | E16: 158 | L16: 155 | M16: 351 | N16: 158
A17: Egyéb költségtérítések | B17: K1110
A18: Lakhatási támogatások | B18: K1111
A19: Szociális támogatások | B19: K1112
A20: Foglalkoztatottak egyéb személyi juttatásai | B20: K1113 | C20: 0 | D20: 13 | E20: 13 | L20: 0 | M20: 13 | N20: 13
A21: Foglalkoztatottak személyi juttatásai | B21: K11 | C21: 20811 | D21: 22670 | E21: 20426 | L21: 20811 | M21: 22670 | N21: 20426
A22: Választott tisztségviselők juttatásai | B22: K121 | C22: 4333 | D22: 4333 | E22: 4281 | L22: 4333 | M22: 4333 | N22: 4281
A23: Munkavégzésre irányuló egyéb jogviszonyban nem saját foglalkoztatottnak fizetett juttatások | B23: K122 | C23: 0 | D23: 155 | E23: 153 | L23: 0 | M23: 155 | N23: 153
A24: Egyéb külső személyi juttatások | B24: K123 | C24: 305 | D24: 669 | E24: 669 | L24: 305 | M24: 669 | N24: 669
A25: Külső személyi juttatások | B25: K12 | C25: 4638 | D25: 5157 | E25: 5103 | L25: 4638 | M25: 5157 | N25: 5103
A26: Személyi juttatások | B26: K1 | C26: 25449 | D26: 27827 | E26: 25529 | L26: 25449 | M26: 27827 | N26: 25529
A27: Munkaadókat terhelő járulékok és szociális hozzájárulási adó | B27: K2 | C27: 5625 | D27: 6080 | E27: 6080 | L27: 5625 | M27: 6080 | N27: 6080
A28: Szakmai anyagok beszerzése | B28: K311 | C28: 10 | D28: 10 | E28: 8 | L28: 10 | M28: 10 | N28: 8
A29: Üzemeltetési anyagok beszerzése | B29: K312 | C29: 1774 | D29: 1774 | E29: 1588 | L29: 1774 | M29: 1774 | N29: 1588
A30: Árubeszerzés | B30: K313
A31: Készletbeszerzés | B31: K31 | C31: 1784 | D31: 1784 | E31: 1596 | L31: 1784 | M31: 1784 | N31: 1596
A32: Informatikai szolgáltatások igénybevétele | B32: K321 | C32: 106 | D32: 106 | E32: 50 | L32: 106 | M32: 106 | N32: 50
A33: Egyéb kommunikációs szolgáltatások | B33: K322 | C33: 305 | D33: 478 | E33: 252 | L33: 305 | M33: 478 | N33: 252
A34: Kommunikációs szolgáltatások | B34: K32 | C34: 411 | D34: 478 | E34: 302 | L34: 411 | M34: 478 | N34: 302
A35: Közüzemi díjak | B35: K331 | C35: 4542 | D35: 6654 | E35: 4425 | L35: 4542 | M35: 6654 | N35: 4425
A36: Vásárolt élelmezés | B36: K332 | C36: 3936 | D36: 4151 | E36: 3399 | L36: 3936 | M36: 4151 | N36: 3399
A37: Bérleti és lízing díjak | B37: K333
A38: Karbantartási, kisjavítási szolgáltatások | B38: K334 | C38: 333 | D38: 283 | E38: 37 | L38: 333 | M38: 283 | N38: 37
A39: Közvetített szolgáltatások | B39: K335 | C39: 603 | D39: 631 | E39: 631 | L39: 603 | M39: 631 | N39: 631
A40: Szakmai tevékenységet segítő szolgáltatások | B40: K336 | C40: 500 | D40: 652 | E40: 391 | L40: 500 | M40: 652 | N40: 391
A41: Egyéb szolgáltatások | B41: K337 | C41: 3805 | D41: 6192 | E41: 5784 | L41: 3805 | M41: 6192 | N41: 5784
A42: Szolgáltatási kiadások | B42: K33 | C42: 13719 | D42: 18564 | E42: 14669 | L42: 13719 | M42: 18564 | N42: 14669
A43: Kiküldetések kiadásai | B43: K341 | C43: 573 | D43: 0 | E43: 0 | L43: 573 | M43: 0 | N43: 0
A44: Reklám- és propagandakiadások | B44: K342 | C44: 268 | D44: 268 | E44: ='4A. melléklet'!E44+'4B. melléklet'!E44 -> 47 | L44: 268 | M44: 268 | N44: ='4A. melléklet'!N44+'4B. melléklet'!N44 -> 0
A45: Kiküldetések, reklám- és propagandakiadások | B45: K34 | C45: 841 | D45: 268 | E45: 47 | L45: 841 | M45: 268 | N45: 47
A46: Működési célú előzetesen felszámított általános forgalmi adó | B46: K351 | C46: 2862 | D46: 4179 | E46: 3512 | L46: 2862 | M46: 4179 | N46: 3512
A47: Fizetendő általános forgalmi adó | B47: K352
A48: Kamatkiadások | B48: K353
A49: Egyéb pénzügyi műveletek kiadásai | B49: K354
A50: Egyéb dologi kiadások | B50: K355 | C50: 10 | D50: 140 | E50: 139 | L50: 10 | M50: 140 | N50: 139
A51: Különféle befizetések és egyéb dologi kiadások | B51: K35 | C51: 2872 | D51: 4319 | E51: 3651 | L51: 2872 | M51: 4319 | N51: 3651
A52: Dologi kiadások | B52: K3 | C52: 19627 | D52: 25520 | E52: 20264 | L52: 19627 | M52: 25520 | N52: 20264
A53: Társadalombiztosítási ellátások | B53: K41
A54: Családi támogatások | B54: K42 | C54: 168 | D54: 168 | E54: 62 | L54: 168 | M54: 168 | N54: 62
A55: Pénzbeli kárpótlások, kártérítések | B55: K43
A56: Betegséggel kapcsolatos (nem társadalombiztosítási) ellátások | B56: K44
A57: Foglalkoztatással, munkanélküliséggel kapcsolatos ellátások | B57: K45
A58: Lakhatással kapcsolatos ellátások | B58: K46
A59: Intézményi ellátottak pénzbeli juttatásai | B59: K47 | C59: 380 | D59: 380 | E59: 100 | L59: 380 | M59: 380 | N59: 100
A60: Egyéb nem intézményi ellátások | B60: K48 | C60: 4933 | D60: 4933 | E60: 3799 | L60: 4933 | M60: 4933 | N60: 3799
A61: Ellátottak pénzbeli juttatásai | B61: K4 | C61: 5481 | D61: 5481 | E61: 3961 | L61: 5481 | M61: 5481 | N61: 3961
A62: Nemzetközi kötelezettségek | B62: K501
A63: Elvonások és befizetések | B63: K502 | C63: 0 | D63: 934 | E63: 933 | L63: 0 | M63: 934 | N63: 933
A64: Működési célú garancia- és kezességvállalásból származó kifizetés államháztartáson belülre | B64: K503
A65: Működési célú visszatérítendő támogatások, kölcsönök nyújtása államháztartáson belülre | B65: K504
A66: Működési célú visszatérítendő támogatások, kölcsönök törlesztése államháztartáson belülre | B66: K505
A67: Egyéb működési célú támogatások államháztartáson belülre | B67: K506 | C67: 721 | D67: 1719 | E67: 1719 | L67: 721 | M67: 1719 | N67: 1719
A68: Működési célú garancia- és kezességvállalásból származó kifizetés államháztartáson kívülre | B68: K507
A69: Működési célú visszatérítendő támogatások, kölcsönök nyújtása államháztartáson kívülre | B69: K508 | C69: 0 | D69: 250 | E69: 250 | L69: 0 | M69: 250 | N69: 250
A70: Árkiegészítések, ártámogatások | B70: K509
A71: Kamattámogatások | B71: K510
A72: Egyéb működési célú támogatások államháztartáson kívülre | B72: K511 | C72: 105 | D72: 2138 | E72: 2138 | L72: 105 | M72: 2138 | N72: 2138
A73: Tartalékok-általános | B73: K512 | C73: 13133 | D73: 1718 | E73: ='4A. melléklet'!E73+'4B. melléklet'!E73 -> 0 | L73: 13133 | M73: 1718 | N73: ='4A. melléklet'!N73+'4B. melléklet'!N73 -> 0
A74: Tartalékok-cél | B74: K512
A75: Egyéb működési célú kiadások | B75: K5 | C75: 13959 | D75: 6759 | E75: 5041 | L75: 13959 | M75: 6759 | N75: 5041
A76: Működési költségvetés előirányzat csoport | C76: 70141 | D76: =D75+D61+D52+D26+D27 -> 71667 | E76: =E75+E61+E52+E26+E27 -> 60875 | L76: 70141 | M76: =M75+M61+M52+M26+M27 -> 71667 | N76: =N75+N61+N52+N26+N27 -> 60875
A77: Immateriális javak beszerzése, létesítése | B77: K61
A78: Ingatlanok beszerzése, létesítése | B78: K62
A79: Informatikai eszközök beszerzése, létesítése | B79: K63
A80: Egyéb tárgyi eszközök beszerzése, létesítése | B80: K64 | C80: 579 | D80: 626 | E80: 259 | L80: 579 | M80: 626 | N80: 259
A81: Részesedések beszerzése | B81: K65
A82: Meglévő részesedések növeléséhez kapcsolódó kiadások | B82: K66
A83: Beruházási célú előzetesen felszámított általános forgalmi adó | B83: K67 | C83: 266 | D83: 279 | E83: 70 | L83: 266 | M83: 279 | N83: 70
A84: Beruházások | B84: K6 | C84: 845 | D84: 904 | E84: 328 | L84: 845 | M84: 904 | N84: 328
A85: Ingatlanok felújítása | B85: K71 | C85: 0 | D85: 2233 | E85: 2233 | L85: 0 | M85: 2233 | N85: 2233
A86: Informatikai eszközök felújítása | B86: K72
A87: Egyéb tárgyi eszközök felújítása | B87: K73
A88: Felújítási célú előzetesen felszámított általános forgalmi adó | B88: K74 | C88: 0 | D88: 603 | E88: 603 | L88: 0 | M88: 603 | N88: 603
A89: Felújítások | B89: K7 | C89: 0 | D89: 2836 | E89: 2836 | L89: 0 | M89: 2836 | N89: 2836
A90: Felhalmozási célú garancia- és kezességvállalásból származó kifizetés államháztartáson belülre | B90: K81
A91: Felhalmozási célú visszatérítendő támogatások, kölcsönök nyújtása államháztartáson belülre | B91: K82
A92: Felhalmozási célú visszatérítendő támogatások, kölcsönök törlesztése államháztartáson belülre | B92: K83
A93: Egyéb felhalmozási célú támogatások államháztartáson belülre | B93: K84
A94: Felhalmozási célú garancia- és kezességvállalásból származó kifizetés államháztartáson kívülre | B94: K85
A95: Felhalmozási célú visszatérítendő támogatások, kölcsönök nyújtása államháztartáson kívülre | B95: K86
A96: Lakástámogatás | B96: K87
A97: Egyéb felhalmozási célú támogatások államháztartáson kívülre | B97: K88
A98: Egyéb felhalmozási célú kiadások | B98: K8
A99: Felhalmozási költségvetés előirányzat csoport | C99: 845 | D99: 3740 | E99: 3164 | L99: 845 | M99: 3740 | N99: 3164
A100: Költségvetési kiadások | B100: K1-K8 | C100: =C26+C27+C52+C61+C75+C84+C89+C98 -> 70986 | D100: =D26+D27+D52+D61+D75+D84+D89+D98 -> 75407 | E100: =E26+E27+E52+E61+E75+E84+E89+E98 -> 64039 | L100: =L26+L27+L52+L61+L75+L84+L89+L98 -> 70986 | M100: =M26+M27+M52+M61+M75+M84+M89+M98 -> 75407 | N100: =N26+N27+N52+N61+N75+N84+N89+N98 -> 64039
A101: Hosszú lejáratú hitelek, kölcsönök törlesztése | B101: K9111
...

Sheet 5A. melléklet
A1: 5A. melléklet a 5/2018.(V.29) önkormányzati rendelethez
A2: Sorokpolány Község Önkormányzat 2017. évi zárszámadása
A3: Kiadások (E Ft)
A5: Sorokpolány Község Önkormányzat
A6: Rovat megnevezése | B6: Rovat-szám | C6: kötelező feladatok | F6: önként vállalt feladatok | I6: állami (államigazgatási) feladatok | L6: ÖSSZESEN
C7: eredeti ei. | D7: módosított ei. | E7: teljesítés | F7: eredeti ei. | G7: módosított ei. | H7: teljesítés | I7: eredeti ei. | J7: módosított ei. | K7: teljesítés | L7: eredeti ei. | M7: módosított ei. | N7: teljesítés
A8: Törvény szerinti illetmények, munkabérek | B8: K1101 | C8: 3462 | D8: 3924 | E8: 3924 | L8: 3462 | M8: 3924 | N8: 3924
A9: Normatív jutalmak | B9: K1102
A10: Céljuttatás, projektprémium | B10: K1103
A11: Készenléti, ügyeleti, helyettesítési díj, túlóra, túlszolgálat | B11: K1104
A12: Végkielégítés | B12: K1105
A13: Jubileumi jutalom | B13: K1106 | C13: 322 | D13: 322 | E13: 0 | L13: 322 | M13: 322 | N13: 0
A14: Béren kívüli juttatások | B14: K1107 | C14: 172 | D14: 464 | E14: 464 | L14: 172 | M14: 464 | N14: 464
A15: Ruházati költségtérítés | B15: K1108
A16: Közlekedési költségtérítés | B16: K1109 | C16: 0 | D16: 8 | E16: 8 | L16: 0 | M16: 8 | N16: 8
A17: Egyéb költségtérítések | B17: K1110
A18: Lakhatási támogatások | B18: K1111
A19: Szociális támogatások | B19: K1112
A20: Foglalkoztatottak egyéb személyi juttatásai | B20: K1113
A21: Foglalkoztatottak személyi juttatásai | B21: K11 | C21: 3956 | D21: 4718 | E21: 4396 | L21: 3956 | M21: 4718 | N21: 4396
A22: Választott tisztségviselők juttatásai | B22: K121 | C22: 4333 | D22: 4333 | E22: 4281 | L22: 4333 | M22: 4333 | N22: 4281
A23: Munkavégzésre irányuló egyéb jogviszonyban nem saját foglalkoztatottnak fizetett juttatások | B23: K122 | C23: 0 | D23: 155 | E23: 153 | L23: 0 | M23: 155 | N23: 153
A24: Egyéb külső személyi juttatások | B24: K123 | C24: 305 | D24: 669 | E24: 669 | L24: 305 | M24: 669 | N24: 669
A25: Külső személyi juttatások | B25: K12 | C25: 4638 | D25: 5157 | E25: 5103 | L25: 4638 | M25: 5157 | N25: 5103
A26: Személyi juttatások | B26: K1 | C26: 8594 | D26: 9875 | E26: 9499 | L26: 8594 | M26: 9875 | N26: 9499
A27: Munkaadókat terhelő járulékok és szociális hozzájárulási adó | B27: K2 | C27: 1904 | D27: 2197 | E27: 2197 | L27: 1904 | M27: 2197 | N27: 2197
A28: Szakmai anyagok beszerzése | B28: K311
A29: Üzemeltetési anyagok beszerzése | B29: K312 | C29: 1484 | D29: 1484 | E29: 1477 | L29: 1484 | M29: 1484 | N29: 1477
A30: Árubeszerzés | B30: K313
A31: Készletbeszerzés | B31: K31 | C31: 1484 | D31: 1484 | E31: 1477 | L31: 1484 | M31: 1484 | N31: 1477
A32: Informatikai szolgáltatások igénybevétele | B32: K321 | C32: 106 | D32: 106 | E32: 50 | L32: 106 | M32: 106 | N32: 50
A33: Egyéb kommunikációs szolgáltatások | B33: K322 | C33: 225 | D33: 398 | E33: 238 | L33: 225 | M33: 398 | N33: 238
A34: Kommunikációs szolgáltatások | B34: K32 | C34: 331 | D34: 504 | E34: 288 | L34: 331 | M34: 504 | N34: 288
A35: Közüzemi díjak | B35: K331 | C35: 3342 | D35: 4900 | E35: 3533 | L35: 3342 | M35: 4900 | N35: 3533
A36: Vásárolt élelmezés | B36: K332 | C36: 3936 | D36: 4151 | E36: 3399 | L36: 3936 | M36: 4151 | N36: 3399
A37: Bérleti és lízing díjak | B37: K333
A38: Karbantartási, kisjavítási szolgáltatások | B38: K334 | C38: 83 | D38: 83 | E38: 7 | L38: 83 | M38: 83 | N38: 7
A39: Közvetített szolgáltatások | B39: K335 | C39: 603 | D39: 631 | E39: 631 | L39: 603 | M39: 631 | N39: 631
A40: Szakmai tevékenységet segítő szolgáltatások | B40: K336 | C40: 500 | D40: 500 | E40: 239 | L40: 500 | M40: 500 | N40: 239
A41: Egyéb szolgáltatások | B41: K337 | C41: 3490 | D41: 5899 | E41: 5624 | L41: 3490 | M41: 5899 | N41: 5624
A42: Szolgáltatási kiadások | B42: K33 | C42: 11954 | D42: 16164 | E42: 13434 | L42: 11954 | M42: 16164 | N42: 13434
A43: Kiküldetések kiadásai | B43: K341
A44: Reklám- és propagandakiadások | B44: K342 | C44: 268 | D44: 268 | E44: 47 | L44: 268 | M44: 268 | N44: 47
A45: Kiküldetések, reklám- és propagandakiadások | B45: K34 | C45: 268 | D45: 268 | E45: 47 | L45: 268 | M45: 268 | N45: 47
A46: Működési célú előzetesen felszámított általános forgalmi adó | B46: K351 | C46: 2862 | D46: 3515 | E46: 3211 | L46: 2862 | M46: 3515 | N46: 3211
A47: Fizetendő általános forgalmi adó | B47: K352
A48: Kamatkiadások | B48: K353
A49: Egyéb pénzügyi műveletek kiadásai | B49: K354
A50: Egyéb dologi kiadások | B50: K355 | C50: 10 | D50: 140 | E50: 139 | L50: 10 | M50: 140 | N50: 139
A51: Különféle befizetések és egyéb dologi kiadások | B51: K35 | C51: 2872 | D51: 3655 | E51: 3350 | L51: 2872 | M51: 3655 | N51: 3350
A52: Dologi kiadások | B52: K3 | C52: 16909 | D52: 22076 | E52: 18595 | L52: 16909 | M52: 22076 | N52: 18595
A53: Társadalombiztosítási ellátások | B53: K41
A54: Családi támogatások | B54: K42 | C54: 168 | D54: 168 | E54: 62 | L54: 168 | M54: 168 | N54: 62
A55: Pénzbeli kárpótlások, kártérítések | B55: K43
A56: Betegséggel kapcsolatos (nem társadalombiztosítási) ellátások | B56: K44
A57: Foglalkoztatással, munkanélküliséggel kapcsolatos ellátások | B57: K45
A58: Lakhatással kapcsolatos ellátások | B58: K46
A59: Intézményi ellátottak pénzbeli juttatásai | B59: K47 | C59: 380 | D59: 380 | E59: 100 | L59: 380 | M59: 380 | N59: 100
A60: Egyéb nem intézményi ellátások | B60: K48 | C60: 4933 | D60: 4933 | E60: 3799 | L60: 4933 | M60: 4933 | N60: 3799
A61: Ellátottak pénzbeli juttatásai | B61: K4 | C61: 5481 | D61: 5481 | E61: 3961 | L61: 5481 | M61: 5481 | N61: 3961
A62: Nemzetközi kötelezettségek | B62: K501
A63: Elvonások és befizetések | B63: K502 | C63: 0 | D63: 934 | E63: 933 | L63: 0 | M63: 934 | N63: 933
A64: Működési célú garancia- és kezességvállalásból származó kifizetés államháztartáson belülre | B64: K503
A65: Működési célú visszatérítendő támogatások, kölcsönök nyújtása államháztartáson belülre | B65: K504
A66: Működési célú visszatérítendő támogatások, kölcsönök törlesztése államháztartáson belülre | B66: K505
A67: Egyéb működési célú támogatások államháztartáson belülre | B67: K506 | C67: 7241 | D67: 1719 | E67: 1719 | L67: 7241 | M67: 1719 | N67: 1719
A68: Működési célú garancia- és kezességvállalásból származó kifizetés államháztartáson kívülre | B68: K507
A69: Működési célú visszatérítendő támogatások, kölcsönök nyújtása államháztartáson kívülre | B69: K508 | C69: 0 | D69: 250 | E69: 250 | L69: 0 | M69: 250 | N69: 250
A70: Árkiegészítések, ártámogatások | B70: K509
A71: Kamattámogatások | B71: K510
A72: Egyéb működési célú támogatások államháztartáson kívülre | B72: K511 | C72: 105 | D72: 2138 | E72: 2138 | L72: 105 | M72: 2138 | N72: 2138
A73: Tartalékok-általános | B73: K512 | C73: 13133 | D73: 1718 | E73: 0 | L73: 13133 | M73: 1718 | N73: 0
A74: Tartalékok-cél | B74: K512
A75: Egyéb működési célú kiadások | B75: K5 | C75: 13959 | D75: =SUM(D62:D74) -> 6759 | E75: =SUM(E62:E74) -> 5040 | L75: 13959 | M75: =SUM(M62:M74) -> 6759 | N75: =SUM(N62:N74) -> 5040
A76: Működési költségvetés előirányzat csoport | C76: 46847 | D76: 46388 | E76: 39292 | L76: 46847 | M76: 46388 | N76: 39292
A77: Immateriális javak beszerzése, létesítése | B77: K61
A78: Ingatlanok beszerzése, létesítése | B78: K62
A79: Informatikai eszközök beszerzése, létesítése | B79: K63
A80: Egyéb tárgyi eszközök beszerzése, létesítése | B80: K64 | C80: 579 | D80: 579 | E80: 212 | L80: 579 | M80: 579 | N80: 212
A81: Részesedések beszerzése | B81: K65
A82: Meglévő részesedések növeléséhez kapcsolódó kiadások | B82: K66
A83: Beruházási célú előzetesen felszámított általános forgalmi adó | B83: K67 | C83: 266 | D83: 266 | E83: 57 | L83: 266 | M83: 266 | N83: 57
A84: Beruházások | B84: K6 | C84: 845 | D84: 845 | E84: 269 | L84: 845 | M84: 845 | N84: 269
A85: Ingatlanok felújítása | B85: K71 | C85: 0 | D85: 2233 | E85: 2233 | L85: 0 | M85: 2233 | N85: 2233
A86: Informatikai eszközök felújítása | B86: K72
A87: Egyéb tárgyi eszközök felújítása | B87: K73
A88: Felújítási célú előzetesen felszámított általános forgalmi adó | B88: K74 | C88: 0 | D88: 603 | E88: 603 | L88: 0 | M88: 603 | N88: 603
A89: Felújítások | B89: K7 | C89: 0 | D89: 2836 | E89: 2836 | L89: 0 | M89: 2836 | N89: 2836
A90: Felhalmozási célú garancia- és kezességvállalásból származó kifizetés államháztartáson belülre | B90: K81
A91: Felhalmozási célú visszatérítendő támogatások, kölcsönök nyújtása államháztartáson belülre | B91: K82
A92: Felhalmozási célú visszatérítendő támogatások, kölcsönök törlesztése államháztartáson belülre | B92: K83
A93: Egyéb felhalmozási célú támogatások államháztartáson belülre | B93: K84
A94: Felhalmozási célú garancia- és kezességvállalásból származó kifizetés államháztartáson kívülre | B94: K85
A95: Felhalmozási célú visszatérítendő támogatások, kölcsönök nyújtása államháztartáson kívülre | B95: K86
A96: Lakástámogatás | B96: K87
A97: Egyéb felhalmozási célú támogatások államháztartáson kívülre | B97: K88
A98: Egyéb felhalmozási célú kiadások | B98: K8
A99: Felhalmozási költségvetés előirányzat csoport | C99: 845 | D99: 3681 | E99: 3105 | L99: 845 | M99: 3681 | N99: 3105
A100: Költségvetési kiadások | B100: K1-K8 | C100: =C26+C27+C52+C61+C75+C84+C89+C98 -> 47692 | D100: =D26+D27+D52+D61+D75+D84+D89+D98 -> 50069 | E100: 42399 | L100: 47692 | M100: 50069 | N100: 42399
A101: Hosszú lejáratú hitelek, kölcsönök törlesztése | B101: K9111
...

Sheet 5B. melléklet
A1: 5B. melléklet a 5/2018.(V.29) önkormányzati rendelethez
A2: Sorokpolány Község Önkormányzat 2017. évi zárszámadása
A3: Kiadások (E Ft)
A5: Sorokpolányi Bóbita Óvoda
A6: Rovat megnevezése | B6: Rovat-szám | C6: kötelező feladatok | F6: önként vállalt feladatok | I6: állami (államigazgatási) feladatok | L6: ÖSSZESEN
C7: eredeti ei. | D7: módosított ei. | E7: teljesítés | F7: eredeti ei. | G7: módosított ei. | H7: teljesítés | I7: eredeti ei. | J7: módosított ei. | K7: teljesítés | L7: eredeti ei. | M7: módosított ei. | N7: teljesítés
A8: Törvény szerinti illetmények, munkabérek | B8: K1101 | C8: 14330 | D8: 14330 | E8: 12607 | L8: 14330 | M8: 14330 | N8: 12607
A9: Normatív jutalmak | B9: K1102 | C9: 0 | D9: 399 | E9: 399 | L9: 0 | M9: 399 | N9: 399
A10: Céljuttatás, projektprémium | B10: K1103
A11: Készenléti, ügyeleti, helyettesítési díj, túlóra, túlszolgálat | B11: K1104 | C11: 0 | D11: 103 | E11: 103 | L11: 0 | M11: 103 | N11: 103
A12: Végkielégítés | B12: K1105
A13: Jubileumi jutalom | B13: K1106 | C13: 1960 | D13: 2347 | E13: 2347 | L13: 1960 | M13: 2347 | N13: 2347
A14: Béren kívüli juttatások | B14: K1107 | C14: 410 | D14: 419 | E14: 412 | L14: 410 | M14: 419 | N14: 412
A15: Ruházati költségtérítés | B15: K1108
A16: Közlekedési költségtérítés | B16: K1109 | C16: 155 | D16: 343 | E16: 150 | L16: 155 | M16: 343 | N16: 150
A17: Egyéb költségtérítések | B17: K1110
A18: Lakhatási támogatások | B18: K1111
A19: Szociális támogatások | B19: K1112
A20: Foglalkoztatottak egyéb személyi juttatásai | B20: K1113 | C20: 0 | D20: 13 | E20: 13 | L20: 0 | M20: 13 | N20: 13
A21: Foglalkoztatottak személyi juttatásai | B21: K11 | C21: 16855 | D21: 17952 | E21: 16030 | L21: 16855 | M21: 17952 | N21: 16030
A22: Választott tisztségviselők juttatásai | B22: K121
A23: Munkavégzésre irányuló egyéb jogviszonyban nem saját foglalkoztatottnak fizetett juttatások | B23: K122
A24: Egyéb külső személyi juttatások | B24: K123
A25: Külső személyi juttatások | B25: K12
A26: Személyi juttatások | B26: K1 | C26: 16855 | D26: 17952 | E26: 16030 | L26: 16855 | M26: 17952 | N26: 16030
A27: Munkaadókat terhelő járulékok és szociális hozzájárulási adó | B27: K2 | C27: 3721 | D27: 3882 | E27: 3882 | L27: 3721 | M27: 3882 | N27: 3882
A28: Szakmai anyagok beszerzése | B28: K311 | C28: 10 | D28: 10 | E28: 8 | L28: 10 | M28: 10 | N28: 8
A29: Üzemeltetési anyagok beszerzése | B29: K312 | C29: 290 | D29: 290 | E29: 111 | L29: 290 | M29: 290 | N29: 111
A30: Árubeszerzés | B30: K313
A31: Készletbeszerzés | B31: K31 | C31: 300 | D31: 300 | E31: 119 | L31: 300 | M31: 300 | N31: 119
A32: Informatikai szolgáltatások igénybevétele | B32: K321
A33: Egyéb kommunikációs szolgáltatások | B33: K322 | C33: 80 | D33: 80 | E33: 14 | L33: 80 | M33: 80 | N33: 14
A34: Kommunikációs szolgáltatások | B34: K32 | C34: 80 | D34: 80 | E34: 14 | L34: 80 | M34: 80 | N34: 14
A35: Közüzemi díjak | B35: K331 | C35: 1200 | D35: 1754 | E35: 892 | L35: 1200 | M35: 1754 | N35: 892
A36: Vásárolt élelmezés | B36: K332
A37: Bérleti és lízing díjak | B37: K333
A38: Karbantartási, kisjavítási szolgáltatások | B38: K334 | C38: 250 | D38: 200 | E38: 30 | L38: 250 | M38: 200 | N38: 30
A39: Közvetített szolgáltatások | B39: K335
A40: Szakmai tevékenységet segítő szolgáltatások | B40: K336 | C40: 0 | D40: 152 | E40: 152 | L40: 0 | M40: 152 | N40: 152
A41: Egyéb szolgáltatások | B41: K337 | C41: 315 | D41: 293 | E41: 160 | L41: 315 | M41: 293 | N41: 160
A42: Szolgáltatási kiadások | B42: K33 | C42: 1765 | D42: 2400 | E42: 1235 | L42: 1765 | M42: 2400 | N42: 1235
A43: Kiküldetések kiadásai | B43: K341 | C43: 573 | D43: 0 | E43: 0 | L43: 573 | M43: 0 | N43: 0
A44: Reklám- és propagandakiadások | B44: K342
A45: Kiküldetések, reklám- és propagandakiadások | B45: K34 | C45: 573 | D45: 0 | E45: 0 | L45: 573 | M45: 0 | N45: 0
A46: Működési célú előzetesen felszámított általános forgalmi adó | B46: K351 | C46: 0 | D46: 664 | E46: 301 | L46: 0 | M46: 664 | N46: 301
A47: Fizetendő általános forgalmi adó | B47: K352
A48: Kamatkiadások | B48: K353
A49: Egyéb pénzügyi műveletek kiadásai | B49: K354
A50: Egyéb dologi kiadások | B50: K355
A51: Különféle befizetések és egyéb dologi kiadások | B51: K35 | C51: 0 | D51: 664 | E51: 301 | L51: 0 | M51: 664 | N51: 301
A52: Dologi kiadások | B52: K3 | C52: 2718 | D52: 3444 | E52: 1669 | L52: 2718 | M52: 3444 | N52: 1669
A53: Társadalombiztosítási ellátások | B53: K41
A54: Családi támogatások | B54: K42
A55: Pénzbeli kárpótlások, kártérítések | B55: K43
A56: Betegséggel kapcsolatos (nem társadalombiztosítási) ellátások | B56: K44
A57: Foglalkoztatással, munkanélküliséggel kapcsolatos ellátások | B57: K45
A58: Lakhatással kapcsolatos ellátások | B58: K46
A59: Intézményi ellátottak pénzbeli juttatásai | B59: K47
A60: Egyéb nem intézményi ellátások | B60: K48
A61: Ellátottak pénzbeli juttatásai | B61: K4
A62: Nemzetközi kötelezettségek | B62: K501
A63: Elvonások és befizetések | B63: K502
A64: Működési célú garancia- és kezességvállalásból származó kifizetés államháztartáson belülre | B64: K503
... A75: Egyéb működési célú kiadások | B75: K5
A76: Működési költségvetés előirányzat csoport | C76: 23294 | D76: 25278 | E76: 21581 | L76: 23294 | M76: 25278 | N76: 21581
A77: Immateriális javak beszerzése, létesítése | B77: K61
A78: Ingatlanok beszerzése, létesítése | B78: K62
A79: Informatikai eszközök beszerzése, létesítése | B79: K63
A80: Egyéb tárgyi eszközök beszerzése, létesítése | B80: K64 | C80: 0 | D80: 47 | E80: 47 | L80: 0 | M80: 47 | N80: 47
A81: Részesedések beszerzése | B81: K65
A82: Meglévő részesedések növeléséhez kapcsolódó kiadások | B82: K66
A83: Beruházási célú előzetesen felszámított általános forgalmi adó | B83: K67 | C83: 0 | D83: 13 | E83: 13 | L83: 0 | M83: 13 | N83: 13
A84: Beruházások | B84: K6 | C84: 0 | D84: 59 | E84: 59 | L84: 0 | M84: 59 | N84: 59
A85: Ingatlanok felújítása | B85: K71
A86: Informatikai eszközök felújítása | B86: K72
A87: Egyéb tárgyi eszközök felújítása | B87: K73
A88: Felújítási célú előzetesen felszámított általános forgalmi adó | B88: K74
A89: Felújítások | B89: K7
A90: Felhalmozási célú garancia- és kezességvállalásból származó kifizetés államháztartáson belülre | B90: K81
A91: Felhalmozási célú visszatérítendő támogatások, kölcsönök nyújtása államháztartáson belülre | B91: K82
A92: Felhalmozási célú visszatérítendő támogatások, kölcsönök törlesztése államháztartáson belülre | B92: K83
A93: Egyéb felhalmozási célú támogatások államháztartáson belülre | B93: K84
A94: Felhalmozási célú garancia- és kezességvállalásból származó kifizetés államháztartáson kívülre | B94: K85
A95: Felhalmozási célú visszatérítendő támogatások, kölcsönök nyújtása államháztartáson kívülre | B95: K86
A96: Lakástámogatás | B96: K87
... A98: Egyéb felhalmozási célú kiadások | B98: K8
A99: Felhalmozási költségvetés előirányzat csoport | C99: 0 | D99: 59 | E99: 59 | L99: 0 | M99: 59 | N99: 59
A100: Költségvetési kiadások | B100: K1-K8 | C100: 23294 | D100: 25337 | E100: 21640 | L100: 23294 | M100: 25337 | N100: 21640
A101: Hosszú lejáratú hitelek, kölcsönök törlesztése | B101: K9111
A102: Likviditási célú hitelek, kölcsönök törlesztése pénzügyi vállalkozásnak | B102: K9112
A103: Rövid lejáratú hitelek, kölcsönök törlesztése | B103: K9113
A104: Hitel-, kölcsöntörlesztés államháztartáson kívülre | B104: K911
A105: Forgatási célú belföldi értékpapírok vásárlása | B105: K9121
A106: Forgatási célú belföldi értékpapírok beváltása | B106: K9122
A107: Befektetési célú belföldi értékpapírok vásárlása | B107: K9123
A108: Befektetési célú belföldi értékpapírok beváltása | B108: K9124
A109: Belföldi értékpapírok kiadásai | B109: K912
A110: Államháztartáson belüli megelőlegezések folyósítása | B110: K913
A111: Államháztartáson belüli megelőlegezések visszafizetése | B111: K914
A112: Központi, irányító szervi támogatások folyósítása | B112: K915
...

Sheet 6. melléklet
A1: 6. melléklet a 5/2018.(V.29) önkormányzati rendelethez
A2: Sorokpolány Község Önkormányzat 2017. évi zárszámadása
A3: Beruházások és felújítások (E Ft)
A5: Megnevezés | B5: Rovat-szám | C5: ÖNKORMÁNYZATI ELŐIRÁNYZATOK | F5: BÓBITA ÓVODA | I5: MINDÖSSZESEN
C6: eredeti ei. | D6: módosított ei. | E6: teljesítés | F6: eredeti ei. | G6: módosított ei. | H6: teljesítés | I6: eredeti ei. | J6: módosított ei. | K6: teljesítés
A7: Immateriális javak beszerzése, létesítése | B7: K61
A10: Ingatlanok beszerzése, létesítése | B10: K62
A13: Informatikai eszközök beszerzése, létesítése | B13: K63
A16: Egyéb tárgyi eszközök beszerzése, létesítése | B16: K64 | C16: 579 | D16: 579 | E16: 216 | F16: 0 | G16: 47 | H16: 47 | I16: =C16+F16 -> 579 | J16: =D16+G16 -> 626 | K16: =E16+H16 -> 263
A19: Részesedések beszerzése | B19: K65
A22: Meglévő részesedések növeléséhez kapcsolódó kiadások | B22: K66
A23: Beruházási célú előzetesen felszámított általános forgalmi adó | B23: K67 | C23: 266 | D23: 266 | E23: 57 | F23: 0 | G23: 13 | H23: 13 | I23: 266 | J23: 279 | K23: 70
A24: Beruházások | B24: K6 | C24: =C10+C13+C16+C23 -> 845 | D24: =D10+D13+D16+D23 -> 845 | E24: 269 | F24: 0 | G24: 59 | H24: 59 | I24: =I10+I13+I16+I23 -> 845 | J24: 904 | K24: 328
A25: Ingatlanok felújítása | B25: K71 | C25: 0 | D25: 2233 | E25: 2233 | I25: 0 | J25: 2233 | K25: 22333
A28: Informatikai eszközök felújítása | B28: K72
A31: Egyéb tárgyi eszközök felújítása | B31: K73
A32: Felújítási célú előzetesen felszámított általános forgalmi adó | B32: K74 | C32: 0 | D32: 603 | E32: 603 | I32: 0 | J32: 603 | K32: 603
A33: Felújítások | B33: K7 | C33: =C25+C32 -> 0 | D33: 2836 | E33: 2836 | I33: 0 | J33: 2836 | K33: 2836

Sheet 7. melléklet
A1: 7. melléklet a 5/2018.(V.29) önkormányzati rendelethez
A2: Sorokpolány Község Önkormányzat 2017. évi zárszámadása
A3: Foglalkoztatottak létszáma (fő)
A5: MEGNEVEZÉS | B5: Költségvetési engedélyezett létszámkeret (álláshely) (fő) ÖNKORMÁNYZAT | C5: Költségvetési engedélyezett létszámkeret (álláshely) (fő) BÓBITA ÓVODA | D5: MINDÖSSZESEN
A6: főjegyző, jegyző, aljegyző, címzetes főjegyző, körjegyző
A7: I. besorolási osztály összesen
A8: II. besorolási osztály összesen
A9: III. besorolási osztály összesen
A10: KÖZTISZTVISELŐK, KORMÁNYTISZTVISELŐK ÖSSZESEN
A11: igazgató (főigazgató), igazgatóhelyettes (főigazgató-helyettes)
A12: főosztályvezető, főosztályvezető-helyettes, osztályvezető, ügykezelő osztályvezető, további vezető
A13: főtanácsos, főmunkatárs, tanácsos, munkatárs
A14: "A", "B" fizetési osztály összesen | C14: 3 | D14: =B14+C14 -> 3
A15: "C", "D" fizetési osztály összesen | C15: 4 | D15: =B15+C15 -> 4
A16: "E"-"J" fizetési osztály összesen
A17: kutató, felsőoktatásban oktató
A18: KÖZALKALMAZOTTAK ÖSSZESEN | C18: 7 | D18: =B18+C18 -> 7
A19: fizikai alkalmazott, a költségvetési szerveknél foglalkoztatott egyéb munkavállaló (fizikai alkalmazott) | B19: 2 | D19: =B19+C19 -> 2
A20: ösztöndíjas foglalkoztatott
A21: közfoglalkoztatott | D21: =B21+C21 -> 0
A22: EGYÉB BÉRRENDSZER ÖSSZESEN | B22: =B19+B21 -> 2 | D22: =B22+C22 -> 2
A23: polgármester, főpolgármester | B23: 1 | D23: =B23+C23 -> 1
A24: helyi önkormányzati képviselő-testület tagja, megyei közgyűlés tagja | B24: 4 | D24: =B24+C24 -> 4
A25: alpolgármester, főpolgármester-helyettes, megyei közgyűlés elnöke, alelnöke | B25: 0 | D25: =B25+C25 -> 0
A26: VÁLASZTOTT TISZTSÉGVISELŐK ÖSSZESEN | B26: =B23+B24+B25 -> 5 | D26: =B26+C26 -> 5
A27: KÖLTSÉGVETÉSI ENGEDÉLYEZETT LÉTSZÁMKERETBE TARTOZÓ FOGLALKOZTATOTTAK LÉTSZÁMA MINDÖSSZESEN | B27: 7 | C27: 7 | D27: =B27+C27 -> 14
A28: prémiumévek programról és a különleges foglalkoztatási állományról szóló 2004. évi CXXII. törvény alapján foglalkoztatott prémiumévesek
A29: prémiumévek programról és a különleges foglalkoztatási állományról szóló 2004. évi CXXII. törvény alapján foglalkoztatott különleges foglalkoztatási állományba helyezettek létszáma
A30: ösztöndíjas foglalkoztatottak (Pftv, illetve Magyar Közigazgatási Ösztöndíjról szóló 228/2011. (X. 28.) Korm. rendelet)
A31: munkaerőpiactól tartósan távol lévő személyek
A32: KÖLTSÉGVETÉSI ENGEDÉLYEZETT LÉTSZÁMKERETBE NEM TARTOZÓ FOGLALKOZTATOTTAK LÉTSZÁMA AZ IDŐSZAK VÉGÉN ÖSSZESEN | B32: 0 | C32: 0 | D32: =B32+C32 -> 0

Sheet 8. melléklet
A1: 8. melléklet a 5/2018.(V.29) önkormányzati rendelethez
A2: Sorokpolány Község Önkormányzat 2017. évi zárszámadása
A3: Általános- és céltartalékok (E Ft)
A5: Rovat megnevezése | B5: Rovat-szám | C5: ÖNKORMÁNYZATI ELŐIRÁNYZATOK | E5: BÓBITA ÓVODA | G5: MINDÖSSZESEN
C6: eredeti ei. | D6: módosított ei. | E6: eredeti ei. | F6: módosított ei. | G6: eredeti ei. | H6: módosított ei.
A11: Általános tartalékok | B11: K513 | C11: 13133 | D11: 1718 | E11: 0 | F11: 0 | G11: =C11 -> 13133 | H11: =D11 -> 1718
A16: Céltartalékok- | B16: K513 | C16: 0 | D16: 0 | E16: 0 | F16: 0 | G16: 0 | H16: 0

Sheet 9. melléklet
A1: 9. melléklet a 5/2018.(V.29) önkormányzati rendelethez
A2: Sorokpolány Község Önkormányzat 2017. évi zárszámadása
A3: A Gst. 3. § (1) bekezdése szerinti adósságot keletkeztető ügyletekből és kezességvállalásokból fennálló kötelezettségek az adósságot keletkeztető ügyletek futamidejének végéig, illetve a kezesség érvényesíthetőségéig, és a Gst. 45. § (1) bekezdés a) pontja felhatalmazása alapján kiadott jogszabályban meghatározottak szerinti saját bevételek (E Ft)
A5: NEMLEGES
A6: Rovat megnevezése | B6: Rovat-szám | C6: adósságot keletkeztető ügylet kezdő időpontja | D6: adósságot keletkeztető ügylet lejárati időpontja | E6: adósságot keletkeztető ügyletekből és kezességvállalásokból fennálló kötelezettségek | F6: saját bevételek 2015. | G6: saját bevételek 2016. | H6: saját bevételek 2017. | I6: saját bevételek 2018.
A7: Hosszú lejáratú hitelek, kölcsönök felvétele | B7: B8111
A8: ebből: pénzügyi vállalkozás | B8: B8111
A9: Likviditási célú hitelek, kölcsönök felvétele pénzügyi vállalkozástól | B9: B8112
A10: Rövid lejáratú hitelek, kölcsönök felvétele | B10: B8113
A11: ebből: pénzügyi vállalkozás | B11: B8113
A12: Hitel-, kölcsönfelvétel államháztartáson kívülről | B12: B811
A13: Forgatási célú belföldi értékpapírok beváltása, értékesítése | B13: B8121
A14: ebből: befektetési jegyek | B14: B8121
A15: Forgatási célú belföldi értékpapírok kibocsátása | B15: B8122
A16: Befektetési célú belföldi értékpapírok beváltása, értékesítése | B16: B8123
A17: ebből: kárpótlási jegyek | B17: B8123
A18: Befektetési célú belföldi értékpapírok kibocsátása | B18: B8124
... A27: Külföldi finanszírozás bevételei | B27: B82
A29: Rovat megnevezése | B29: Rovat-szám | C29: 2016 | D29: 2017 | E29: 2018
A30: 353/2011. (XII. 30.) Korm. Rendelet értelmében az önkormányzat saját bevételének minősül
A31: 1. a helyi adóból származó bevétel, | C31: 10700 | D31: 10700 | E31: 10700
A32: 2. az önkormányzati vagyon és az önkormányzatot megillető vagyoni értékű jog értékesítéséből és hasznosításából származó bevétel, | C32: 500
A33: 3. az osztalék, a koncessziós díj és a hozambevétel,
A34: 4. a tárgyi eszköz és az immateriális jószág, részvény, részesedés, vállalat értékesítéséből vagy privatizációból származó bevétel,
A35: 5. bírság-, pótlék- és díjbevétel, valamint | C35: 30 | D35: 30 | E35: 30
A36: 6. a kezességvállalással kapcsolatos megtérülés.
A37: ÖSSZESEN: | C37: =C31+C32+C35 -> 11230 | D37: =D31+D32+D35 -> 10730 | E37: =E31+E32+E35 -> 10730
A49: a)4 hitel, kölcsön felvétele, átvállalása a folyósítás, átvállalás napjától a végtörlesztés napjáig, és annak aktuális tőketartozása,
A50: b) a számvitelről szóló törvény (a továbbiakban: Szt.) szerinti hitelviszonyt megtestesítő értékpapír forgalomba hozatala a forgalomba hozatal napjától a beváltás napjáig, kamatozó értékpapír esetén annak névértéke, egyéb értékpapír esetén annak vételára,
A51: c) váltó kibocsátása a kibocsátás napjától a beváltás napjáig, és annak a váltóval kiváltott kötelezettséggel megegyező, kamatot nem tartalmazó értéke,
A52: d) az Szt. szerint pénzügyi lízing lízingbevevői félként történő megkötése a lízing futamideje alatt, és a lízingszerződésben kikötött tőkerész hátralévő összege,
A53: e) a visszavásárlási kötelezettség kikötésével megkötött adásvételi szerződés eladói félként történő megkötése – ideértve az Szt. szerinti valódi penziós és óvadéki repóügyleteket is – a visszavásárlásig, és a kikötött visszavásárlási ár,
A54: f) a szerződésben kapott, legalább háromszázhatvanöt nap időtartamú halasztott fizetés, részletfizetés, és a még ki nem fizetett ellenérték,
A55: g)5 hitelintézetek által, származékos műveletek különbözeteként az Államadósság Kezelő Központ Zrt.-nél (a továbbiakban: ÁKK Zrt.) elhelyezett fedezeti betétek, és azok összege.
A57: Stabilitási tv.10. § (3): Az önkormányzat 3. § (1) bekezdése szerinti adósságot keletkeztető ügyletből származó tárgyévi összes fizetési kötelezettsége az adósságot keletkeztető ügylet futamidejének végéig egyik évben sem haladja meg az önkormányzat adott évi saját bevételeinek 50%-át.
A60: Mötv. 106. § (1) E törvény alkalmazásában saját bevétel:
A61: a) a helyi adók;
A62: b) saját tevékenységből, vállalkozásból és az önkormányzati vagyon hasznosításából származó bevétel, nyereség, osztalék, kamat és bérleti díj;
A63: c) átvett pénzeszközök;
... A74: 6. a kezességvállalással kapcsolatos megtérülés.

Sheet 9A. melléklet
A1: 9A. melléklet a 5/2018.(V.29) önkormányzati rendelethez
A2: Sorokpolány Község Önkormányzat 2017. évi zárszámadása
A3: A költségvetési év azon fejlesztései, amelyek megvalósításához a Gst. 3. § (1) bekezdése szerinti adósságot keletkeztető ügylet megkötése vált szükségessé (E Ft)
A5: NEMLEGES
A6: Rovat megnevezése | B6: Rovat-szám | C6: kiadási eredeti előirányzat | D6: kiadási módosított előirányzat | E6: teljesített kiadás | F6: ebből teljesített kiadás fedezete-saját forrás | G6: ebből teljesített kiadás fedezete-adósságot keletkeztető ügylet | H6: adósságot keletkeztető ügylet fajtája | I6: adósságot keletkeztető ügylet fajtája | J6: adósságot keletkeztető ügylet rovatszáma (B8) | K6: adósságot keletkeztető ügylet kezdő időpontja | L6: adósságot keletkeztető ügylet lejárati időpontja | M6: adósságot keletkeztető ügylet- várható visszatérítendő összege (kamattal) leáratig mindösszesen
A7: Immateriális javak beszerzése, létesítése | B7: K61
A10: Ingatlanok beszerzése, létesítése | B10: K62
A14: Egyéb tárgyi eszközök beszerzése, létesítése | B14: K64
A17: Részesedések beszerzése | B17: K65
A20: Meglévő részesedések növeléséhez kapcsolódó kiadások | B20: K66
A21: Beruházási célú előzetesen felszámított általános forgalmi adó | B21: K67
A22: Beruházások | B22: K6
A23: Ingatlanok felújítása | B23: K71
A26: Informatikai eszközök felújítása | B26: K72
A29: Egyéb tárgyi eszközök felújítása | B29: K73
A32: Felújítási célú előzetesen felszámított általános forgalmi adó | B32: K74
A33: Felújítások | B33: K7

Sheet 10. melléklet
A1: 10. melléklet a 5/2018.(V.29) önkormányzati rendelethez
A2: Sorokpolány Község Önkormányzat 2017. évi zárszámadása
A3: A költségvetési hiány külső finanszírozására vagy a költségvetési többlet felhasználására szolgáló finanszírozási bevételek és kiadások működési és felhalmozási cél szerinti tagolásban (E Ft)
A5: Megnevezés | B5: Rovat-szám | C5: eredeti ei. Működési célú | D5: eredeti ei. Felhalmozási célú | E5: módosított ei. Működési célú | F5: módosított ei. Felhalmozási célú | G5: Teljesítés Működési célú | H5: Teljesítés Felhalmozási célú
A6: Hosszú lejáratú hitelek, kölcsönök törlesztése | B6: K9111
A7: ebből: pénzügyi vállalkozás | B7: K9111
A8: ebből: fedezeti ügyletek nettó kiadásai | B8: K9111
A9: Likviditási célú hitelek, kölcsönök törlesztése pénzügyi vállalkozásnak | B9: K9112
A10: Rövid lejáratú hitelek, kölcsönök törlesztése | B10: K9113
A11: ebből: pénzügyi vállalkozás | B11: K9113
A12: ebből: fedezeti ügyletek nettó kiadásai | B12: K9113
A13: Hitel-, kölcsöntörlesztés államháztartáson kívülre | B13: K911
A14: Forgatási célú belföldi értékpapírok vásárlása | B14: K9121
A15: ebből: befektetési jegyek | B15: K9121
A16: ebből: kárpótlási jegyek | B16: K9121
A17: Forgatási célú belföldi értékpapírok beváltása | B17: K9122
... A24: Államháztartáson belüli megelőlegezések folyósítása | B24: K913
A25: Államháztartáson belüli megelőlegezések visszafizetése | B25: K914 | C25: 1218 | D25: 0 | E25: 1217 | F25: 0 | G25: 1218 | H25: 0
A26: Pénzeszközök betétként elhelyezése | B26: K916
A27: Pénzügyi lízing kiadásai | B27: K917
A28: Központi költségvetés sajátos finanszírozási kiadásai | B28: K918
A29: Belföldi finanszírozás kiadásai | B29: K91 | C29: 24512 | D29: 0 | E29: 26517 | F29: 0 | G29: 22837 | H29: 0
A30: Forgatási célú külföldi értékpapírok vásárlása | B30: K921
A31: Befektetési célú külföldi értékpapírok vásárlása | B31: K922
A32: Külföldi értékpapírok beváltása | B32: K923
A33: ebből: fedezeti ügyletek nettó kiadásai | B33: K923
A34: Külföldi hitelek, kölcsönök törlesztése | B34: K924
A35: ebből: nemzetközi fejlesztési szervezetek | B35: K924
A36: ebből: más kormányok | B36: K924
A37: ebből: külföldi pénzintézetek | B37: K924
A38: ebből: fedezeti ügyletek nettó kiadásai | B38: K924
A39: Külföldi finanszírozás kiadásai | B39: K92
A42: Megnevezés | B42: Rovat-szám | C42: eredeti ei. Működési célú | D42: eredeti ei. Felhalmozási célú | E42: módosított ei. Működési célú | F42: módosított ei. Felhalmozási célú | G42: Teljesítés Működési célú | H42: Teljesítés Felhalmozási célú
A43: Hosszú lejáratú hitelek, kölcsönök felvétele | B43: B8111
A44: ebből: pénzügyi vállalkozás | B44: B8111
A45: Likviditási célú hitelek, kölcsönök felvétele pénzügyi vállalkozástól | B45: B8112
A46: Rövid lejáratú hitelek, kölcsönök felvétele | B46: B8113
A47: ebből: pénzügyi vállalkozás | B47: B8113
A48: Hitel-, kölcsönfelvétel államháztartáson kívülről | B48: B811
A49: Forgatási célú belföldi értékpapírok beváltása, értékesítése | B49: B8121
A50: ebből: befektetési jegyek | B50: B8121
A51: Forgatási célú belföldi értékpapírok kibocsátása | B51: B8122
A52: Befektetési célú belföldi értékpapírok beváltása, értékesítése | B52: B8123
A53: ebből: kárpótlási jegyek | B53: B8123
A54: Befektetési célú belföldi értékpapírok kibocsátása | B54: B8124
A55: Belföldi értékpapírok bevételei | B55: B812
A56: Államháztartáson belüli megelőlegezések | B56: B814 | C56: 0 | D56: 0 | E56: 0 | F56: 0 | G56: 1253 | H56: 0
A57: Államháztartáson belüli megelőlegezések törlesztése | B57: B815
A58: Betétek megszüntetése | B58: B817
A59: Központi költségvetés sajátos finanszírozási bevételei | B59: B818
A60: ebből: tulajdonosi kölcsönök visszatérülése | B60: B818
A61: Belföldi finanszírozás bevételei | B61: B81 | C61: 19500 | D61: 0 | E61: 21158 | F61: 0 | G61: 22410 | H61: 0
A62: Forgatási célú külföldi értékpapírok beváltása, értékesítése | B62: B821
A63: Befektetési célú külföldi értékpapírok beváltása, értékesítése | B63: B822
A64: Külföldi értékpapírok kibocsátása | B64: B823
A65: Külföldi hitelek, kölcsönök felvétele | B65: B824
A66: ebből: nemzetközi fejlesztési szervezetek | B66: B824
A67: ebből: más kormányok | B67: B824
A68: ebből: külföldi pénzintézetek | B68: B824
A69: Külföldi finanszírozás bevételei | B69: B82

Sheet 11. melléklet
A1: 11. melléklet a 5/2018.(V.29) önkormányzati rendelethez
A2: Sorokpolány Község Önkormányzat 2017. évi zárszámadása
A3: Támogatások, kölcsönök nyújtása és törlesztése (E Ft)
A5: Megnevezés | B5: Rovat-szám | C5: eredeti ei. | D5: módosított ei. | E5: teljesítés
A6: központi költségvetési szervek részére | B6: K504
A7: központi kezelésű előirányzatok részére | B7: K504
A8: fejezeti kezelésű előirányzatok EU-s programokra és azok hazai társfinanszírozása részére | B8: K504
A9: egyéb fejezeti kezelésű előirányzatok részére | B9: K504
A10: társadalombiztosítás pénzügyi alapjai részére | B10: K504
A11: elkülönített állami pénzalapok részére | B11: K504
A12: helyi önkormányzatok és költségvetési szerveik részére | B12: K504
A13: társulások és költségvetési szerveik részére | B13: K504
A14: nemzetiségi önkormányzatok és költségvetési szerveik részére | B14: K504
A15: térségi fejlesztési tanácsok és költségvetési szerveik részére | B15: K504
A16: Működési célú visszatérítendő támogatások, kölcsönök nyújtása államháztartáson belülre | B16: K504
A17: központi költségvetési szervek részére | B17: K505
... A33: elkülönített állami pénzalapok részére | B33: K506
A34: helyi önkormányzatok és költségvetési szerveik részére | B34: K506 | C34: 0 | D34: 0 | E34: 1675
A35: társulások és költségvetési szerveik részére | B35: K506 | C35: 0 | D35: 0 | E35: 44
A36: nemzetiségi önkormányzatok és költségvetési szerveik részére | B36: K506
A37: térségi fejlesztési tanácsok és költségvetési szerveik részére | B37: K506
A38: Egyéb működési célú támogatások államháztartáson belülre | B38: K506 | C38: 721 | D38: 1719 | E38: 1719
A39: egyházi jogi személyek részére | B39: K508
A40: egyéb civil szervezetek részére | B40: K508
A41: háztartások részére | B41: K508 | C41: 0 | D41: 0 | E41: 250
A42: pénzügyi vállalkozások részére | B42: K508
A43: állami többségi tulajdonú nem pénzügyi vállalkozások részére | B43: K508
A44: önkormányzati többségi tulajdonú nem pénzügyi vállalkozások részére | B44: K508
A45: egyéb vállalkozások részére | B45: K508
A46: Európai Unió részére | B46: K508
A47: kormányok és nemzetközi szervezetek részére | B47: K508
A48: egyéb külföldiek részére | B48: K508
A49: Működési célú visszatérítendő támogatások, kölcsönök nyújtása államháztartáson kívülre | B49: K508 | C49: 0 | D49: 250 | E49: 250
A50: egyházi jogi személyek részére | B50: K512
A51: egyéb civil szervezetek részére | B51: K512 | C51: 0 | D51: 0 | E51: 2028
A52: háztartások részére | B52: K512 | C52: 0 | D52: 0 | E52: 110
A53: pénzügyi vállalkozások részére | B53: K512
A54: állami többségi tulajdonú nem pénzügyi vállalkozások részére | B54: K512
A55: önkormányzati többségi tulajdonú nem pénzügyi vállalkozások részére | B55: K512
A56: egyéb vállalkozások részére | B56: K512
A57: Európai Unió részére | B57: K512
A58: kormányok és nemzetközi szervezetek részére | B58: K512
A59: egyéb külföldiek részére | B59: K512
A60: Egyéb működési célú támogatások államháztartáson kívülre | B60: K512 | C60: 105 | D60: 2138 | E60: 2138
A61: központi költségvetési szervek részére | B61: K82
A62: központi kezelésű előirányzatok részére | B62: K82
A63: fejezeti kezelésű előirányzatok EU-s programokra és azok hazai társfinanszírozása részére | B63: K82
A64: egyéb fejezeti kezelésű előirányzatok részére | B64: K82
A65: társadalombiztosítás pénzügyi alapjai részére | B65: K82
A66: elkülönített állami pénzalapok részére | B66: K82
A67: helyi önkormányzatok és költségvetési szerveik részére | B67: K82
A68: társulások és költségvetési szerveik részére | B68: K82
A69: nemzetiségi önkormányzatok és költségvetési szerveik részére | B69: K82
A70: térségi fejlesztési tanácsok és költségvetési szerveik részére | B70: K82
A71: Felhalmozási célú visszatérítendő támogatások, kölcsönök nyújtása államháztartáson belülre | B71: K82
A72: központi költségvetési szervek részére | B72: K83
... A115: Egyéb felhalmozási célú támogatások államháztartáson kívülre | B115: K88

Sheet 12. melléklet
A1: 12. melléklet a 5/2018.(V.29) önkormányzati rendelethez
A2: Sorokpolány Község Önkormányzat 2017. évi zárszámadása
A3: Lakosságnak juttatott támogatások, szociális, rászorultsági jellegű ellátások (E Ft)
A5: Megnevezés | B5: Rovat-szám | C5: eredeti ei. | D5: módosított ei. | E5: teljesítés
A6: mozgáskorlátozottak közlekedési támogatása | B6: K44
A7: mozgáskorlátozottak szerzési és átalakítási támogatása | B7: K44
A8: megváltozott munkaképességűek illetve egészségkárosodottak keresetkiegészítése | B8: K44
A9: cukorbetegek támogatása | B9: K44
A10: helyi megállapítású ápolási díj [Szoctv. 43/B. §] | B10: K44
A11: helyi megállapítású közgyógyellátás [Szoctv.50.§ (3) bek.] | B11: K44
A12: Betegséggel kapcsolatos (nem társadalombiztosítási) ellátások | B12: K44
A13: foglalkoztatást helyettesítő támogatás [Szoctv. 35. § (1) bek.] | B13: K45
A14: Foglalkoztatással, munkanélküliséggel kapcsolatos ellátások | B14: K45
A15: hozzájárulás a lakossági energiaköltségekhez | B15: K46
A16: lakbértámogatás | B16: K46
A17: lakásfenntartási támogatás [Szoctv. 38. § (1) bek. a) és b) pontok] | B17: K46
... A22: állami gondozottak pénzbeli juttatásai | B22: K47
A23: oktatásban résztvevők pénzbeli juttatásai | B23: K47 | C23: 0 | D23: 0 | E23: 100
A24: Intézményi ellátottak pénzbeli juttatásai | B24: K47 | C24: 380 | D24: 380 | E24: 100
A25: időskorúak járadéka [Szoctv. 32/B. § (1) bek.] | B25: K48
A26: rendszeres szociális segély [Szoctv. 37. § (1) bek. a) - d) pontok] | B26: K48
A27: átmeneti segély [Szoctv. 45.§] | B27: K48
A28: temetési segély [Szoctv. 46.§] | B28: K48
A29: egyéb, az önkormányzat rendeletében megállapított juttatás | B29: K48
A30: természetben nyújtott rendszeres szociális segély [Szoctv. 47.§ (1) bek. a) pont] | B30: K48
A31: átmeneti segély [Szoctv. 47.§ (1) bek. c) pont] | B31: K48
A32: temetési segély [Szoctv. 47.§ (1) bek. d) pont} | B32: K48
A33: köztemetés [Szoctv. 48.§] | B33: K48
A34: rászorultságtól függõ normatív kedvezmények [Gyvt. 151. § (5) bek.] | B34: K48
A35: önkormányzat által saját hatáskörben (nem szociális és gyermekvédelmi előírások alapján) adott pénzügyi ellátás | B35: K48 | C35: 0 | D35: 0 | E35: 3799
A36: önkormányzat által saját hatáskörben (nem szociális és gyermekvédelmi előírások alapján) adott természetbeni ellátás | B36: K48
A37: Egyéb nem intézményi ellátások | B37: K48 | C37: 4933 | D37: 4933 | E37: 3799
A38: Ellátottak pénzbeli juttatásai | B38: K4 | C38: 5481 | D38: 5481 | E38: 3961

Sheet 13. melléklet
A1: 13. melléklet a 5/2018.(V.29) önkormányzati rendelethez
A2: Sorokpolány Község Önkormányzat 2017. évi zárszámadása
A3: Helyi adó és egyéb közhatalmi bevételek (E Ft)
A5: Megnevezés | B5: Rovat-szám | C5: eredeti ei. | D5: módosított ei. | E5: teljesítés
A6: építményadó | B6: B34
A7: épület után fizetett idegenforgalmi adó | B7: B34
A8: magánszemélyek kommunális adója | B8: B34 | C8: 0 | D8: 0 | E8: 1082
A9: telekadó | B9: B34
A10: Vagyoni tipusú adók | B10: B34 | C10: 1191 | D10: 1191 | E10: 1082
A11: Értékesítési és forgalmi adók | B11: B351 | C11: 10000 | D11: 10000 | E11: 9224
A12: ebből: állandó jeleggel végzett iparűzési tevékenység után fizetett helyi iparűzési adó | B12: B351 | C12: 0 | D12: 0 | E12: 9224
A13: ebből: ideiglenes jeleggel végzett tevékenység után fizetett helyi iparűzési adó | B13: B351
A14: Gépjárműadók | B14: B354 | C14: 1875 | D14: 1875 | E14: 1712
A15: ebből: belföldi gépjárművek adójának a központi költségvetést megillető része | B15: B354
A16: ebből: belföldi gépjárművek adójának a helyi önkormányzatot megillető része | B16: B354 | C16: 0 | D16: 0 | E16: 1712
A17: ebből: külföldi gépjárművek adója | B17: B354
A18: ebből: gépjármű túlsúlydíj | B18: B354
A19: Egyéb áruhasználati és szolgáltatási adók | B19: B355 | C19: 180 | D19: 180 | E19: 0
A20: ebből: tartózkodás után fizetett idegenforgalmi adó | B20: B355
A21: ebből: talajterhelési díj | B21: B355 | C21: 100 | D21: 0 | E21: 0
A22: Termékek és szolgáltatások adói | B22: B35 | C22: 12055 | D22: 12055 | E22: 10935
A23: eljárási illetékek | B23: B36
A24: igazgatási szolgáltatási díjak | B24: B36
A25: felügyeleti díjak | B25: B36
A26: ebrendészeti hozzájárulás | B26: B36
A27: környezetvédelmi bírság | B27: B36
A28: természetvédelmi bírság | B28: B36
A29: műemlékvédelmi bírság | B29: B36
A30: építésügyi bírság | B30: B36
A31: szabálysértési pénz- és helyszíni mbírság és a közlekedési szabályszegések után kiszabott közigazgatási bírság helyi önkormányzatot megillető része | B31: B36
A32: talajterhelési díj | B32: B36 | C32: 0 | D32: 0 | E32: 289
A33: egyéb bírság | B33: B36
A34: Egyéb közhatalmi bevételek | B34: B36 | C34: 110 | D34: 110 | E34: 311

Sheet 14A. melléklet
B1: 14/A. melléklet a 5/2018.(V.29) önkormányzati rendelethez
A3: Sorokpolány Község Önkormányzata 2017. évi zárszámadása
A4: A helyi önkormányzat vagyonkimutatása (Ft)
A6: ÖNKORMÁNYZAT
A7: Megnevezés | B7: Forgalom-képtelen törzsvagyon | C7: Nemzetgazdasági szempontból kiemelt jelentőségű törzsvagyon | D7: Korlátozottan forgalomképes vagyon | E7: Üzleti vagyon | F7: Mindösszesen
A8: ESZKÖZÖK | B8: =SUM(B26+B41+B55+B56+B61+B62+B63) -> 78823 | C8: =SUM(C26+C41+C55+C56+C61+C62+C63) -> 0 | D8: =SUM(D26+D41+D55+D56+D61+D62+D63) -> 161703 | E8: =SUM(E26+E41+E55+E56+E61+E62+E63) -> 31078 | F8: =SUM(B8:E8) -> 271604
A9: A/I/1 Vagyoni értékű jogok | F9: =SUM(B9:E9) -> 0
A10: A/I/2 Szellemi termékek | F10: =SUM(B10:E10) -> 0
A11: A/I/3 Immateriális javak értékhelyesbítése | F11: =SUM(B11:E11) -> 0
A12: A/I Immateriális javak | B12: =SUM(B9:B11) -> 0 | C12: =SUM(C9:C11) -> 0 | D12: =SUM(D9:D11) -> 0 | E12: =SUM(E9:E11) -> 0 | F12: =SUM(B12:E12) -> 0
A13: A/II/1 Ingatlanok és a kapcsolódó vagyoni értékű jogok | B13: 78781 | D13: 161431 | E13: 9258 | F13: =SUM(B13:E13) -> 249470
A14: A/II/2 Gépek, berendezések, felszerelések, járművek | B14: 42 | D14: 272 | E14: 923 | F14: =SUM(B14:E14) -> 1237
A15: A/II/3 Tenyészállatok | F15: =SUM(B15:E15) -> 0
A16: A/II/4 Beruházások, felújítások | F16: =SUM(B16:E16) -> 0
A17: A/II/5 Tárgyi eszközök értékhelyesbítése | F17: =SUM(B17:E17) -> 0
A18: A/II Tárgyi eszközök | B18: =SUM(B13:B17) -> 78823 | C18: =SUM(C13:C17) -> 0 | D18: =SUM(D13:D17) -> 161703 | E18: =SUM(E13:E17) -> 10181 | F18: =SUM(B18:E18) -> 250707
A19: A/III/1 Tartós részesedések | B19: 0 | E19: 988 | F19: =SUM(B19:E19) -> 988
A20: A/III/2 Tartós hitelviszonyt megtestesítő értékpapírok | F20: =SUM(B20:E20) -> 0
A21: A/III/3 Befektetett pénzügyi eszközök értékhelyesbítése | F21: =SUM(B21:E21) -> 0
A22: A/III Befektetett pénzügyi eszközök | B22: =SUM(B19:B21) -> 0 | C22: =SUM(C19:C21) -> 0 | D22: =SUM(D19:D21) -> 0 | E22: =SUM(E19:E21) -> 988 | F22: =SUM(B22:E22) -> 988
A23: A/IV/1 Koncesszióba, vagyonkezelésbe adott eszközök | F23: =SUM(B23:E23) -> 0
A24: A/IV/2 Koncesszióba, vagyonkezelésbe adott eszközök értékhelyesbítése | F24: =SUM(B24:E24) -> 0
A25: A/IV Koncesszióba, vagyonkezelésbe adott eszközök | B25: =SUM(B23:B24) -> 0 | C25: =SUM(C23:C24) -> 0 | D25: =SUM(D23:D24) -> 0 | E25: =SUM(E23:E24) -> 0 | F25: =SUM(B25:E25) -> 0
A26: A) NEMZETI VAGYONBA TARTOZÓ BEFEKTETETT ESZKÖZÖK | B26: =SUM(B25,B22,B18,B12) -> 78823 | C26: =SUM(C25,C22,C18,C12) -> 0 | D26: =SUM(D25,D22,D18,D12) -> 161703 | E26: =SUM(E25,E22,E18,E12) -> 11169 | F26: =SUM(B26:E26) -> 251695
A27: B/I/1 Vásárolt készletek | F27: =SUM(B27:E27) -> 0
A28: B/I/2 Átsorolt, követelés fejében átvett készletek | F28: =SUM(B28:E28) -> 0
A29: B/I/3 Egyéb készletek | F29: =SUM(B29:E29) -> 0
A30: B/I/4 Befejezetlen termelés, félkész termékek, késztermékek | F30: =SUM(B30:E30) -> 0
A31: B/I/5 Növendék-, hízó és egyéb állatok | F31: =SUM(B31:E31) -> 0
A32: B/I Készletek | B32: =SUM(B27:B31) -> 0 | C32: =SUM(C27:C31) -> 0 | D32: =SUM(D27:D31) -> 0 | E32: =SUM(E27:E31) -> 0 | F32: =SUM(B32:E32) -> 0
A33: B/II/1 Nem tartós részesedések | F33: =SUM(B33:E33) -> 0
A34: B/II/2 Forgatási célú hitelviszonyt megtestesítő értékpapírok | F34: =SUM(B34:E34) -> 0
A35: B/II/2a - ebből: kárpótlási jegyek | F35: =SUM(B35:E35) -> 0
A36: B/II/2b - ebből: kincstárjegyek | F36: =SUM(B36:E36) -> 0
A37: B/II/2c - ebből: államkötvények | F37: =SUM(B37:E37) -> 0
A38: B/II/2d - ebből: helyi önkormányzatok kötvényei | F38: =SUM(B38:E38) -> 0
A39: B/II/2e - ebből: befektetési jegyek | F39: =SUM(B39:E39) -> 0
A40: B/II Értékpapírok | B40: =SUM(B33:B39) -> 0 | C40: =SUM(C33:C39) -> 0 | D40: =SUM(D33:D39) -> 0 | E40: =SUM(E33:E39) -> 0 | F40: =SUM(B40:E40) -> 0
A41: B) NEMZETI VAGYONBA TARTOZÓ FORGÓESZKÖZÖK | B41: =SUM(B40,B32) -> 0 | C41: =SUM(C40,C32) -> 0 | D41: =SUM(D40,D32) -> 0 | E41: =SUM(E40,E32) -> 0 | F41: =SUM(B41:E41) -> 0
A42: C/I/1. Éven túli lejáratú forint lekötött bankbetétek | F42: =SUM(B42:E42) -> 0
A43: C/I/2. Éven túli lejáratú deviza lekötött bankbetétek | F43: =SUM(B43:E43) -> 0
A44: C/I Hosszú lejáratú betétek | B44: =SUM(B42:B43) -> 0 | C44: =SUM(C42:C43) -> 0 | D44: =SUM(D42:D43) -> 0 | E44: =SUM(E42:E43) -> 0 | F44: =SUM(B44:E44) -> 0
A45: C/II/1. Forintpénztár | E45: 548 | F45: =SUM(B45:E45) -> 548
A46: C/II/2. Valutapénztár | F46: =SUM(B46:E46) -> 0
A47: C/II/3. Betétkönyvek, csekkek, elektronikus pénzeszközök | F47: =SUM(B47:E47) -> 0
A48: C/II Pénztárak, csekkek, betétkönyvek | B48: =SUM(B45:B47) -> 0 | C48: =SUM(C45:C47) -> 0 | D48: =SUM(D45:D47) -> 0 | E48: =SUM(E45:E47) -> 548 | F48: =SUM(B48:E48) -> 548
A49: C/III/1. Kincstáron kívüli forintszámlák | E49: 19361 | F49: =SUM(B49:E49) -> 19361
A50: C/III/2. Kincstárban vezetett forintszámlák | F50: =SUM(B50:E50) -> 0
A51: C/III Forintszámlák | B51: =SUM(B49:B50) -> 0 | C51: =SUM(C49:C50) -> 0 | D51: =SUM(D49:D50) -> 0 | E51: =SUM(E49:E50) -> 19361 | F51: =SUM(B51:E51) -> 19361
A52: C/ IV/1. Kincstáron kívüli devizaszámlák | F52: =SUM(B52:E52) -> 0
A53: C/IV/2. Kincstárban vezetett devizaszámlák | F53: =SUM(B53:E53) -> 0
A54: C/IV Devizaszámlák | B54: =SUM(B52:B53) -> 0 | C54: =SUM(C52:C53) -> 0 | D54: =SUM(D52:D53) -> 0 | E54: =SUM(E52:E53) -> 0 | F54: =SUM(B54:E54) -> 0
A55: C) PÉNZESZKÖZÖK | B55: =SUM(B54,B51,B48,B44) -> 0 | C55: =SUM(C54,C51,C48,C44) -> 0 | D55: =SUM(D54,D51,D48,D44) -> 0 | E55: =SUM(E54,E51,E48,E44) -> 19909 | F55: =SUM(B55:E55) -> 19909
A56: D) " 0"-ra leírt eszközök | F56: =SUM(B56:E56) -> 0
A57: E/I. Használatban lévő kisértékű immateriális javak | F57: =SUM(B57:E57) -> 0
A58: E/II. Használatban lévő tárgyi eszközök | F58: =SUM(B58:E58) -> 0
A59: E/III. Használatban lévő tárgyi eszközök | F59: =SUM(B59:E59) -> 0
A60: E/IV. Használatban lévő készletek | F60: =SUM(B60:E60) -> 0
A61: E) Használatban lévő eszközök | B61: =SUM(B57:B60) -> 0 | C61: =SUM(C57:C60) -> 0 | D61: =SUM(D57:D60) -> 0 | E61: =SUM(E57:E60) -> 0 | F61: =SUM(B61:E61) -> 0
A62: F) 01.-02. számlacsoportban nyilvántartott eszközök | F62: =SUM(B62:E62) -> 0
A63: G) Kulturális javak és régészeti leletek | F63: =SUM(B63:E63) -> 0

Sheet 14B.melléklet
B1: 14/B. melléklet a 5/2018.(V.29)önkormányzati rendelethez
A3: Sorokpolány Község Önkormányzata 2017. évi zárszámadása
A4: A helyi önkormányzat vagyonkimutatása (Ft)
A6: BÓBITA ÓVODA
A7: Megnevezés | B7: Forgalom-képtelen törzsvagyon | C7: Nemzetgazdasági szempontból kiemelt jelentőségű törzsvagyon | D7: Korlátozottan forgalomképes vagyon | E7: Üzleti vagyon | F7: Mindösszesen
A8: ESZKÖZÖK | B8: =SUM(B26+B41+B55+B56+B61+B62+B63) -> 0 | C8: =SUM(C26+C41+C55+C56+C61+C62+C63) -> 0 | D8: =SUM(D26+D41+D55+D56+D61+D62+D63) -> 0 | E8: =SUM(E26+E41+E55+E56+E61+E62+E63) -> 17 | F8: =SUM(B8:E8) -> 17
A9: A/I/1 Vagyoni értékű jogok | F9: =SUM(B9:E9) -> 0
A10: A/I/2 Szellemi termékek | F10: =SUM(B10:E10) -> 0
A11: A/I/3 Immateriális javak értékhelyesbítése | F11: =SUM(B11:E11) -> 0
A12: A/I Immateriális javak | B12: =SUM(B9:B11) -> 0 | C12: =SUM(C9:C11) -> 0 | D12: =SUM(D9:D11) -> 0 | E12: =SUM(E9:E11) -> 0 | F12: =SUM(B12:E12) -> 0
A13: A/II/1 Ingatlanok és a kapcsolódó vagyoni értékű jogok | F13: =SUM(B13:E13) -> 0
A14: A/II/2 Gépek, berendezések, felszerelések, járművek | F14: =SUM(B14:E14) -> 0
A15: A/II/3 Tenyészállatok | F15: =SUM(B15:E15) -> 0
A16: A/II/4 Beruházások, felújítások | F16: =SUM(B16:E16) -> 0
A17: A/II/5 Tárgyi eszközök értékhelyesbítése | F17: =SUM(B17:E17) -> 0
A18: A/II Tárgyi eszközök | B18: =SUM(B13:B17) -> 0 | C18: =SUM(C13:C17) -> 0 | D18: =SUM(D13:D17) -> 0 | E18: =SUM(E13:E17) -> 0 | F18: =SUM(B18:E18) -> 0
A19: A/III/1 Tartós részesedések | B19: 0 | F19: =SUM(B19:E19) -> 0
A20: A/III/2 Tartós hitelviszonyt megtestesítő értékpapírok | F20: =SUM(B20:E20) -> 0
A21: A/III/3 Befektetett pénzügyi eszközök értékhelyesbítése | F21: =SUM(B21:E21) -> 0
A22: A/III Befektetett pénzügyi eszközök | B22: =SUM(B19:B21) -> 0 | C22: =SUM(C19:C21) -> 0 | D22: =SUM(D19:D21) -> 0 | E22: =SUM(E19:E21) -> 0 | F22: =SUM(B22:E22) -> 0
A23: A/IV/1 Koncesszióba, vagyonkezelésbe adott eszközök | F23: =SUM(B23:E23) -> 0
A24: A/IV/2 Koncesszióba, vagyonkezelésbe adott eszközök értékhelyesbítése | F24: =SUM(B24:E24) -> 0
A25: A/IV Koncesszióba, vagyonkezelésbe adott eszközök | B25: =SUM(B23:B24) -> 0 | C25: =SUM(C23:C24) -> 0 | D25: =SUM(D23:D24) -> 0 | E25: =SUM(E23:E24) -> 0 | F25: =SUM(B25:E25) -> 0
A26: A) NEMZETI VAGYONBA TARTOZÓ BEFEKTETETT ESZKÖZÖK | B26: =SUM(B25,B22,B18,B12) -> 0 | C26: =SUM(C25,C22,C18,C12) -> 0 | D26: =SUM(D25,D22,D18,D12) -> 0 | E26: =SUM(E25,E22,E18,E12) -> 0 | F26: =SUM(B26:E26) -> 0
A27: B/I/1 Vásárolt készletek | F27: =SUM(B27:E27) -> 0
A28: B/I/2 Átsorolt, követelés fejében átvett készletek | F28: =SUM(B28:E28) -> 0
A29: B/I/3 Egyéb készletek | F29: =SUM(B29:E29) -> 0
A30: B/I/4 Befejezetlen termelés, félkész termékek, késztermékek | F30: =SUM(B30:E30) -> 0
A31: B/I/5 Növendék-, hízó és egyéb állatok | F31: =SUM(B31:E31) -> 0
A32: B/I Készletek | B32: =SUM(B27:B31) -> 0 | C32: =SUM(C27:C31) -> 0 | D32: =SUM(D27:D31) -> 0 | E32: =SUM(E27:E31) -> 0 | F32: =SUM(B32:E32) -> 0
A33: B/II/1 Nem tartós részesedések | F33: =SUM(B33:E33) -> 0
A34: B/II/2 Forgatási célú hitelviszonyt megtestesítő értékpapírok | F34: =SUM(B34:E34) -> 0
A35: B/II/2a - ebből: kárpótlási jegyek | F35: =SUM(B35:E35) -> 0
A36: B/II/2b - ebből: kincstárjegyek | F36: =SUM(B36:E36) -> 0
A37: B/II/2c - ebből: államkötvények | F37: =SUM(B37:E37) -> 0
A38: B/II/2d - ebből: helyi önkormányzatok kötvényei | F38: =SUM(B38:E38) -> 0
A39: B/II/2e - ebből: befektetési jegyek | F39: =SUM(B39:E39) -> 0
A40: B/II Értékpapírok | B40: =SUM(B33:B39) -> 0 | C40: =SUM(C33:C39) -> 0 | D40: =SUM(D33:D39) -> 0 | E40: =SUM(E33:E39) -> 0 | F40: =SUM(B40:E40) -> 0
A41: B) NEMZETI VAGYONBA TARTOZÓ FORGÓESZKÖZÖK | B41: =SUM(B40,B32) -> 0 | C41: =SUM(C40,C32) -> 0 | D41: =SUM(D40,D32) -> 0 | E41: =SUM(E40,E32) -> 0 | F41: =SUM(B41:E41) -> 0
A42: C/I/1. Éven túli lejáratú forint lekötött bankbetétek | F42: =SUM(B42:E42) -> 0
A43: C/I/2. Éven túli lejáratú deviza lekötött bankbetétek | F43: =SUM(B43:E43) -> 0
A44: C/I Hosszú lejáratú betétek | B44: =SUM(B42:B43) -> 0 | C44: =SUM(C42:C43) -> 0 | D44: =SUM(D42:D43) -> 0 | E44: =SUM(E42:E43) -> 0 | F44: =SUM(B44:E44) -> 0
A45: C/II/1. Forintpénztár | E45: 6 | F45: =SUM(B45:E45) -> 6
A46: C/II/2. Valutapénztár | F46: =SUM(B46:E46) -> 0
A47: C/II/3. Betétkönyvek, csekkek, elektronikus pénzeszközök | F47: =SUM(B47:E47) -> 0
A48: C/II Pénztárak, csekkek, betétkönyvek | B48: =SUM(B45:B47) -> 0 | C48: =SUM(C45:C47) -> 0 | D48: =SUM(D45:D47) -> 0 | E48: =SUM(E45:E47) -> 6 | F48: =SUM(B48:E48) -> 6
A49: C/III/1. Kincstáron kívüli forintszámlák | E49: 11 | F49: =SUM(B49:E49) -> 11
A50: C/III/2. Kincstárban vezetett forintszámlák | F50: =SUM(B50:E50) -> 0
A51: C/III Forintszámlák | B51: =SUM(B49:B50) -> 0 | C51: =SUM(C49:C50) -> 0 | D51: =SUM(D49:D50) -> 0 | E51: =SUM(E49:E50) -> 11 | F51: =SUM(B51:E51) -> 11
A52: C/ IV/1. Kincstáron kívüli devizaszámlák | F52: =SUM(B52:E52) -> 0
A53: C/IV/2. Kincstárban vezetett devizaszámlák | F53: =SUM(B53:E53) -> 0
A54: C/IV Devizaszámlák | B54: =SUM(B52:B53) -> 0 | C54: =SUM(C52:C53) -> 0 | D54: =SUM(D52:D53) -> 0 | E54: =SUM(E52:E53) -> 0 | F54: =SUM(B54:E54) -> 0
A55: C) PÉNZESZKÖZÖK | B55: =SUM(B54,B51,B48,B44) -> 0 | C55: =SUM(C54,C51,C48,C44) -> 0 | D55: =SUM(D54,D51,D48,D44) -> 0 | E55: =SUM(E54,E51,E48,E44) -> 17 | F55: =SUM(B55:E55) -> 17
A56: D) " 0"-ra leírt eszközök | F56: =SUM(B56:E56) -> 0
A57: E/I. Használatban lévő kisértékű immateriális javak | F57: =SUM(B57:E57) -> 0
A58: E/II. Használatban lévő tárgyi eszközök | F58: =SUM(B58:E58) -> 0
A59: E/III. Használatban lévő tárgyi eszközök | F59: =SUM(B59:E59) -> 0
A60: E/IV. Használatban lévő készletek | F60: =SUM(B60:E60) -> 0
A61: E) Használatban lévő eszközök | B61: =SUM(B57:B60) -> 0 | C61: =SUM(C57:C60) -> 0 | D61: =SUM(D57:D60) -> 0 | E61: =SUM(E57:E60) -> 0 | F61: =SUM(B61:E61) -> 0
A62: F) 01.-02. számlacsoportban nyilvántartott eszközök | F62: =SUM(B62:E62) -> 0
A63: G) Kulturális javak és régészeti leletek | F63: =SUM(B63:E63) -> 0

Sheet 15. melléklet
A1: 15. melléklet a 5/2018.(V.29) önkormányzati rendelethez
A2: Sorokpolány Község Önkormányzat 2017. évi zárszámadása
A3: A helyi önkormányzat pénzmaradvány kimutatása (E Ft)
A5: Megnevezés | B5: Önkormányzat | C5: Bóbita Óvoda | D5: Összesen
A6: 01 Alaptevékenység költségvetési bevételei | B6: 61673 | C6: 21640 | D6: =B6+C6 -> 83313
A7: 02 Alaptevékenység költségvetési kiadásai | B7: 42399 | C7: 0 | D7: =B7+C7 -> 42399
A8: I Alaptevékenység költségvetési egyenlege (=01-02) | B8: =B6-B7 -> 19274 | C8: -21640 | D8: =B8+C8 -> -2366
A9: 03 Alaptevékenység finanszírozási bevételei | B9: 22410 | C9: 21657 | D9: =B9+C9 -> 44067
A10: 04 Alaptevékenység finanszírozási kiadásai | B10: 22837 | C10: 0 | D10: =B10+C10 -> 22837
A11: II Alaptevékenység finanszírozási egyenlege (=03-04) | B11: =B9-B10 -> -427 | C11: =C9+C10 -> 21657 | D11: =B11+C11 -> 21230
A12: A) Alaptevékenység maradványa (=±I±II) | B12: =B8+B11 -> 18847 | C12: =C8+C11 -> 17 | D12: =B12+C12 -> 18864
A13: 05 Vállalkozási tevékenység költségvetési bevételei | B13: 0 | C13: 0 | D13: =B13+C13 -> 0
A14: 06 Vállalkozási tevékenység költségvetési kiadásai | B14: 0 | C14: 0 | D14: =B14+C14 -> 0
A15: III Vállalkozási tevékenység költségvetési egyenlege (=05-06) | B15: 0 | C15: 0 | D15: =B15+C15 -> 0
A16: 07 Vállalkozási tevékenység finanszírozási bevételei | B16: 0 | C16: 0 | D16: =B16+C16 -> 0
A17: 08 Vállalkozási tevékenység finanszírozási kiadásai | B17: 0 | C17: 0 | D17: =B17+C17 -> 0
A18: IV Vállalkozási tevékenység finanszírozási egyenlege (=07-08) | B18: 0 | C18: 0 | D18: =B18+C18 -> 0
A19: B) Vállalkozási tevékenység maradványa (=±III±IV) | B19: 0 | C19: 0 | D19: =B19+C19 -> 0
A20: C) Összes maradvány (=A+B) | B20: =B12 -> 18847 | C20: =C12 -> 17 | D20: =B20+C20 -> 18864
A21: D) Alaptevékenység kötelezettségvállalással terhelt maradványa | B21: 0 | C21: 0 | D21: =B21+C21 -> 0
A22: E) Alaptevékenység szabad maradványa (=A-D) | B22: =B20 -> 18847 | C22: =C20 -> 17 | D22: =B22+C22 -> 18864
A23: F) Vállalkozási tevékenységet terhelő befizetési kötelezettség (=B*0,1) | B23: 0 | C23: 0 | D23: =B23+C23 -> 0
A24: G) Vállalkozási tevékenység felhasználható maradványa (=B-F) | B24: 0 | C24: 0 | D24: =B24+C24 -> 0
A25: Ebből irányító szerv által elvonásra kerül | B25: 0 | C25: 0 | D25: =B25+C25 -> 0

Sheet 16A. melléklet
A1: 16/A. melléklet a 5/2018.(V.29) önkormányzati rendelethez
A2: Sorokpolány Község Önkormányzat 2017. évi zárszámadása
A3: A helyi önkormányzat eredménykimutatása (E Ft)
A5: Sorokpolány Község Önkormányzat
A6: Megnevezés | B6: Előző időszak (2016. év) | C6: Módosítások | D6: Tárgyi időszak (2017. év)
A7: 01 Közhatalmi eredményszemléletű bevételek | B7: 19901 | D7: 27116
A8: 02 Eszközök és szolgáltatások értékesítése nettó eredményszemléletű bevételei | B8: 2238 | D8: 2392
A9: 03 Tevékenység egyéb nettó eredményszemléletű bevételei | B9: 0 | D9: 0
A10: I Tevékenység nettó eredményszemléletű bevétele (=01+02+03) (04=01+02+03) | B10: 22139 | D10: 29508
A11: 04 Saját termelésű készletek állományváltozása | B11: 0 | D11: 0
A12: 05 Saját előállítású eszközök aktivált értéke | B12: 0 | D12: 0
A13: II Aktivált saját teljesítmények értéke (=±04+05) (07=±05+06) | B13: 0 | D13: 0
A14: 06 Központi működési célú támogatások eredményszemléletű bevételei | B14: 38327 | D14: 36076
A15: 07 Egyéb működési célú támogatások eredményszemléletű bevételei | B15: 4532 | D15: 2841
A16: 08 Különféle egyéb eredményszemléletű bevételek | B16: 5655 | D16: 11987
A17: III Egyéb eredményszemléletű bevételek (=06+07+08) (11=08+09+10) | B17: 50384 | D17: 50904
A18: 09 Anyagköltség | B18: 1507 | D18: 1477
... A45: XI Rendkívüli ráfordítások | B45: 0 | D45: 0
A46: D) RENDKÍVÜLI EREDMÉNY(=X-XI) (40=38-39) | B46: 0 | D46: =D44-D45 -> 0
A47: E) MÉRLEG SZERINTI EREDMÉNY (=±C±D) (41=±35±40) | B47: 0 | D47: 0

Sheet 16B.melléklet
A1: 16/B. melléklet a 5/2018.(V.29) önkormányzati rendelethez
A2: Sorokpolány Község Önkormányzat 2017. évi zárszámadása
A3: A helyi önkormányzat eredménykimutatása (E Ft)
A5: Bóbita Óvoda
A6: Megnevezés | B6: Előző időszak (2016. év) | C6: Módosítások | D6: Tárgyi időszak (2017. év)
A7: 01 Közhatalmi eredményszemléletű bevételek | B7: 0 | D7: 0
A8: 02 Eszközök és szolgáltatások értékesítése nettó eredményszemléletű bevételei | B8: 0 | D8: 0
A9: 03 Tevékenység egyéb nettó eredményszemléletű bevételei | B9: 0 | D9: 0
A10: I Tevékenység nettó eredményszemléletű bevétele (=01+02+03) (04=01+02+03) | B10: 0 | D10: 0
A11: 04 Saját termelésű készletek állományváltozása | B11: 0 | D11: 0
A12: 05 Saját előállítású eszközök aktivált értéke | B12: 0 | D12: 0
A13: II Aktivált saját teljesítmények értéke (=±04+05) (07=±05+06) | B13: 0 | D13: 0
A14: 06 Központi működési célú támogatások eredményszemléletű bevételei | B14: 18876 | D14: 21620
A15: 07 Egyéb működési célú támogatások eredményszemléletű bevételei | B15: 0 | D15: 0
A16: 08 Különféle egyéb eredményszemléletű bevételek | B16: 0 | D16: 0
A17: III Egyéb eredményszemléletű bevételek (=06+07+08) (11=08+09+10) | B17: 18876 | D17: 21620
A18: 09 Anyagköltség | B18: 164 | D18: 131
... A40: B) PÉNZÜGYI MŰVELETEK EREDMÉNYE (=VIII-IX) (34=28-33) | B40: 2 | D40: 0
A41: C) SZOKÁSOS EREDMÉNY (=±A±B) (35=±23±34) | B41: -1656 | D41: =D29 -> 518
A42: 22 Felhalmozási célú támogatások eredményszemléletű bevételei | B42: 0 | D42: 0
A43: 23 Különféle rendkívüli eredményszemléletű bevételek | B43: 0 | D43: 0
A44: X Rendkívüli eredményszemléletű bevételek (=22+23) (=36+37) | B44: 0 | D44: 0
A45: XI Rendkívüli ráfordítások | B45: 0 | D45: 0
A46: D) RENDKÍVÜLI EREDMÉNY(=X-XI) (40=38-39) | B46: 0 | D46: 0
A47: E) MÉRLEG SZERINTI EREDMÉNY (=±C±D) (41=±35±40) | B47: 0 | D47: 0

Sheet 17. melléklet
A1: 17. melléklet a 5/2018.(V.29) önkormányzati rendelethez
A2: Sorokpolány Község Önkormányzat 2017. évi zárszámadása
A3: Irányító szervi támogatások folyósítása (E Ft)
A5: Megnevezés | B5: Rovat-szám | C5: Bóbita Óvoda
C6: eredeti ei. | D6: módosított ei. | E6: teljesítés
A7: Központi, irányító szervi támogatások folyósítása működési célra | B7: K915 | C7: 23294 | D7: 25299 | E7: 21620
A8: Központi, irányító szervi támogatások folyósítása felhalmozási célra | B8: K915
A9: ÖSSZESEN: | C9: =C7 -> 23294 | D9: =D7 -> 25299 | E9: =E7 -> 21620

Sheet Munka1
